{"text_format":"1","workbook":"xlsx","n_sheets":14,"sheets":["Settings","data validation","Position Expectations","Draft Sheet","qb data","rb data","wr data","te data","k data","def data","full ppr adp","half ppr adp","standard adp","team abbr lookup"],"not_rendered":{"charts":0,"images":0,"macros":1,"external_links":0,"defined_names":9,"comments":0,"pivot_tables":0},"unopened":[],"bounds":{"document_bytes":16777216,"sheet_cells":100000,"rows_first":2000,"rows_last":500,"rows_between":2000,"halvings":0,"cell_chars":16384,"cell_head_chars":4096},"cells_cut":0,"cells_raw":0,"read":"whole","date_system":"1900"}

{"sheet":"Settings","index":0,"n_rows":30,"n_cols":13,"rows_kept":30,"cut":false,"hidden":false,"merged":[[0,0,1,16],[2,0,10,16],[12,2,12,3],[12,5,12,6],[12,8,12,9],[12,11,12,12],[19,2,19,3]]}
["SportsDataStuff.com Fantasy Football Draft Kit"]
[]
["Directions\n 1. Modify the point values below for your league's settings to adjust the projections for each player.\n2. Modify the number of players at each position to adjust VORP & VOSP\n\nVORP is Value Over Replacement Player and will give you an idea of the value a player has relative to the expected waiver wire player at his position.\nVOSP is Value Over Starting Player and will give you an idea of the value a player has relative to the worst starting quality player for that position.\n\nResults are on the \"Draft Sheet\" tab. The results should auto-sort themselves if you enabled the macros.\nPlayer projections can be modified on the data tabs."]
[]
[]
[]
[]
[]
[]
[]
[]
[]
[null,null,"PASSING",null,null,"RUSHING",null,null,"RECEIVING",null,null,"MISC"]
[null,null,"Stat","Points",null,"Stat","Points",null,"Stat","Points",null,"Stat","Points"]
[null,null,"Yds",0.04,null,"Rushing Yds",0.1,null,"Receiving Yds",0.1,null,"Fumbles",-2]
[null,null,"TDs",4,null,"Rushing TDs",6,null,"Receiving TDs",6]
[null,null,"INT",-2,null,null,null,null,"PPR",1]
[]
[]
[null,null,"POSITIONAL BREAKDOWN",null,null,"Number of Teams"]
[null,null,"Position","# Starting",null,12]
[null,null,"QB",1]
[null,null,"RB",2]
[null,null,"WR",2]
[null,null,"TE",1]
[null,null,"RB/WR/TE",1]
[null,null,"K",1]
[null,null,"QB/RB/WR/TE",0]
[null,null,"DST",1]
[null,null,"BN",7]

{"sheet":"data validation","index":1,"n_rows":4,"n_cols":3,"rows_kept":4,"cut":false,"hidden":true,"merged":[]}
[0,null,8]
[0.5,null,10]
[1,null,12]
[null,null,14]

{"sheet":"Position Expectations","index":2,"n_rows":8,"n_cols":2,"rows_kept":8,"cut":false,"hidden":true,"merged":[]}
["Position"]
["Total Drafted Players",{"$f":"Settings!F21*SUM(Settings!D22:D30)","v":192}]
["QB",{"$f":"ROUND(Settings!F21*(22/14)*Settings!D22+Settings!F21*(20/14)*Settings!D28,0)","v":19}]
["RB",{"$f":"B2-B3-B5-B6-B7-B8","v":66}]
["WR",{"$f":"ROUND((B2-B3-B6-B7-B8)*0.49,0)","v":64}]
["TE",{"$f":"ROUND(Settings!F21*(21/14)*Settings!D25,0)","v":18}]
["K",{"$f":"Settings!F21*Settings!D27","v":12}]
["DST",{"$f":"ROUND(Settings!F21*(15/14)*Settings!D29,0)","v":13}]

{"sheet":"Draft Sheet","index":3,"n_rows":119,"n_cols":34,"rows_kept":119,"cut":false,"hidden":false,"merged":[[0,21,0,26],[0,28,2,33],[35,0,35,5],[3,28,3,33],[0,7,0,12],[0,0,0,5],[0,14,0,19]]}
["QB",null,null,null,null,null,null,"RB",null,null,null,null,null,null,"WR",null,null,null,null,null,null,"TE",null,null,null,null,null,null,"NOTE: ES is the team's early season schedule rank, FS is the full season schedule rank, AB is an estimate of the defense's raw ability."]
["Name","Team","Pts","VORP","VOSP","ADP",null,"Name","Team","Pts","VORP","VOSP","ADP",null,"Name","Team","Pts","VORP","VOSP","ADP",null,"Name","Team","Pts","VORP","VOSP","ADP"]
["Lamar Jackson","BAL",{"$f":"VLOOKUP(A3,'qb data'!G:S,13,FALSE)","v":343.4000527},{"$f":"IFERROR(C3-LARGE($C$3:$C$34,'Position Expectations'!$B$3+1),C3-MIN($C$3:$C$34))","v":78.47759979999995},{"$f":"IFERROR(C3-LARGE($C$3:$C$34,Settings!$F$21*Settings!$D$22),C3-MIN($C$3:$C$34))","v":62.003381499999989},{"$f":"(IFERROR(IF(Settings!$J$17=1,VLOOKUP(_xlfn.CONCAT(B3,A3),'full ppr adp'!$A:$K,11,FALSE),IF(Settings!$J$17=0,VLOOKUP(_xlfn.CONCAT(B3,A3),'standard adp'!$A:$J,10,FALSE),VLOOKUP(_xlfn.CONCAT(B3,A3),'half ppr adp'!$A:$J,10,FALSE))),VLOOKUP(_xlfn.CONCAT(B3,A3),'full ppr adp'!$A:$K,11,FALSE)))","v":21.333333333333332},null,"Christian McCaffrey","CAR",{"$f":"VLOOKUP(_xlfn.CONCAT(I3,H3),'rb data'!A:X,24,FALSE)","v":388.12799180000002},{"$f":"IFERROR(J3-LARGE($J$3:$J$100,'Position Expectations'!$B$4+1),J3-MIN($J$3:$J$100))","v":328.56146699999999},{"$f":"IFERROR(J3-LARGE($J$3:$J$100,Settings!$F$21*Settings!$D$23),J3-MIN($J$3:$J$100))+IF(Settings!$D$26>0,MAX(0,LARGE($J$3:$J$100,Settings!$F$21*Settings!$D$23)-LARGE(($Q$3:$Q$150,$J$3:$J$100),Settings!$F$21*(Settings!$D$23+Settings!$D$24+Settings!$D$26))),0)","v":219.07233029999998},{"$f":"IFERROR((IFERROR(IF(Settings!$J$17=1,VLOOKUP(_xlfn.CONCAT(I3,H3),'full ppr adp'!$A:$K,11,FALSE),IF(Settings!$J$17=0,VLOOKUP(_xlfn.CONCAT(I3,H3),'standard adp'!$A:$J,10,FALSE),VLOOKUP(_xlfn.CONCAT(I3,H3),'half ppr adp'!$A:$J,10,FALSE))),VLOOKUP(_xlfn.CONCAT(I3,H3),'full ppr adp'!$A:$K,11,FALSE))),\"UND\")","v":1},null,"Michael Thomas","NO",{"$f":"VLOOKUP(_xlfn.CONCAT(P3,O3),'wr data'!A:X,24,FALSE)","v":309.17102231399997},{"$f":"IFERROR(Q3-LARGE($Q$3:$Q$150,'Position Expectations'!$B$5+1),Q3-MIN($Q$3:$Q$150))","v":182.61042781399993},{"$f":"IFERROR(Q3-LARGE($Q$3:$Q$150,Settings!$F$21*Settings!$D$24),Q3-MIN($Q$3:$Q$150))+IF(Settings!$D$26>0,MAX(0,LARGE($Q$3:$Q$150,Settings!$F$21*Settings!$D$24)-LARGE(($Q$3:$Q$150,$J$3:$J$100),Settings!$F$21*(Settings!$D$23+Settings!$D$24+Settings!$D$26))),0)","v":137.42274441399996},{"$f":"IFERROR((IFERROR(IF(Settings!$J$17=1,VLOOKUP(_xlfn.CONCAT(P3,O3),'full ppr adp'!$A:$K,11,FALSE),IF(Settings!$J$17=0,VLOOKUP(_xlfn.CONCAT(P3,O3),'standard adp'!$A:$J,10,FALSE),VLOOKUP(_xlfn.CONCAT(P3,O3),'half ppr adp'!$A:$J,10,FALSE))),VLOOKUP(_xlfn.CONCAT(P3,O3),'full ppr adp'!$A:$K,11,FALSE))),\"UND\")","v":4.666666666666667},null,"Travis Kelce","KC",{"$f":"VLOOKUP(_xlfn.CONCAT(W3,V3),'te data'!A:X,24,FALSE)","v":237.14957699999999},{"$f":"IFERROR(X3-LARGE($X$3:$X$75,'Position Expectations'!$B$6+1),X3-MIN($X$3:$X$75))","v":114.55257939999998},{"$f":"IFERROR(X3-LARGE($X$3:$X$75,Settings!$F$21*Settings!$D$25),X3-MIN($X$3:$X$75))+IF(Settings!$D$26>0,MAX(0,LARGE($X$3:$X$75,Settings!$F$21*Settings!$D$25)-LARGE(($Q$3:$Q$150,$J$3:$J$100,$X$3:$X$75),Settings!$F$21*(Settings!$D$23+Settings!$D$24+Settings!$D$26))),0)","v":103.7238255},{"$f":"IFERROR((IFERROR(IF(Settings!$J$17=1,VLOOKUP(_xlfn.CONCAT(W3,V3),'full ppr adp'!$A:$K,11,FALSE),IF(Settings!$J$17=0,VLOOKUP(_xlfn.CONCAT(W3,V3),'standard adp'!$A:$J,10,FALSE),VLOOKUP(_xlfn.CONCAT(W3,V3),'half ppr adp'!$A:$J,10,FALSE))),VLOOKUP(_xlfn.CONCAT(W3,V3),'full ppr adp'!$A:$K,11,FALSE))),\"UND\")","v":18}]
["Patrick Mahomes","KC",{"$f":"VLOOKUP(A4,'qb data'!G:S,13,FALSE)","v":323.691912},{"$f":"IFERROR(C4-LARGE($C$3:$C$34,'Position Expectations'!$B$3+1),C4-MIN($C$3:$C$34))","v":58.769459099999949},{"$f":"IFERROR(C4-LARGE($C$3:$C$34,Settings!$F$21*Settings!$D$22),C4-MIN($C$3:$C$34))","v":42.295240799999988},{"$f":"(IFERROR(IF(Settings!$J$17=1,VLOOKUP(_xlfn.CONCAT(B4,A4),'full ppr adp'!$A:$K,11,FALSE),IF(Settings!$J$17=0,VLOOKUP(_xlfn.CONCAT(B4,A4),'standard adp'!$A:$J,10,FALSE),VLOOKUP(_xlfn.CONCAT(B4,A4),'half ppr adp'!$A:$J,10,FALSE))),VLOOKUP(_xlfn.CONCAT(B4,A4),'full ppr adp'!$A:$K,11,FALSE)))","v":20.666666666666668},null,"Saquon Barkley","NYG",{"$f":"VLOOKUP(_xlfn.CONCAT(I4,H4),'rb data'!A:X,24,FALSE)","v":315.80955880000005},{"$f":"IFERROR(J4-LARGE($J$3:$J$100,'Position Expectations'!$B$4+1),J4-MIN($J$3:$J$100))","v":256.24303400000008},{"$f":"IFERROR(J4-LARGE($J$3:$J$100,Settings!$F$21*Settings!$D$23),J4-MIN($J$3:$J$100))+IF(Settings!$D$26>0,MAX(0,LARGE($J$3:$J$100,Settings!$F$21*Settings!$D$23)-LARGE(($Q$3:$Q$150,$J$3:$J$100),Settings!$F$21*(Settings!$D$23+Settings!$D$24+Settings!$D$26))),0)","v":146.75389730000001},{"$f":"IFERROR((IFERROR(IF(Settings!$J$17=1,VLOOKUP(_xlfn.CONCAT(I4,H4),'full ppr adp'!$A:$K,11,FALSE),IF(Settings!$J$17=0,VLOOKUP(_xlfn.CONCAT(I4,H4),'standard adp'!$A:$J,10,FALSE),VLOOKUP(_xlfn.CONCAT(I4,H4),'half ppr adp'!$A:$J,10,FALSE))),VLOOKUP(_xlfn.CONCAT(I4,H4),'full ppr adp'!$A:$K,11,FALSE))),\"UND\")","v":2},null,"Julio Jones","ATL",{"$f":"VLOOKUP(_xlfn.CONCAT(P4,O4),'wr data'!A:X,24,FALSE)","v":289.08467479999996},{"$f":"IFERROR(Q4-LARGE($Q$3:$Q$150,'Position Expectations'!$B$5+1),Q4-MIN($Q$3:$Q$150))","v":162.52408029999992},{"$f":"IFERROR(Q4-LARGE($Q$3:$Q$150,Settings!$F$21*Settings!$D$24),Q4-MIN($Q$3:$Q$150))+IF(Settings!$D$26>0,MAX(0,LARGE($Q$3:$Q$150,Settings!$F$21*Settings!$D$24)-LARGE(($Q$3:$Q$150,$J$3:$J$100),Settings!$F$21*(Settings!$D$23+Settings!$D$24+Settings!$D$26))),0)","v":117.33639689999995},{"$f":"IFERROR((IFERROR(IF(Settings!$J$17=1,VLOOKUP(_xlfn.CONCAT(P4,O4),'full ppr adp'!$A:$K,11,FALSE),IF(Settings!$J$17=0,VLOOKUP(_xlfn.CONCAT(P4,O4),'standard adp'!$A:$J,10,FALSE),VLOOKUP(_xlfn.CONCAT(P4,O4),'half ppr adp'!$A:$J,10,FALSE))),VLOOKUP(_xlfn.CONCAT(P4,O4),'full ppr adp'!$A:$K,11,FALSE))),\"UND\")","v":16.333333333333332},null,"George Kittle","SF",{"$f":"VLOOKUP(_xlfn.CONCAT(W4,V4),'te data'!A:X,24,FALSE)","v":214.76579996299998},{"$f":"IFERROR(X4-LARGE($X$3:$X$54,'Position Expectations'!$B$6+1),X4-MIN($X$3:$X$54))","v":92.168802362999969},{"$f":"IFERROR(X4-LARGE($X$3:$X$75,Settings!$F$21*Settings!$D$25),X4-MIN($X$3:$X$75))+IF(Settings!$D$26>0,MAX(0,LARGE($X$3:$X$75,Settings!$F$21*Settings!$D$25)-LARGE(($Q$3:$Q$150,$J$3:$J$100,$X$3:$X$75),Settings!$F$21*(Settings!$D$23+Settings!$D$24+Settings!$D$26))),0)","v":81.340048462999988},{"$f":"IFERROR((IFERROR(IF(Settings!$J$17=1,VLOOKUP(_xlfn.CONCAT(W4,V4),'full ppr adp'!$A:$K,11,FALSE),IF(Settings!$J$17=0,VLOOKUP(_xlfn.CONCAT(W4,V4),'standard adp'!$A:$J,10,FALSE),VLOOKUP(_xlfn.CONCAT(W4,V4),'half ppr adp'!$A:$J,10,FALSE))),VLOOKUP(_xlfn.CONCAT(W4,V4),'full ppr adp'!$A:$K,11,FALSE))),\"UND\")","v":22},null,"D/ST"]
["Dak Prescott","DAL",{"$f":"VLOOKUP(A5,'qb data'!G:S,13,FALSE)","v":317.36599649999999},{"$f":"IFERROR(C5-LARGE($C$3:$C$34,'Position Expectations'!$B$3+1),C5-MIN($C$3:$C$34))","v":52.443543599999941},{"$f":"IFERROR(C5-LARGE($C$3:$C$34,Settings!$F$21*Settings!$D$22),C5-MIN($C$3:$C$34))","v":35.96932529999998},{"$f":"(IFERROR(IF(Settings!$J$17=1,VLOOKUP(_xlfn.CONCAT(B5,A5),'full ppr adp'!$A:$K,11,FALSE),IF(Settings!$J$17=0,VLOOKUP(_xlfn.CONCAT(B5,A5),'standard adp'!$A:$J,10,FALSE),VLOOKUP(_xlfn.CONCAT(B5,A5),'half ppr adp'!$A:$J,10,FALSE))),VLOOKUP(_xlfn.CONCAT(B5,A5),'full ppr adp'!$A:$K,11,FALSE)))","v":55.333333333333336},null,"Ezekiel Elliott","DAL",{"$f":"VLOOKUP(_xlfn.CONCAT(I5,H5),'rb data'!A:X,24,FALSE)","v":300.42777156999995},{"$f":"IFERROR(J5-LARGE($J$3:$J$100,'Position Expectations'!$B$4+1),J5-MIN($J$3:$J$100))","v":240.86124676999995},{"$f":"IFERROR(J5-LARGE($J$3:$J$100,Settings!$F$21*Settings!$D$23),J5-MIN($J$3:$J$100))+IF(Settings!$D$26>0,MAX(0,LARGE($J$3:$J$100,Settings!$F$21*Settings!$D$23)-LARGE(($Q$3:$Q$150,$J$3:$J$100),Settings!$F$21*(Settings!$D$23+Settings!$D$24+Settings!$D$26))),0)","v":131.37211006999991},{"$f":"IFERROR((IFERROR(IF(Settings!$J$17=1,VLOOKUP(_xlfn.CONCAT(I5,H5),'full ppr adp'!$A:$K,11,FALSE),IF(Settings!$J$17=0,VLOOKUP(_xlfn.CONCAT(I5,H5),'standard adp'!$A:$J,10,FALSE),VLOOKUP(_xlfn.CONCAT(I5,H5),'half ppr adp'!$A:$J,10,FALSE))),VLOOKUP(_xlfn.CONCAT(I5,H5),'full ppr adp'!$A:$K,11,FALSE))),\"UND\")","v":3.3333333333333335},null,"Davante Adams","GB",{"$f":"VLOOKUP(_xlfn.CONCAT(P5,O5),'wr data'!A:X,24,FALSE)","v":279.73950500000001},{"$f":"IFERROR(Q5-LARGE($Q$3:$Q$150,'Position Expectations'!$B$5+1),Q5-MIN($Q$3:$Q$150))","v":153.17891049999997},{"$f":"IFERROR(Q5-LARGE($Q$3:$Q$150,Settings!$F$21*Settings!$D$24),Q5-MIN($Q$3:$Q$150))+IF(Settings!$D$26>0,MAX(0,LARGE($Q$3:$Q$150,Settings!$F$21*Settings!$D$24)-LARGE(($Q$3:$Q$150,$J$3:$J$100),Settings!$F$21*(Settings!$D$23+Settings!$D$24+Settings!$D$26))),0)","v":107.9912271},{"$f":"IFERROR((IFERROR(IF(Settings!$J$17=1,VLOOKUP(_xlfn.CONCAT(P5,O5),'full ppr adp'!$A:$K,11,FALSE),IF(Settings!$J$17=0,VLOOKUP(_xlfn.CONCAT(P5,O5),'standard adp'!$A:$J,10,FALSE),VLOOKUP(_xlfn.CONCAT(P5,O5),'half ppr adp'!$A:$J,10,FALSE))),VLOOKUP(_xlfn.CONCAT(P5,O5),'full ppr adp'!$A:$K,11,FALSE))),\"UND\")","v":11.333333333333334},null,"Zach Ertz","PHI",{"$f":"VLOOKUP(_xlfn.CONCAT(W5,V5),'te data'!A:X,24,FALSE)","v":190.82270850000003},{"$f":"IFERROR(X5-LARGE($X$3:$X$54,'Position Expectations'!$B$6+1),X5-MIN($X$3:$X$54))","v":68.225710900000024},{"$f":"IFERROR(X5-LARGE($X$3:$X$75,Settings!$F$21*Settings!$D$25),X5-MIN($X$3:$X$75))+IF(Settings!$D$26>0,MAX(0,LARGE($X$3:$X$75,Settings!$F$21*Settings!$D$25)-LARGE(($Q$3:$Q$150,$J$3:$J$100,$X$3:$X$75),Settings!$F$21*(Settings!$D$23+Settings!$D$24+Settings!$D$26))),0)","v":57.396957000000043},{"$f":"IFERROR((IFERROR(IF(Settings!$J$17=1,VLOOKUP(_xlfn.CONCAT(W5,V5),'full ppr adp'!$A:$K,11,FALSE),IF(Settings!$J$17=0,VLOOKUP(_xlfn.CONCAT(W5,V5),'standard adp'!$A:$J,10,FALSE),VLOOKUP(_xlfn.CONCAT(W5,V5),'half ppr adp'!$A:$J,10,FALSE))),VLOOKUP(_xlfn.CONCAT(W5,V5),'full ppr adp'!$A:$K,11,FALSE))),\"UND\")","v":38},null,"Rk","Team","ES","FS","AB","ADP"]
["Russell Wilson","SEA",{"$f":"VLOOKUP(A6,'qb data'!G:S,13,FALSE)","v":316.15828999999997},{"$f":"IFERROR(C6-LARGE($C$3:$C$34,'Position Expectations'!$B$3+1),C6-MIN($C$3:$C$34))","v":51.235837099999912},{"$f":"IFERROR(C6-LARGE($C$3:$C$34,Settings!$F$21*Settings!$D$22),C6-MIN($C$3:$C$34))","v":34.761618799999951},{"$f":"(IFERROR(IF(Settings!$J$17=1,VLOOKUP(_xlfn.CONCAT(B6,A6),'full ppr adp'!$A:$K,11,FALSE),IF(Settings!$J$17=0,VLOOKUP(_xlfn.CONCAT(B6,A6),'standard adp'!$A:$J,10,FALSE),VLOOKUP(_xlfn.CONCAT(B6,A6),'half ppr adp'!$A:$J,10,FALSE))),VLOOKUP(_xlfn.CONCAT(B6,A6),'full ppr adp'!$A:$K,11,FALSE)))","v":58},null,"Alvin Kamara","NO",{"$f":"VLOOKUP(_xlfn.CONCAT(I6,H6),'rb data'!A:X,24,FALSE)","v":293.880418416},{"$f":"IFERROR(J6-LARGE($J$3:$J$100,'Position Expectations'!$B$4+1),J6-MIN($J$3:$J$100))","v":234.313893616},{"$f":"IFERROR(J6-LARGE($J$3:$J$100,Settings!$F$21*Settings!$D$23),J6-MIN($J$3:$J$100))+IF(Settings!$D$26>0,MAX(0,LARGE($J$3:$J$100,Settings!$F$21*Settings!$D$23)-LARGE(($Q$3:$Q$150,$J$3:$J$100),Settings!$F$21*(Settings!$D$23+Settings!$D$24+Settings!$D$26))),0)","v":124.82475691599996},{"$f":"IFERROR((IFERROR(IF(Settings!$J$17=1,VLOOKUP(_xlfn.CONCAT(I6,H6),'full ppr adp'!$A:$K,11,FALSE),IF(Settings!$J$17=0,VLOOKUP(_xlfn.CONCAT(I6,H6),'standard adp'!$A:$J,10,FALSE),VLOOKUP(_xlfn.CONCAT(I6,H6),'half ppr adp'!$A:$J,10,FALSE))),VLOOKUP(_xlfn.CONCAT(I6,H6),'full ppr adp'!$A:$K,11,FALSE))),\"UND\")","v":5.333333333333333},null,"Tyreek Hill","KC",{"$f":"VLOOKUP(_xlfn.CONCAT(P6,O6),'wr data'!A:X,24,FALSE)","v":264.13460040000007},{"$f":"IFERROR(Q6-LARGE($Q$3:$Q$150,'Position Expectations'!$B$5+1),Q6-MIN($Q$3:$Q$150))","v":137.57400590000003},{"$f":"IFERROR(Q6-LARGE($Q$3:$Q$150,Settings!$F$21*Settings!$D$24),Q6-MIN($Q$3:$Q$150))+IF(Settings!$D$26>0,MAX(0,LARGE($Q$3:$Q$150,Settings!$F$21*Settings!$D$24)-LARGE(($Q$3:$Q$150,$J$3:$J$100),Settings!$F$21*(Settings!$D$23+Settings!$D$24+Settings!$D$26))),0)","v":92.386322500000063},{"$f":"IFERROR((IFERROR(IF(Settings!$J$17=1,VLOOKUP(_xlfn.CONCAT(P6,O6),'full ppr adp'!$A:$K,11,FALSE),IF(Settings!$J$17=0,VLOOKUP(_xlfn.CONCAT(P6,O6),'standard adp'!$A:$J,10,FALSE),VLOOKUP(_xlfn.CONCAT(P6,O6),'half ppr adp'!$A:$J,10,FALSE))),VLOOKUP(_xlfn.CONCAT(P6,O6),'full ppr adp'!$A:$K,11,FALSE))),\"UND\")","v":15},null,"Darren Waller","LV",{"$f":"VLOOKUP(_xlfn.CONCAT(W6,V6),'te data'!A:X,24,FALSE)","v":167.79040959999998},{"$f":"IFERROR(X6-LARGE($X$3:$X$54,'Position Expectations'!$B$6+1),X6-MIN($X$3:$X$54))","v":45.193411999999967},{"$f":"IFERROR(X6-LARGE($X$3:$X$75,Settings!$F$21*Settings!$D$25),X6-MIN($X$3:$X$75))+IF(Settings!$D$26>0,MAX(0,LARGE($X$3:$X$75,Settings!$F$21*Settings!$D$25)-LARGE(($Q$3:$Q$150,$J$3:$J$100,$X$3:$X$75),Settings!$F$21*(Settings!$D$23+Settings!$D$24+Settings!$D$26))),0)","v":34.364658099999986},{"$f":"IFERROR((IFERROR(IF(Settings!$J$17=1,VLOOKUP(_xlfn.CONCAT(W6,V6),'full ppr adp'!$A:$K,11,FALSE),IF(Settings!$J$17=0,VLOOKUP(_xlfn.CONCAT(W6,V6),'standard adp'!$A:$J,10,FALSE),VLOOKUP(_xlfn.CONCAT(W6,V6),'half ppr adp'!$A:$J,10,FALSE))),VLOOKUP(_xlfn.CONCAT(W6,V6),'full ppr adp'!$A:$K,11,FALSE))),\"UND\")","v":57},null,{"$f":"VLOOKUP(AD6,'def data'!A:F,6,FALSE)","v":1},"Baltimore Ravens",{"$f":"VLOOKUP($AD6,'def data'!$A:$F,2,FALSE)","v":2},{"$f":"VLOOKUP($AD6,'def data'!$A:$F,3,FALSE)","v":4},{"$f":"VLOOKUP($AD6,'def data'!$A:$F,4,FALSE)","v":3},{"$f":"IFERROR(IF(Settings!$J$17=1,VLOOKUP(AD6,'full ppr adp'!C:K,9,FALSE),IF(Settings!$J$17=0,VLOOKUP(AD6,'standard adp'!C:J,8,FALSE),VLOOKUP(AD6,'half ppr adp'!C:J,8,FALSE))),VLOOKUP(AD6,'full ppr adp'!C:K,9,FALSE))","v":127}]
["Deshaun Watson","HOU",{"$f":"VLOOKUP(A7,'qb data'!G:S,13,FALSE)","v":313.88196140000002},{"$f":"IFERROR(C7-LARGE($C$3:$C$34,'Position Expectations'!$B$3+1),C7-MIN($C$3:$C$34))","v":48.95950849999997},{"$f":"IFERROR(C7-LARGE($C$3:$C$34,Settings!$F$21*Settings!$D$22),C7-MIN($C$3:$C$34))","v":32.485290200000009},{"$f":"(IFERROR(IF(Settings!$J$17=1,VLOOKUP(_xlfn.CONCAT(B7,A7),'full ppr adp'!$A:$K,11,FALSE),IF(Settings!$J$17=0,VLOOKUP(_xlfn.CONCAT(B7,A7),'standard adp'!$A:$J,10,FALSE),VLOOKUP(_xlfn.CONCAT(B7,A7),'half ppr adp'!$A:$J,10,FALSE))),VLOOKUP(_xlfn.CONCAT(B7,A7),'full ppr adp'!$A:$K,11,FALSE)))","v":57.333333333333336},null,"Dalvin Cook","MIN",{"$f":"VLOOKUP(_xlfn.CONCAT(I7,H7),'rb data'!A:X,24,FALSE)","v":287.79389849999995},{"$f":"IFERROR(J7-LARGE($J$3:$J$100,'Position Expectations'!$B$4+1),J7-MIN($J$3:$J$100))","v":228.22737369999996},{"$f":"IFERROR(J7-LARGE($J$3:$J$100,Settings!$F$21*Settings!$D$23),J7-MIN($J$3:$J$100))+IF(Settings!$D$26>0,MAX(0,LARGE($J$3:$J$100,Settings!$F$21*Settings!$D$23)-LARGE(($Q$3:$Q$150,$J$3:$J$100),Settings!$F$21*(Settings!$D$23+Settings!$D$24+Settings!$D$26))),0)","v":118.73823699999991},{"$f":"IFERROR((IFERROR(IF(Settings!$J$17=1,VLOOKUP(_xlfn.CONCAT(I7,H7),'full ppr adp'!$A:$K,11,FALSE),IF(Settings!$J$17=0,VLOOKUP(_xlfn.CONCAT(I7,H7),'standard adp'!$A:$J,10,FALSE),VLOOKUP(_xlfn.CONCAT(I7,H7),'half ppr adp'!$A:$J,10,FALSE))),VLOOKUP(_xlfn.CONCAT(I7,H7),'full ppr adp'!$A:$K,11,FALSE))),\"UND\")","v":4.666666666666667},null,"DeAndre Hopkins","ARI",{"$f":"VLOOKUP(_xlfn.CONCAT(P7,O7),'wr data'!A:X,24,FALSE)","v":255.35833260000001},{"$f":"IFERROR(Q7-LARGE($Q$3:$Q$150,'Position Expectations'!$B$5+1),Q7-MIN($Q$3:$Q$150))","v":128.79773809999998},{"$f":"IFERROR(Q7-LARGE($Q$3:$Q$150,Settings!$F$21*Settings!$D$24),Q7-MIN($Q$3:$Q$150))+IF(Settings!$D$26>0,MAX(0,LARGE($Q$3:$Q$150,Settings!$F$21*Settings!$D$24)-LARGE(($Q$3:$Q$150,$J$3:$J$100),Settings!$F$21*(Settings!$D$23+Settings!$D$24+Settings!$D$26))),0)","v":83.610054700000006},{"$f":"IFERROR((IFERROR(IF(Settings!$J$17=1,VLOOKUP(_xlfn.CONCAT(P7,O7),'full ppr adp'!$A:$K,11,FALSE),IF(Settings!$J$17=0,VLOOKUP(_xlfn.CONCAT(P7,O7),'standard adp'!$A:$J,10,FALSE),VLOOKUP(_xlfn.CONCAT(P7,O7),'half ppr adp'!$A:$J,10,FALSE))),VLOOKUP(_xlfn.CONCAT(P7,O7),'full ppr adp'!$A:$K,11,FALSE))),\"UND\")","v":12},null,"Mark Andrews","BAL",{"$f":"VLOOKUP(_xlfn.CONCAT(W7,V7),'te data'!A:X,24,FALSE)","v":166.71047999999999},{"$f":"IFERROR(X7-LARGE($X$3:$X$54,'Position Expectations'!$B$6+1),X7-MIN($X$3:$X$54))","v":44.113482399999981},{"$f":"IFERROR(X7-LARGE($X$3:$X$75,Settings!$F$21*Settings!$D$25),X7-MIN($X$3:$X$75))+IF(Settings!$D$26>0,MAX(0,LARGE($X$3:$X$75,Settings!$F$21*Settings!$D$25)-LARGE(($Q$3:$Q$150,$J$3:$J$100,$X$3:$X$75),Settings!$F$21*(Settings!$D$23+Settings!$D$24+Settings!$D$26))),0)","v":33.2847285},{"$f":"IFERROR((IFERROR(IF(Settings!$J$17=1,VLOOKUP(_xlfn.CONCAT(W7,V7),'full ppr adp'!$A:$K,11,FALSE),IF(Settings!$J$17=0,VLOOKUP(_xlfn.CONCAT(W7,V7),'standard adp'!$A:$J,10,FALSE),VLOOKUP(_xlfn.CONCAT(W7,V7),'half ppr adp'!$A:$J,10,FALSE))),VLOOKUP(_xlfn.CONCAT(W7,V7),'full ppr adp'!$A:$K,11,FALSE))),\"UND\")","v":43.333333333333336},null,{"$f":"VLOOKUP(AD7,'def data'!A:F,6,FALSE)","v":1},"San Francisco 49ers",{"$f":"VLOOKUP($AD7,'def data'!$A:$F,2,FALSE)","v":5},{"$f":"VLOOKUP($AD7,'def data'!$A:$F,3,FALSE)","v":6},{"$f":"VLOOKUP($AD7,'def data'!$A:$F,4,FALSE)","v":2},{"$f":"IFERROR(IF(Settings!$J$17=1,VLOOKUP(AD7,'full ppr adp'!C:K,9,FALSE),IF(Settings!$J$17=0,VLOOKUP(AD7,'standard adp'!C:J,8,FALSE),VLOOKUP(AD7,'half ppr adp'!C:J,8,FALSE))),VLOOKUP(AD7,'full ppr adp'!C:K,9,FALSE))","v":109.33333333333333}]
["Kyler Murray","ARI",{"$f":"VLOOKUP(A8,'qb data'!G:S,13,FALSE)","v":307.1110304},{"$f":"IFERROR(C8-LARGE($C$3:$C$34,'Position Expectations'!$B$3+1),C8-MIN($C$3:$C$34))","v":42.188577499999951},{"$f":"IFERROR(C8-LARGE($C$3:$C$34,Settings!$F$21*Settings!$D$22),C8-MIN($C$3:$C$34))","v":25.71435919999999},{"$f":"(IFERROR(IF(Settings!$J$17=1,VLOOKUP(_xlfn.CONCAT(B8,A8),'full ppr adp'!$A:$K,11,FALSE),IF(Settings!$J$17=0,VLOOKUP(_xlfn.CONCAT(B8,A8),'standard adp'!$A:$J,10,FALSE),VLOOKUP(_xlfn.CONCAT(B8,A8),'half ppr adp'!$A:$J,10,FALSE))),VLOOKUP(_xlfn.CONCAT(B8,A8),'full ppr adp'!$A:$K,11,FALSE)))","v":55.333333333333336},null,"Derrick Henry","TEN",{"$f":"VLOOKUP(_xlfn.CONCAT(I8,H8),'rb data'!A:X,24,FALSE)","v":274.09377026499993},{"$f":"IFERROR(J8-LARGE($J$3:$J$100,'Position Expectations'!$B$4+1),J8-MIN($J$3:$J$100))","v":214.52724546499994},{"$f":"IFERROR(J8-LARGE($J$3:$J$100,Settings!$F$21*Settings!$D$23),J8-MIN($J$3:$J$100))+IF(Settings!$D$26>0,MAX(0,LARGE($J$3:$J$100,Settings!$F$21*Settings!$D$23)-LARGE(($Q$3:$Q$150,$J$3:$J$100),Settings!$F$21*(Settings!$D$23+Settings!$D$24+Settings!$D$26))),0)","v":105.03810876499989},{"$f":"IFERROR((IFERROR(IF(Settings!$J$17=1,VLOOKUP(_xlfn.CONCAT(I8,H8),'full ppr adp'!$A:$K,11,FALSE),IF(Settings!$J$17=0,VLOOKUP(_xlfn.CONCAT(I8,H8),'standard adp'!$A:$J,10,FALSE),VLOOKUP(_xlfn.CONCAT(I8,H8),'half ppr adp'!$A:$J,10,FALSE))),VLOOKUP(_xlfn.CONCAT(I8,H8),'full ppr adp'!$A:$K,11,FALSE))),\"UND\")","v":7.333333333333333},null,"Chris Godwin","TB",{"$f":"VLOOKUP(_xlfn.CONCAT(P8,O8),'wr data'!A:X,24,FALSE)","v":245.54723356499997},{"$f":"IFERROR(Q8-LARGE($Q$3:$Q$150,'Position Expectations'!$B$5+1),Q8-MIN($Q$3:$Q$150))","v":118.98663906499993},{"$f":"IFERROR(Q8-LARGE($Q$3:$Q$150,Settings!$F$21*Settings!$D$24),Q8-MIN($Q$3:$Q$150))+IF(Settings!$D$26>0,MAX(0,LARGE($Q$3:$Q$150,Settings!$F$21*Settings!$D$24)-LARGE(($Q$3:$Q$150,$J$3:$J$100),Settings!$F$21*(Settings!$D$23+Settings!$D$24+Settings!$D$26))),0)","v":73.798955664999966},{"$f":"IFERROR((IFERROR(IF(Settings!$J$17=1,VLOOKUP(_xlfn.CONCAT(P8,O8),'full ppr adp'!$A:$K,11,FALSE),IF(Settings!$J$17=0,VLOOKUP(_xlfn.CONCAT(P8,O8),'standard adp'!$A:$J,10,FALSE),VLOOKUP(_xlfn.CONCAT(P8,O8),'half ppr adp'!$A:$J,10,FALSE))),VLOOKUP(_xlfn.CONCAT(P8,O8),'full ppr adp'!$A:$K,11,FALSE))),\"UND\")","v":19.333333333333332},null,"Hunter Henry","LAC",{"$f":"VLOOKUP(_xlfn.CONCAT(W8,V8),'te data'!A:X,24,FALSE)","v":154.44409344000002},{"$f":"IFERROR(X8-LARGE($X$3:$X$54,'Position Expectations'!$B$6+1),X8-MIN($X$3:$X$54))","v":31.847095840000009},{"$f":"IFERROR(X8-LARGE($X$3:$X$75,Settings!$F$21*Settings!$D$25),X8-MIN($X$3:$X$75))+IF(Settings!$D$26>0,MAX(0,LARGE($X$3:$X$75,Settings!$F$21*Settings!$D$25)-LARGE(($Q$3:$Q$150,$J$3:$J$100,$X$3:$X$75),Settings!$F$21*(Settings!$D$23+Settings!$D$24+Settings!$D$26))),0)","v":21.018341940000028},{"$f":"IFERROR((IFERROR(IF(Settings!$J$17=1,VLOOKUP(_xlfn.CONCAT(W8,V8),'full ppr adp'!$A:$K,11,FALSE),IF(Settings!$J$17=0,VLOOKUP(_xlfn.CONCAT(W8,V8),'standard adp'!$A:$J,10,FALSE),VLOOKUP(_xlfn.CONCAT(W8,V8),'half ppr adp'!$A:$J,10,FALSE))),VLOOKUP(_xlfn.CONCAT(W8,V8),'full ppr adp'!$A:$K,11,FALSE))),\"UND\")","v":84.333333333333329},null,{"$f":"VLOOKUP(AD8,'def data'!A:F,6,FALSE)","v":3},"New England Patriots",{"$f":"VLOOKUP($AD8,'def data'!$A:$F,2,FALSE)","v":3},{"$f":"VLOOKUP($AD8,'def data'!$A:$F,3,FALSE)","v":1},{"$f":"VLOOKUP($AD8,'def data'!$A:$F,4,FALSE)","v":4},{"$f":"IFERROR(IF(Settings!$J$17=1,VLOOKUP(AD8,'full ppr adp'!C:K,9,FALSE),IF(Settings!$J$17=0,VLOOKUP(AD8,'standard adp'!C:J,8,FALSE),VLOOKUP(AD8,'half ppr adp'!C:J,8,FALSE))),VLOOKUP(AD8,'full ppr adp'!C:K,9,FALSE))","v":145.66666666666666}]
["Josh Allen","BUF",{"$f":"VLOOKUP(A9,'qb data'!G:S,13,FALSE)","v":302.59367640000005},{"$f":"IFERROR(C9-LARGE($C$3:$C$34,'Position Expectations'!$B$3+1),C9-MIN($C$3:$C$34))","v":37.671223499999996},{"$f":"IFERROR(C9-LARGE($C$3:$C$34,Settings!$F$21*Settings!$D$22),C9-MIN($C$3:$C$34))","v":21.197005200000035},{"$f":"(IFERROR(IF(Settings!$J$17=1,VLOOKUP(_xlfn.CONCAT(B9,A9),'full ppr adp'!$A:$K,11,FALSE),IF(Settings!$J$17=0,VLOOKUP(_xlfn.CONCAT(B9,A9),'standard adp'!$A:$J,10,FALSE),VLOOKUP(_xlfn.CONCAT(B9,A9),'half ppr adp'!$A:$J,10,FALSE))),VLOOKUP(_xlfn.CONCAT(B9,A9),'full ppr adp'!$A:$K,11,FALSE)))","v":89},null,"Miles Sanders","PHI",{"$f":"VLOOKUP(_xlfn.CONCAT(I9,H9),'rb data'!A:X,24,FALSE)","v":246.03648880000003},{"$f":"IFERROR(J9-LARGE($J$3:$J$100,'Position Expectations'!$B$4+1),J9-MIN($J$3:$J$100))","v":186.46996400000003},{"$f":"IFERROR(J9-LARGE($J$3:$J$100,Settings!$F$21*Settings!$D$23),J9-MIN($J$3:$J$100))+IF(Settings!$D$26>0,MAX(0,LARGE($J$3:$J$100,Settings!$F$21*Settings!$D$23)-LARGE(($Q$3:$Q$150,$J$3:$J$100),Settings!$F$21*(Settings!$D$23+Settings!$D$24+Settings!$D$26))),0)","v":76.980827299999987},{"$f":"IFERROR((IFERROR(IF(Settings!$J$17=1,VLOOKUP(_xlfn.CONCAT(I9,H9),'full ppr adp'!$A:$K,11,FALSE),IF(Settings!$J$17=0,VLOOKUP(_xlfn.CONCAT(I9,H9),'standard adp'!$A:$J,10,FALSE),VLOOKUP(_xlfn.CONCAT(I9,H9),'half ppr adp'!$A:$J,10,FALSE))),VLOOKUP(_xlfn.CONCAT(I9,H9),'full ppr adp'!$A:$K,11,FALSE))),\"UND\")","v":13},null,"Kenny Golladay","DET",{"$f":"VLOOKUP(_xlfn.CONCAT(P9,O9),'wr data'!A:X,24,FALSE)","v":240.98933313000001},{"$f":"IFERROR(Q9-LARGE($Q$3:$Q$150,'Position Expectations'!$B$5+1),Q9-MIN($Q$3:$Q$150))","v":114.42873862999997},{"$f":"IFERROR(Q9-LARGE($Q$3:$Q$150,Settings!$F$21*Settings!$D$24),Q9-MIN($Q$3:$Q$150))+IF(Settings!$D$26>0,MAX(0,LARGE($Q$3:$Q$150,Settings!$F$21*Settings!$D$24)-LARGE(($Q$3:$Q$150,$J$3:$J$100),Settings!$F$21*(Settings!$D$23+Settings!$D$24+Settings!$D$26))),0)","v":69.241055230000001},{"$f":"IFERROR((IFERROR(IF(Settings!$J$17=1,VLOOKUP(_xlfn.CONCAT(P9,O9),'full ppr adp'!$A:$K,11,FALSE),IF(Settings!$J$17=0,VLOOKUP(_xlfn.CONCAT(P9,O9),'standard adp'!$A:$J,10,FALSE),VLOOKUP(_xlfn.CONCAT(P9,O9),'half ppr adp'!$A:$J,10,FALSE))),VLOOKUP(_xlfn.CONCAT(P9,O9),'full ppr adp'!$A:$K,11,FALSE))),\"UND\")","v":25},null,"Evan Engram","NYG",{"$f":"VLOOKUP(_xlfn.CONCAT(W9,V9),'te data'!A:X,24,FALSE)","v":150.72179399999999},{"$f":"IFERROR(X9-LARGE($X$3:$X$54,'Position Expectations'!$B$6+1),X9-MIN($X$3:$X$54))","v":28.12479639999998},{"$f":"IFERROR(X9-LARGE($X$3:$X$75,Settings!$F$21*Settings!$D$25),X9-MIN($X$3:$X$75))+IF(Settings!$D$26>0,MAX(0,LARGE($X$3:$X$75,Settings!$F$21*Settings!$D$25)-LARGE(($Q$3:$Q$150,$J$3:$J$100,$X$3:$X$75),Settings!$F$21*(Settings!$D$23+Settings!$D$24+Settings!$D$26))),0)","v":17.296042499999999},{"$f":"IFERROR((IFERROR(IF(Settings!$J$17=1,VLOOKUP(_xlfn.CONCAT(W9,V9),'full ppr adp'!$A:$K,11,FALSE),IF(Settings!$J$17=0,VLOOKUP(_xlfn.CONCAT(W9,V9),'standard adp'!$A:$J,10,FALSE),VLOOKUP(_xlfn.CONCAT(W9,V9),'half ppr adp'!$A:$J,10,FALSE))),VLOOKUP(_xlfn.CONCAT(W9,V9),'full ppr adp'!$A:$K,11,FALSE))),\"UND\")","v":71},null,{"$f":"VLOOKUP(AD9,'def data'!A:F,6,FALSE)","v":4},"Pittsburgh Steelers",{"$f":"VLOOKUP($AD9,'def data'!$A:$F,2,FALSE)","v":20},{"$f":"VLOOKUP($AD9,'def data'!$A:$F,3,FALSE)","v":2},{"$f":"VLOOKUP($AD9,'def data'!$A:$F,4,FALSE)","v":1},{"$f":"IFERROR(IF(Settings!$J$17=1,VLOOKUP(AD9,'full ppr adp'!C:K,9,FALSE),IF(Settings!$J$17=0,VLOOKUP(AD9,'standard adp'!C:J,8,FALSE),VLOOKUP(AD9,'half ppr adp'!C:J,8,FALSE))),VLOOKUP(AD9,'full ppr adp'!C:K,9,FALSE))","v":117.33333333333333}]
["Tom Brady","TB",{"$f":"VLOOKUP(A10,'qb data'!G:S,13,FALSE)","v":296.43625655999995},{"$f":"IFERROR(C10-LARGE($C$3:$C$34,'Position Expectations'!$B$3+1),C10-MIN($C$3:$C$34))","v":31.513803659999894},{"$f":"IFERROR(C10-LARGE($C$3:$C$34,Settings!$F$21*Settings!$D$22),C10-MIN($C$3:$C$34))","v":15.039585359999933},{"$f":"(IFERROR(IF(Settings!$J$17=1,VLOOKUP(_xlfn.CONCAT(B10,A10),'full ppr adp'!$A:$K,11,FALSE),IF(Settings!$J$17=0,VLOOKUP(_xlfn.CONCAT(B10,A10),'standard adp'!$A:$J,10,FALSE),VLOOKUP(_xlfn.CONCAT(B10,A10),'half ppr adp'!$A:$J,10,FALSE))),VLOOKUP(_xlfn.CONCAT(B10,A10),'full ppr adp'!$A:$K,11,FALSE)))","v":81.333333333333329},null,"Clyde Edwards-Helaire","KC",{"$f":"VLOOKUP(_xlfn.CONCAT(I10,H10),'rb data'!A:X,24,FALSE)","v":245.80504619999999},{"$f":"IFERROR(J10-LARGE($J$3:$J$100,'Position Expectations'!$B$4+1),J10-MIN($J$3:$J$100))","v":186.2385214},{"$f":"IFERROR(J10-LARGE($J$3:$J$100,Settings!$F$21*Settings!$D$23),J10-MIN($J$3:$J$100))+IF(Settings!$D$26>0,MAX(0,LARGE($J$3:$J$100,Settings!$F$21*Settings!$D$23)-LARGE(($Q$3:$Q$150,$J$3:$J$100),Settings!$F$21*(Settings!$D$23+Settings!$D$24+Settings!$D$26))),0)","v":76.74938469999995},{"$f":"IFERROR((IFERROR(IF(Settings!$J$17=1,VLOOKUP(_xlfn.CONCAT(I10,H10),'full ppr adp'!$A:$K,11,FALSE),IF(Settings!$J$17=0,VLOOKUP(_xlfn.CONCAT(I10,H10),'standard adp'!$A:$J,10,FALSE),VLOOKUP(_xlfn.CONCAT(I10,H10),'half ppr adp'!$A:$J,10,FALSE))),VLOOKUP(_xlfn.CONCAT(I10,H10),'full ppr adp'!$A:$K,11,FALSE))),\"UND\")","v":16},null,"Mike Evans","TB",{"$f":"VLOOKUP(_xlfn.CONCAT(P10,O10),'wr data'!A:X,24,FALSE)","v":236.76422949999997},{"$f":"IFERROR(Q10-LARGE($Q$3:$Q$150,'Position Expectations'!$B$5+1),Q10-MIN($Q$3:$Q$150))","v":110.20363499999993},{"$f":"IFERROR(Q10-LARGE($Q$3:$Q$150,Settings!$F$21*Settings!$D$24),Q10-MIN($Q$3:$Q$150))+IF(Settings!$D$26>0,MAX(0,LARGE($Q$3:$Q$150,Settings!$F$21*Settings!$D$24)-LARGE(($Q$3:$Q$150,$J$3:$J$100),Settings!$F$21*(Settings!$D$23+Settings!$D$24+Settings!$D$26))),0)","v":65.015951599999966},{"$f":"IFERROR((IFERROR(IF(Settings!$J$17=1,VLOOKUP(_xlfn.CONCAT(P10,O10),'full ppr adp'!$A:$K,11,FALSE),IF(Settings!$J$17=0,VLOOKUP(_xlfn.CONCAT(P10,O10),'standard adp'!$A:$J,10,FALSE),VLOOKUP(_xlfn.CONCAT(P10,O10),'half ppr adp'!$A:$J,10,FALSE))),VLOOKUP(_xlfn.CONCAT(P10,O10),'full ppr adp'!$A:$K,11,FALSE))),\"UND\")","v":25.333333333333332},null,"Tyler Higbee","LAR",{"$f":"VLOOKUP(_xlfn.CONCAT(W10,V10),'te data'!A:X,24,FALSE)","v":148.23874128},{"$f":"IFERROR(X10-LARGE($X$3:$X$54,'Position Expectations'!$B$6+1),X10-MIN($X$3:$X$54))","v":25.64174367999999},{"$f":"IFERROR(X10-LARGE($X$3:$X$75,Settings!$F$21*Settings!$D$25),X10-MIN($X$3:$X$75))+IF(Settings!$D$26>0,MAX(0,LARGE($X$3:$X$75,Settings!$F$21*Settings!$D$25)-LARGE(($Q$3:$Q$150,$J$3:$J$100,$X$3:$X$75),Settings!$F$21*(Settings!$D$23+Settings!$D$24+Settings!$D$26))),0)","v":14.812989780000009},{"$f":"IFERROR((IFERROR(IF(Settings!$J$17=1,VLOOKUP(_xlfn.CONCAT(W10,V10),'full ppr adp'!$A:$K,11,FALSE),IF(Settings!$J$17=0,VLOOKUP(_xlfn.CONCAT(W10,V10),'standard adp'!$A:$J,10,FALSE),VLOOKUP(_xlfn.CONCAT(W10,V10),'half ppr adp'!$A:$J,10,FALSE))),VLOOKUP(_xlfn.CONCAT(W10,V10),'full ppr adp'!$A:$K,11,FALSE))),\"UND\")","v":81.333333333333329},null,{"$f":"VLOOKUP(AD10,'def data'!A:F,6,FALSE)","v":5},"Buffalo Bills",{"$f":"VLOOKUP($AD10,'def data'!$A:$F,2,FALSE)","v":6},{"$f":"VLOOKUP($AD10,'def data'!$A:$F,3,FALSE)","v":3},{"$f":"VLOOKUP($AD10,'def data'!$A:$F,4,FALSE)","v":5},{"$f":"IFERROR(IF(Settings!$J$17=1,VLOOKUP(AD10,'full ppr adp'!C:K,9,FALSE),IF(Settings!$J$17=0,VLOOKUP(AD10,'standard adp'!C:J,8,FALSE),VLOOKUP(AD10,'half ppr adp'!C:J,8,FALSE))),VLOOKUP(AD10,'full ppr adp'!C:K,9,FALSE))","v":130.66666666666666}]
["Aaron Rodgers","GB",{"$f":"VLOOKUP(A11,'qb data'!G:S,13,FALSE)","v":286.38510000000002},{"$f":"IFERROR(C11-LARGE($C$3:$C$34,'Position Expectations'!$B$3+1),C11-MIN($C$3:$C$34))","v":21.46264709999997},{"$f":"IFERROR(C11-LARGE($C$3:$C$34,Settings!$F$21*Settings!$D$22),C11-MIN($C$3:$C$34))","v":4.9884288000000083},{"$f":"(IFERROR(IF(Settings!$J$17=1,VLOOKUP(_xlfn.CONCAT(B11,A11),'full ppr adp'!$A:$K,11,FALSE),IF(Settings!$J$17=0,VLOOKUP(_xlfn.CONCAT(B11,A11),'standard adp'!$A:$J,10,FALSE),VLOOKUP(_xlfn.CONCAT(B11,A11),'half ppr adp'!$A:$J,10,FALSE))),VLOOKUP(_xlfn.CONCAT(B11,A11),'full ppr adp'!$A:$K,11,FALSE)))","v":97},null,"Austin Ekeler","LAC",{"$f":"VLOOKUP(_xlfn.CONCAT(I11,H11),'rb data'!A:X,24,FALSE)","v":243.45930240000004},{"$f":"IFERROR(J11-LARGE($J$3:$J$100,'Position Expectations'!$B$4+1),J11-MIN($J$3:$J$100))","v":183.89277760000004},{"$f":"IFERROR(J11-LARGE($J$3:$J$100,Settings!$F$21*Settings!$D$23),J11-MIN($J$3:$J$100))+IF(Settings!$D$26>0,MAX(0,LARGE($J$3:$J$100,Settings!$F$21*Settings!$D$23)-LARGE(($Q$3:$Q$150,$J$3:$J$100),Settings!$F$21*(Settings!$D$23+Settings!$D$24+Settings!$D$26))),0)","v":74.403640899999999},{"$f":"IFERROR((IFERROR(IF(Settings!$J$17=1,VLOOKUP(_xlfn.CONCAT(I11,H11),'full ppr adp'!$A:$K,11,FALSE),IF(Settings!$J$17=0,VLOOKUP(_xlfn.CONCAT(I11,H11),'standard adp'!$A:$J,10,FALSE),VLOOKUP(_xlfn.CONCAT(I11,H11),'half ppr adp'!$A:$J,10,FALSE))),VLOOKUP(_xlfn.CONCAT(I11,H11),'full ppr adp'!$A:$K,11,FALSE))),\"UND\")","v":15},null,"Robert Woods","LAR",{"$f":"VLOOKUP(_xlfn.CONCAT(P11,O11),'wr data'!A:X,24,FALSE)","v":234.53426195000006},{"$f":"IFERROR(Q11-LARGE($Q$3:$Q$150,'Position Expectations'!$B$5+1),Q11-MIN($Q$3:$Q$150))","v":107.97366745000002},{"$f":"IFERROR(Q11-LARGE($Q$3:$Q$150,Settings!$F$21*Settings!$D$24),Q11-MIN($Q$3:$Q$150))+IF(Settings!$D$26>0,MAX(0,LARGE($Q$3:$Q$150,Settings!$F$21*Settings!$D$24)-LARGE(($Q$3:$Q$150,$J$3:$J$100),Settings!$F$21*(Settings!$D$23+Settings!$D$24+Settings!$D$26))),0)","v":62.785984050000053},{"$f":"IFERROR((IFERROR(IF(Settings!$J$17=1,VLOOKUP(_xlfn.CONCAT(P11,O11),'full ppr adp'!$A:$K,11,FALSE),IF(Settings!$J$17=0,VLOOKUP(_xlfn.CONCAT(P11,O11),'standard adp'!$A:$J,10,FALSE),VLOOKUP(_xlfn.CONCAT(P11,O11),'half ppr adp'!$A:$J,10,FALSE))),VLOOKUP(_xlfn.CONCAT(P11,O11),'full ppr adp'!$A:$K,11,FALSE))),\"UND\")","v":46},null,"Hayden Hurst","ATL",{"$f":"VLOOKUP(_xlfn.CONCAT(W11,V11),'te data'!A:X,24,FALSE)","v":147.64687999999998},{"$f":"IFERROR(X11-LARGE($X$3:$X$54,'Position Expectations'!$B$6+1),X11-MIN($X$3:$X$54))","v":25.049882399999973},{"$f":"IFERROR(X11-LARGE($X$3:$X$75,Settings!$F$21*Settings!$D$25),X11-MIN($X$3:$X$75))+IF(Settings!$D$26>0,MAX(0,LARGE($X$3:$X$75,Settings!$F$21*Settings!$D$25)-LARGE(($Q$3:$Q$150,$J$3:$J$100,$X$3:$X$75),Settings!$F$21*(Settings!$D$23+Settings!$D$24+Settings!$D$26))),0)","v":14.221128499999992},{"$f":"IFERROR((IFERROR(IF(Settings!$J$17=1,VLOOKUP(_xlfn.CONCAT(W11,V11),'full ppr adp'!$A:$K,11,FALSE),IF(Settings!$J$17=0,VLOOKUP(_xlfn.CONCAT(W11,V11),'standard adp'!$A:$J,10,FALSE),VLOOKUP(_xlfn.CONCAT(W11,V11),'half ppr adp'!$A:$J,10,FALSE))),VLOOKUP(_xlfn.CONCAT(W11,V11),'full ppr adp'!$A:$K,11,FALSE))),\"UND\")","v":113},null,{"$f":"VLOOKUP(AD11,'def data'!A:F,6,FALSE)","v":6},"Tennessee Titans",{"$f":"VLOOKUP($AD11,'def data'!$A:$F,2,FALSE)","v":4},{"$f":"VLOOKUP($AD11,'def data'!$A:$F,3,FALSE)","v":5},{"$f":"VLOOKUP($AD11,'def data'!$A:$F,4,FALSE)","v":8},{"$f":"IFERROR(IF(Settings!$J$17=1,VLOOKUP(AD11,'full ppr adp'!C:K,9,FALSE),IF(Settings!$J$17=0,VLOOKUP(AD11,'standard adp'!C:J,8,FALSE),VLOOKUP(AD11,'half ppr adp'!C:J,8,FALSE))),VLOOKUP(AD11,'full ppr adp'!C:K,9,FALSE))","v":242.66666666666666}]
["Carson Wentz","PHI",{"$f":"VLOOKUP(A12,'qb data'!G:S,13,FALSE)","v":283.04675200000008},{"$f":"IFERROR(C12-LARGE($C$3:$C$34,'Position Expectations'!$B$3+1),C12-MIN($C$3:$C$34))","v":18.12429910000003},{"$f":"IFERROR(C12-LARGE($C$3:$C$34,Settings!$F$21*Settings!$D$22),C12-MIN($C$3:$C$34))","v":1.6500808000000688},{"$f":"(IFERROR(IF(Settings!$J$17=1,VLOOKUP(_xlfn.CONCAT(B12,A12),'full ppr adp'!$A:$K,11,FALSE),IF(Settings!$J$17=0,VLOOKUP(_xlfn.CONCAT(B12,A12),'standard adp'!$A:$J,10,FALSE),VLOOKUP(_xlfn.CONCAT(B12,A12),'half ppr adp'!$A:$J,10,FALSE))),VLOOKUP(_xlfn.CONCAT(B12,A12),'full ppr adp'!$A:$K,11,FALSE)))","v":103.33333333333333},null,"Kenyan Drake","ARI",{"$f":"VLOOKUP(_xlfn.CONCAT(I12,H12),'rb data'!A:X,24,FALSE)","v":238.72412},{"$f":"IFERROR(J12-LARGE($J$3:$J$100,'Position Expectations'!$B$4+1),J12-MIN($J$3:$J$100))","v":179.1575952},{"$f":"IFERROR(J12-LARGE($J$3:$J$100,Settings!$F$21*Settings!$D$23),J12-MIN($J$3:$J$100))+IF(Settings!$D$26>0,MAX(0,LARGE($J$3:$J$100,Settings!$F$21*Settings!$D$23)-LARGE(($Q$3:$Q$150,$J$3:$J$100),Settings!$F$21*(Settings!$D$23+Settings!$D$24+Settings!$D$26))),0)","v":69.668458499999957},{"$f":"IFERROR((IFERROR(IF(Settings!$J$17=1,VLOOKUP(_xlfn.CONCAT(I12,H12),'full ppr adp'!$A:$K,11,FALSE),IF(Settings!$J$17=0,VLOOKUP(_xlfn.CONCAT(I12,H12),'standard adp'!$A:$J,10,FALSE),VLOOKUP(_xlfn.CONCAT(I12,H12),'half ppr adp'!$A:$J,10,FALSE))),VLOOKUP(_xlfn.CONCAT(I12,H12),'full ppr adp'!$A:$K,11,FALSE))),\"UND\")","v":15.333333333333334},null,"Amari Cooper","DAL",{"$f":"VLOOKUP(_xlfn.CONCAT(P12,O12),'wr data'!A:X,24,FALSE)","v":232.15734123500002},{"$f":"IFERROR(Q12-LARGE($Q$3:$Q$150,'Position Expectations'!$B$5+1),Q12-MIN($Q$3:$Q$150))","v":105.59674673499998},{"$f":"IFERROR(Q12-LARGE($Q$3:$Q$150,Settings!$F$21*Settings!$D$24),Q12-MIN($Q$3:$Q$150))+IF(Settings!$D$26>0,MAX(0,LARGE($Q$3:$Q$150,Settings!$F$21*Settings!$D$24)-LARGE(($Q$3:$Q$150,$J$3:$J$100),Settings!$F$21*(Settings!$D$23+Settings!$D$24+Settings!$D$26))),0)","v":60.409063335000013},{"$f":"IFERROR((IFERROR(IF(Settings!$J$17=1,VLOOKUP(_xlfn.CONCAT(P12,O12),'full ppr adp'!$A:$K,11,FALSE),IF(Settings!$J$17=0,VLOOKUP(_xlfn.CONCAT(P12,O12),'standard adp'!$A:$J,10,FALSE),VLOOKUP(_xlfn.CONCAT(P12,O12),'half ppr adp'!$A:$J,10,FALSE))),VLOOKUP(_xlfn.CONCAT(P12,O12),'full ppr adp'!$A:$K,11,FALSE))),\"UND\")","v":32.666666666666664},null,"Jared Cook","NO",{"$f":"VLOOKUP(_xlfn.CONCAT(W12,V12),'te data'!A:X,24,FALSE)","v":136.37336719999999},{"$f":"IFERROR(X12-LARGE($X$3:$X$54,'Position Expectations'!$B$6+1),X12-MIN($X$3:$X$54))","v":13.776369599999981},{"$f":"IFERROR(X12-LARGE($X$3:$X$75,Settings!$F$21*Settings!$D$25),X12-MIN($X$3:$X$75))+IF(Settings!$D$26>0,MAX(0,LARGE($X$3:$X$75,Settings!$F$21*Settings!$D$25)-LARGE(($Q$3:$Q$150,$J$3:$J$100,$X$3:$X$75),Settings!$F$21*(Settings!$D$23+Settings!$D$24+Settings!$D$26))),0)","v":2.9476157000000001},{"$f":"IFERROR((IFERROR(IF(Settings!$J$17=1,VLOOKUP(_xlfn.CONCAT(W12,V12),'full ppr adp'!$A:$K,11,FALSE),IF(Settings!$J$17=0,VLOOKUP(_xlfn.CONCAT(W12,V12),'standard adp'!$A:$J,10,FALSE),VLOOKUP(_xlfn.CONCAT(W12,V12),'half ppr adp'!$A:$J,10,FALSE))),VLOOKUP(_xlfn.CONCAT(W12,V12),'full ppr adp'!$A:$K,11,FALSE))),\"UND\")","v":101.33333333333333},null,{"$f":"VLOOKUP(AD12,'def data'!A:F,6,FALSE)","v":7},"Los Angeles Rams",{"$f":"VLOOKUP($AD12,'def data'!$A:$F,2,FALSE)","v":7},{"$f":"VLOOKUP($AD12,'def data'!$A:$F,3,FALSE)","v":10},{"$f":"VLOOKUP($AD12,'def data'!$A:$F,4,FALSE)","v":7},{"$f":"IFERROR(IF(Settings!$J$17=1,VLOOKUP(AD12,'full ppr adp'!C:K,9,FALSE),IF(Settings!$J$17=0,VLOOKUP(AD12,'standard adp'!C:J,8,FALSE),VLOOKUP(AD12,'half ppr adp'!C:J,8,FALSE))),VLOOKUP(AD12,'full ppr adp'!C:K,9,FALSE))","v":193}]
["Matt Stafford","DET",{"$f":"VLOOKUP(A13,'qb data'!G:S,13,FALSE)","v":282.23181},{"$f":"IFERROR(C13-LARGE($C$3:$C$34,'Position Expectations'!$B$3+1),C13-MIN($C$3:$C$34))","v":17.309357099999943},{"$f":"IFERROR(C13-LARGE($C$3:$C$34,Settings!$F$21*Settings!$D$22),C13-MIN($C$3:$C$34))","v":0.83513879999998153},{"$f":"(IFERROR(IF(Settings!$J$17=1,VLOOKUP(_xlfn.CONCAT(B13,A13),'full ppr adp'!$A:$K,11,FALSE),IF(Settings!$J$17=0,VLOOKUP(_xlfn.CONCAT(B13,A13),'standard adp'!$A:$J,10,FALSE),VLOOKUP(_xlfn.CONCAT(B13,A13),'half ppr adp'!$A:$J,10,FALSE))),VLOOKUP(_xlfn.CONCAT(B13,A13),'full ppr adp'!$A:$K,11,FALSE)))","v":110.33333333333333},null,"Aaron Jones","GB",{"$f":"VLOOKUP(_xlfn.CONCAT(I13,H13),'rb data'!A:X,24,FALSE)","v":236.64313340000001},{"$f":"IFERROR(J13-LARGE($J$3:$J$100,'Position Expectations'!$B$4+1),J13-MIN($J$3:$J$100))","v":177.07660860000001},{"$f":"IFERROR(J13-LARGE($J$3:$J$100,Settings!$F$21*Settings!$D$23),J13-MIN($J$3:$J$100))+IF(Settings!$D$26>0,MAX(0,LARGE($J$3:$J$100,Settings!$F$21*Settings!$D$23)-LARGE(($Q$3:$Q$150,$J$3:$J$100),Settings!$F$21*(Settings!$D$23+Settings!$D$24+Settings!$D$26))),0)","v":67.587471899999969},{"$f":"IFERROR((IFERROR(IF(Settings!$J$17=1,VLOOKUP(_xlfn.CONCAT(I13,H13),'full ppr adp'!$A:$K,11,FALSE),IF(Settings!$J$17=0,VLOOKUP(_xlfn.CONCAT(I13,H13),'standard adp'!$A:$J,10,FALSE),VLOOKUP(_xlfn.CONCAT(I13,H13),'half ppr adp'!$A:$J,10,FALSE))),VLOOKUP(_xlfn.CONCAT(I13,H13),'full ppr adp'!$A:$K,11,FALSE))),\"UND\")","v":17.666666666666668},null,"JuJu Smith-Schuster","PIT",{"$f":"VLOOKUP(_xlfn.CONCAT(P13,O13),'wr data'!A:X,24,FALSE)","v":231.43098263999997},{"$f":"IFERROR(Q13-LARGE($Q$3:$Q$150,'Position Expectations'!$B$5+1),Q13-MIN($Q$3:$Q$150))","v":104.87038813999993},{"$f":"IFERROR(Q13-LARGE($Q$3:$Q$150,Settings!$F$21*Settings!$D$24),Q13-MIN($Q$3:$Q$150))+IF(Settings!$D$26>0,MAX(0,LARGE($Q$3:$Q$150,Settings!$F$21*Settings!$D$24)-LARGE(($Q$3:$Q$150,$J$3:$J$100),Settings!$F$21*(Settings!$D$23+Settings!$D$24+Settings!$D$26))),0)","v":59.682704739999963},{"$f":"IFERROR((IFERROR(IF(Settings!$J$17=1,VLOOKUP(_xlfn.CONCAT(P13,O13),'full ppr adp'!$A:$K,11,FALSE),IF(Settings!$J$17=0,VLOOKUP(_xlfn.CONCAT(P13,O13),'standard adp'!$A:$J,10,FALSE),VLOOKUP(_xlfn.CONCAT(P13,O13),'half ppr adp'!$A:$J,10,FALSE))),VLOOKUP(_xlfn.CONCAT(P13,O13),'full ppr adp'!$A:$K,11,FALSE))),\"UND\")","v":32.666666666666664},null,"Rob Gronkowski","TB",{"$f":"VLOOKUP(_xlfn.CONCAT(W13,V13),'te data'!A:X,24,FALSE)","v":135.90924192499998},{"$f":"IFERROR(X13-LARGE($X$3:$X$54,'Position Expectations'!$B$6+1),X13-MIN($X$3:$X$54))","v":13.312244324999966},{"$f":"IFERROR(X13-LARGE($X$3:$X$75,Settings!$F$21*Settings!$D$25),X13-MIN($X$3:$X$75))+IF(Settings!$D$26>0,MAX(0,LARGE($X$3:$X$75,Settings!$F$21*Settings!$D$25)-LARGE(($Q$3:$Q$150,$J$3:$J$100,$X$3:$X$75),Settings!$F$21*(Settings!$D$23+Settings!$D$24+Settings!$D$26))),0)","v":2.4834904249999852},{"$f":"IFERROR((IFERROR(IF(Settings!$J$17=1,VLOOKUP(_xlfn.CONCAT(W13,V13),'full ppr adp'!$A:$K,11,FALSE),IF(Settings!$J$17=0,VLOOKUP(_xlfn.CONCAT(W13,V13),'standard adp'!$A:$J,10,FALSE),VLOOKUP(_xlfn.CONCAT(W13,V13),'half ppr adp'!$A:$J,10,FALSE))),VLOOKUP(_xlfn.CONCAT(W13,V13),'full ppr adp'!$A:$K,11,FALSE))),\"UND\")","v":81.666666666666671},null,{"$f":"VLOOKUP(AD13,'def data'!A:F,6,FALSE)","v":8},"Indianapolis Colts",{"$f":"VLOOKUP($AD13,'def data'!$A:$F,2,FALSE)","v":1},{"$f":"VLOOKUP($AD13,'def data'!$A:$F,3,FALSE)","v":7},{"$f":"VLOOKUP($AD13,'def data'!$A:$F,4,FALSE)","v":11},{"$f":"IFERROR(IF(Settings!$J$17=1,VLOOKUP(AD13,'full ppr adp'!C:K,9,FALSE),IF(Settings!$J$17=0,VLOOKUP(AD13,'standard adp'!C:J,8,FALSE),VLOOKUP(AD13,'half ppr adp'!C:J,8,FALSE))),VLOOKUP(AD13,'full ppr adp'!C:K,9,FALSE))","v":207.66666666666666}]
["Gardner Minshew","JAC",{"$f":"VLOOKUP(A14,'qb data'!G:S,13,FALSE)","v":281.39667120000001},{"$f":"IFERROR(C14-LARGE($C$3:$C$34,'Position Expectations'!$B$3+1),C14-MIN($C$3:$C$34))","v":16.474218299999961},{"$f":"IFERROR(C14-LARGE($C$3:$C$34,Settings!$F$21*Settings!$D$22),C14-MIN($C$3:$C$34))","v":0},{"$f":"(IFERROR(IF(Settings!$J$17=1,VLOOKUP(_xlfn.CONCAT(B14,A14),'full ppr adp'!$A:$K,11,FALSE),IF(Settings!$J$17=0,VLOOKUP(_xlfn.CONCAT(B14,A14),'standard adp'!$A:$J,10,FALSE),VLOOKUP(_xlfn.CONCAT(B14,A14),'half ppr adp'!$A:$J,10,FALSE))),VLOOKUP(_xlfn.CONCAT(B14,A14),'full ppr adp'!$A:$K,11,FALSE)))","v":178},null,"Josh Jacobs","LV",{"$f":"VLOOKUP(_xlfn.CONCAT(I14,H14),'rb data'!A:X,24,FALSE)","v":235.18105560000006},{"$f":"IFERROR(J14-LARGE($J$3:$J$100,'Position Expectations'!$B$4+1),J14-MIN($J$3:$J$100))","v":175.61453080000007},{"$f":"IFERROR(J14-LARGE($J$3:$J$100,Settings!$F$21*Settings!$D$23),J14-MIN($J$3:$J$100))+IF(Settings!$D$26>0,MAX(0,LARGE($J$3:$J$100,Settings!$F$21*Settings!$D$23)-LARGE(($Q$3:$Q$150,$J$3:$J$100),Settings!$F$21*(Settings!$D$23+Settings!$D$24+Settings!$D$26))),0)","v":66.125394100000022},{"$f":"IFERROR((IFERROR(IF(Settings!$J$17=1,VLOOKUP(_xlfn.CONCAT(I14,H14),'full ppr adp'!$A:$K,11,FALSE),IF(Settings!$J$17=0,VLOOKUP(_xlfn.CONCAT(I14,H14),'standard adp'!$A:$J,10,FALSE),VLOOKUP(_xlfn.CONCAT(I14,H14),'half ppr adp'!$A:$J,10,FALSE))),VLOOKUP(_xlfn.CONCAT(I14,H14),'full ppr adp'!$A:$K,11,FALSE))),\"UND\")","v":14.666666666666666},null,"Cooper Kupp","LAR",{"$f":"VLOOKUP(_xlfn.CONCAT(P14,O14),'wr data'!A:X,24,FALSE)","v":230.76386078000004},{"$f":"IFERROR(Q14-LARGE($Q$3:$Q$150,'Position Expectations'!$B$5+1),Q14-MIN($Q$3:$Q$150))","v":104.20326628000001},{"$f":"IFERROR(Q14-LARGE($Q$3:$Q$150,Settings!$F$21*Settings!$D$24),Q14-MIN($Q$3:$Q$150))+IF(Settings!$D$26>0,MAX(0,LARGE($Q$3:$Q$150,Settings!$F$21*Settings!$D$24)-LARGE(($Q$3:$Q$150,$J$3:$J$100),Settings!$F$21*(Settings!$D$23+Settings!$D$24+Settings!$D$26))),0)","v":59.015582880000039},{"$f":"IFERROR((IFERROR(IF(Settings!$J$17=1,VLOOKUP(_xlfn.CONCAT(P14,O14),'full ppr adp'!$A:$K,11,FALSE),IF(Settings!$J$17=0,VLOOKUP(_xlfn.CONCAT(P14,O14),'standard adp'!$A:$J,10,FALSE),VLOOKUP(_xlfn.CONCAT(P14,O14),'half ppr adp'!$A:$J,10,FALSE))),VLOOKUP(_xlfn.CONCAT(P14,O14),'full ppr adp'!$A:$K,11,FALSE))),\"UND\")","v":38},null,"Mike Gesicki","MIA",{"$f":"VLOOKUP(_xlfn.CONCAT(W14,V14),'te data'!A:X,24,FALSE)","v":133.42575149999999},{"$f":"IFERROR(X14-LARGE($X$3:$X$54,'Position Expectations'!$B$6+1),X14-MIN($X$3:$X$54))","v":10.828753899999981},{"$f":"IFERROR(X14-LARGE($X$3:$X$75,Settings!$F$21*Settings!$D$25),X14-MIN($X$3:$X$75))+IF(Settings!$D$26>0,MAX(0,LARGE($X$3:$X$75,Settings!$F$21*Settings!$D$25)-LARGE(($Q$3:$Q$150,$J$3:$J$100,$X$3:$X$75),Settings!$F$21*(Settings!$D$23+Settings!$D$24+Settings!$D$26))),0)","v":0},{"$f":"IFERROR((IFERROR(IF(Settings!$J$17=1,VLOOKUP(_xlfn.CONCAT(W14,V14),'full ppr adp'!$A:$K,11,FALSE),IF(Settings!$J$17=0,VLOOKUP(_xlfn.CONCAT(W14,V14),'standard adp'!$A:$J,10,FALSE),VLOOKUP(_xlfn.CONCAT(W14,V14),'half ppr adp'!$A:$J,10,FALSE))),VLOOKUP(_xlfn.CONCAT(W14,V14),'full ppr adp'!$A:$K,11,FALSE))),\"UND\")","v":129.33333333333334},null,{"$f":"VLOOKUP(AD14,'def data'!A:F,6,FALSE)","v":9},"Minnesota Vikings",{"$f":"VLOOKUP($AD14,'def data'!$A:$F,2,FALSE)","v":19},{"$f":"VLOOKUP($AD14,'def data'!$A:$F,3,FALSE)","v":15},{"$f":"VLOOKUP($AD14,'def data'!$A:$F,4,FALSE)","v":6},{"$f":"IFERROR(IF(Settings!$J$17=1,VLOOKUP(AD14,'full ppr adp'!C:K,9,FALSE),IF(Settings!$J$17=0,VLOOKUP(AD14,'standard adp'!C:J,8,FALSE),VLOOKUP(AD14,'half ppr adp'!C:J,8,FALSE))),VLOOKUP(AD14,'full ppr adp'!C:K,9,FALSE))","v":167}]
["Cam Newton","NE",{"$f":"VLOOKUP(A15,'qb data'!G:S,13,FALSE)","v":280.70768399999997},{"$f":"IFERROR(C15-LARGE($C$3:$C$34,'Position Expectations'!$B$3+1),C15-MIN($C$3:$C$34))","v":15.785231099999919},{"$f":"IFERROR(C15-LARGE($C$3:$C$34,Settings!$F$21*Settings!$D$22),C15-MIN($C$3:$C$34))","v":-0.68898720000004232},{"$f":"(IFERROR(IF(Settings!$J$17=1,VLOOKUP(_xlfn.CONCAT(B15,A15),'full ppr adp'!$A:$K,11,FALSE),IF(Settings!$J$17=0,VLOOKUP(_xlfn.CONCAT(B15,A15),'standard adp'!$A:$J,10,FALSE),VLOOKUP(_xlfn.CONCAT(B15,A15),'half ppr adp'!$A:$J,10,FALSE))),VLOOKUP(_xlfn.CONCAT(B15,A15),'full ppr adp'!$A:$K,11,FALSE)))","v":180},null,"Joe Mixon","CIN",{"$f":"VLOOKUP(_xlfn.CONCAT(I15,H15),'rb data'!A:X,24,FALSE)","v":227.19386599999999},{"$f":"IFERROR(J15-LARGE($J$3:$J$100,'Position Expectations'!$B$4+1),J15-MIN($J$3:$J$100))","v":167.62734119999999},{"$f":"IFERROR(J15-LARGE($J$3:$J$100,Settings!$F$21*Settings!$D$23),J15-MIN($J$3:$J$100))+IF(Settings!$D$26>0,MAX(0,LARGE($J$3:$J$100,Settings!$F$21*Settings!$D$23)-LARGE(($Q$3:$Q$150,$J$3:$J$100),Settings!$F$21*(Settings!$D$23+Settings!$D$24+Settings!$D$26))),0)","v":58.138204499999944},{"$f":"IFERROR((IFERROR(IF(Settings!$J$17=1,VLOOKUP(_xlfn.CONCAT(I15,H15),'full ppr adp'!$A:$K,11,FALSE),IF(Settings!$J$17=0,VLOOKUP(_xlfn.CONCAT(I15,H15),'standard adp'!$A:$J,10,FALSE),VLOOKUP(_xlfn.CONCAT(I15,H15),'half ppr adp'!$A:$J,10,FALSE))),VLOOKUP(_xlfn.CONCAT(I15,H15),'full ppr adp'!$A:$K,11,FALSE))),\"UND\")","v":15},null,"D.J. Moore","CAR",{"$f":"VLOOKUP(_xlfn.CONCAT(P15,O15),'wr data'!A:X,24,FALSE)","v":229.83891560000001},{"$f":"IFERROR(Q15-LARGE($Q$3:$Q$150,'Position Expectations'!$B$5+1),Q15-MIN($Q$3:$Q$150))","v":103.27832109999997},{"$f":"IFERROR(Q15-LARGE($Q$3:$Q$150,Settings!$F$21*Settings!$D$24),Q15-MIN($Q$3:$Q$150))+IF(Settings!$D$26>0,MAX(0,LARGE($Q$3:$Q$150,Settings!$F$21*Settings!$D$24)-LARGE(($Q$3:$Q$150,$J$3:$J$100),Settings!$F$21*(Settings!$D$23+Settings!$D$24+Settings!$D$26))),0)","v":58.090637700000002},{"$f":"IFERROR((IFERROR(IF(Settings!$J$17=1,VLOOKUP(_xlfn.CONCAT(P15,O15),'full ppr adp'!$A:$K,11,FALSE),IF(Settings!$J$17=0,VLOOKUP(_xlfn.CONCAT(P15,O15),'standard adp'!$A:$J,10,FALSE),VLOOKUP(_xlfn.CONCAT(P15,O15),'half ppr adp'!$A:$J,10,FALSE))),VLOOKUP(_xlfn.CONCAT(P15,O15),'full ppr adp'!$A:$K,11,FALSE))),\"UND\")","v":30},null,"Noah Fant","DEN",{"$f":"VLOOKUP(_xlfn.CONCAT(W15,V15),'te data'!A:X,24,FALSE)","v":131.00050896000002},{"$f":"IFERROR(X15-LARGE($X$3:$X$54,'Position Expectations'!$B$6+1),X15-MIN($X$3:$X$54))","v":8.4035113600000102},{"$f":"IFERROR(X15-LARGE($X$3:$X$75,Settings!$F$21*Settings!$D$25),X15-MIN($X$3:$X$75))+IF(Settings!$D$26>0,MAX(0,LARGE($X$3:$X$75,Settings!$F$21*Settings!$D$25)-LARGE(($Q$3:$Q$150,$J$3:$J$100,$X$3:$X$75),Settings!$F$21*(Settings!$D$23+Settings!$D$24+Settings!$D$26))),0)","v":-2.4252425399999709},{"$f":"IFERROR((IFERROR(IF(Settings!$J$17=1,VLOOKUP(_xlfn.CONCAT(W15,V15),'full ppr adp'!$A:$K,11,FALSE),IF(Settings!$J$17=0,VLOOKUP(_xlfn.CONCAT(W15,V15),'standard adp'!$A:$J,10,FALSE),VLOOKUP(_xlfn.CONCAT(W15,V15),'half ppr adp'!$A:$J,10,FALSE))),VLOOKUP(_xlfn.CONCAT(W15,V15),'full ppr adp'!$A:$K,11,FALSE))),\"UND\")","v":112.33333333333333},null,{"$f":"VLOOKUP(AD15,'def data'!A:F,6,FALSE)","v":10},"New York Jets",{"$f":"VLOOKUP($AD15,'def data'!$A:$F,2,FALSE)","v":9},{"$f":"VLOOKUP($AD15,'def data'!$A:$F,3,FALSE)","v":8},{"$f":"VLOOKUP($AD15,'def data'!$A:$F,4,FALSE)","v":12},{"$f":"IFERROR(IF(Settings!$J$17=1,VLOOKUP(AD15,'full ppr adp'!C:K,9,FALSE),IF(Settings!$J$17=0,VLOOKUP(AD15,'standard adp'!C:J,8,FALSE),VLOOKUP(AD15,'half ppr adp'!C:J,8,FALSE))),VLOOKUP(AD15,'full ppr adp'!C:K,9,FALSE))","v":248.5}]
["Drew Brees","NO",{"$f":"VLOOKUP(A16,'qb data'!G:S,13,FALSE)","v":279.64236495000006},{"$f":"IFERROR(C16-LARGE($C$3:$C$34,'Position Expectations'!$B$3+1),C16-MIN($C$3:$C$34))","v":14.719912050000005},{"$f":"IFERROR(C16-LARGE($C$3:$C$34,Settings!$F$21*Settings!$D$22),C16-MIN($C$3:$C$34))","v":-1.7543062499999564},{"$f":"(IFERROR(IF(Settings!$J$17=1,VLOOKUP(_xlfn.CONCAT(B16,A16),'full ppr adp'!$A:$K,11,FALSE),IF(Settings!$J$17=0,VLOOKUP(_xlfn.CONCAT(B16,A16),'standard adp'!$A:$J,10,FALSE),VLOOKUP(_xlfn.CONCAT(B16,A16),'half ppr adp'!$A:$J,10,FALSE))),VLOOKUP(_xlfn.CONCAT(B16,A16),'full ppr adp'!$A:$K,11,FALSE)))","v":86},null,"James Conner","PIT",{"$f":"VLOOKUP(_xlfn.CONCAT(I16,H16),'rb data'!A:X,24,FALSE)","v":219.33526359999999},{"$f":"IFERROR(J16-LARGE($J$3:$J$100,'Position Expectations'!$B$4+1),J16-MIN($J$3:$J$100))","v":159.76873879999999},{"$f":"IFERROR(J16-LARGE($J$3:$J$100,Settings!$F$21*Settings!$D$23),J16-MIN($J$3:$J$100))+IF(Settings!$D$26>0,MAX(0,LARGE($J$3:$J$100,Settings!$F$21*Settings!$D$23)-LARGE(($Q$3:$Q$150,$J$3:$J$100),Settings!$F$21*(Settings!$D$23+Settings!$D$24+Settings!$D$26))),0)","v":50.279602099999948},{"$f":"IFERROR((IFERROR(IF(Settings!$J$17=1,VLOOKUP(_xlfn.CONCAT(I16,H16),'full ppr adp'!$A:$K,11,FALSE),IF(Settings!$J$17=0,VLOOKUP(_xlfn.CONCAT(I16,H16),'standard adp'!$A:$J,10,FALSE),VLOOKUP(_xlfn.CONCAT(I16,H16),'half ppr adp'!$A:$J,10,FALSE))),VLOOKUP(_xlfn.CONCAT(I16,H16),'full ppr adp'!$A:$K,11,FALSE))),\"UND\")","v":41.666666666666664},null,"Calvin Ridley","ATL",{"$f":"VLOOKUP(_xlfn.CONCAT(P16,O16),'wr data'!A:X,24,FALSE)","v":228.92032180000001},{"$f":"IFERROR(Q16-LARGE($Q$3:$Q$150,'Position Expectations'!$B$5+1),Q16-MIN($Q$3:$Q$150))","v":102.35972729999997},{"$f":"IFERROR(Q16-LARGE($Q$3:$Q$150,Settings!$F$21*Settings!$D$24),Q16-MIN($Q$3:$Q$150))+IF(Settings!$D$26>0,MAX(0,LARGE($Q$3:$Q$150,Settings!$F$21*Settings!$D$24)-LARGE(($Q$3:$Q$150,$J$3:$J$100),Settings!$F$21*(Settings!$D$23+Settings!$D$24+Settings!$D$26))),0)","v":57.172043900000006},{"$f":"IFERROR((IFERROR(IF(Settings!$J$17=1,VLOOKUP(_xlfn.CONCAT(P16,O16),'full ppr adp'!$A:$K,11,FALSE),IF(Settings!$J$17=0,VLOOKUP(_xlfn.CONCAT(P16,O16),'standard adp'!$A:$J,10,FALSE),VLOOKUP(_xlfn.CONCAT(P16,O16),'half ppr adp'!$A:$J,10,FALSE))),VLOOKUP(_xlfn.CONCAT(P16,O16),'full ppr adp'!$A:$K,11,FALSE))),\"UND\")","v":42.333333333333336},null,"Chris Herndon","NYJ",{"$f":"VLOOKUP(_xlfn.CONCAT(W16,V16),'te data'!A:X,24,FALSE)","v":128.21818086000002},{"$f":"IFERROR(X16-LARGE($X$3:$X$54,'Position Expectations'!$B$6+1),X16-MIN($X$3:$X$54))","v":5.6211832600000093},{"$f":"IFERROR(X16-LARGE($X$3:$X$75,Settings!$F$21*Settings!$D$25),X16-MIN($X$3:$X$75))+IF(Settings!$D$26>0,MAX(0,LARGE($X$3:$X$75,Settings!$F$21*Settings!$D$25)-LARGE(($Q$3:$Q$150,$J$3:$J$100,$X$3:$X$75),Settings!$F$21*(Settings!$D$23+Settings!$D$24+Settings!$D$26))),0)","v":-5.2075706399999717},{"$f":"IFERROR((IFERROR(IF(Settings!$J$17=1,VLOOKUP(_xlfn.CONCAT(W16,V16),'full ppr adp'!$A:$K,11,FALSE),IF(Settings!$J$17=0,VLOOKUP(_xlfn.CONCAT(W16,V16),'standard adp'!$A:$J,10,FALSE),VLOOKUP(_xlfn.CONCAT(W16,V16),'half ppr adp'!$A:$J,10,FALSE))),VLOOKUP(_xlfn.CONCAT(W16,V16),'full ppr adp'!$A:$K,11,FALSE))),\"UND\")","v":162.33333333333334},null,{"$f":"VLOOKUP(AD16,'def data'!A:F,6,FALSE)","v":11},"New Orleans Saints",{"$f":"VLOOKUP($AD16,'def data'!$A:$F,2,FALSE)","v":11},{"$f":"VLOOKUP($AD16,'def data'!$A:$F,3,FALSE)","v":22},{"$f":"VLOOKUP($AD16,'def data'!$A:$F,4,FALSE)","v":10},{"$f":"IFERROR(IF(Settings!$J$17=1,VLOOKUP(AD16,'full ppr adp'!C:K,9,FALSE),IF(Settings!$J$17=0,VLOOKUP(AD16,'standard adp'!C:J,8,FALSE),VLOOKUP(AD16,'half ppr adp'!C:J,8,FALSE))),VLOOKUP(AD16,'full ppr adp'!C:K,9,FALSE))","v":169}]
["Matt Ryan","ATL",{"$f":"VLOOKUP(A17,'qb data'!G:S,13,FALSE)","v":278.48742199999998},{"$f":"IFERROR(C17-LARGE($C$3:$C$34,'Position Expectations'!$B$3+1),C17-MIN($C$3:$C$34))","v":13.564969099999928},{"$f":"IFERROR(C17-LARGE($C$3:$C$34,Settings!$F$21*Settings!$D$22),C17-MIN($C$3:$C$34))","v":-2.9092492000000334},{"$f":"(IFERROR(IF(Settings!$J$17=1,VLOOKUP(_xlfn.CONCAT(B17,A17),'full ppr adp'!$A:$K,11,FALSE),IF(Settings!$J$17=0,VLOOKUP(_xlfn.CONCAT(B17,A17),'standard adp'!$A:$J,10,FALSE),VLOOKUP(_xlfn.CONCAT(B17,A17),'half ppr adp'!$A:$J,10,FALSE))),VLOOKUP(_xlfn.CONCAT(B17,A17),'full ppr adp'!$A:$K,11,FALSE)))","v":85.666666666666671},null,"Todd Gurley","ATL",{"$f":"VLOOKUP(_xlfn.CONCAT(I17,H17),'rb data'!A:X,24,FALSE)","v":218.1503266},{"$f":"IFERROR(J17-LARGE($J$3:$J$100,'Position Expectations'!$B$4+1),J17-MIN($J$3:$J$100))","v":158.5838018},{"$f":"IFERROR(J17-LARGE($J$3:$J$100,Settings!$F$21*Settings!$D$23),J17-MIN($J$3:$J$100))+IF(Settings!$D$26>0,MAX(0,LARGE($J$3:$J$100,Settings!$F$21*Settings!$D$23)-LARGE(($Q$3:$Q$150,$J$3:$J$100),Settings!$F$21*(Settings!$D$23+Settings!$D$24+Settings!$D$26))),0)","v":49.094665099999958},{"$f":"IFERROR((IFERROR(IF(Settings!$J$17=1,VLOOKUP(_xlfn.CONCAT(I17,H17),'full ppr adp'!$A:$K,11,FALSE),IF(Settings!$J$17=0,VLOOKUP(_xlfn.CONCAT(I17,H17),'standard adp'!$A:$J,10,FALSE),VLOOKUP(_xlfn.CONCAT(I17,H17),'half ppr adp'!$A:$J,10,FALSE))),VLOOKUP(_xlfn.CONCAT(I17,H17),'full ppr adp'!$A:$K,11,FALSE))),\"UND\")","v":31},null,"Allen Robinson","CHI",{"$f":"VLOOKUP(_xlfn.CONCAT(P17,O17),'wr data'!A:X,24,FALSE)","v":228.72307384000001},{"$f":"IFERROR(Q17-LARGE($Q$3:$Q$150,'Position Expectations'!$B$5+1),Q17-MIN($Q$3:$Q$150))","v":102.16247933999998},{"$f":"IFERROR(Q17-LARGE($Q$3:$Q$150,Settings!$F$21*Settings!$D$24),Q17-MIN($Q$3:$Q$150))+IF(Settings!$D$26>0,MAX(0,LARGE($Q$3:$Q$150,Settings!$F$21*Settings!$D$24)-LARGE(($Q$3:$Q$150,$J$3:$J$100),Settings!$F$21*(Settings!$D$23+Settings!$D$24+Settings!$D$26))),0)","v":56.974795940000007},{"$f":"IFERROR((IFERROR(IF(Settings!$J$17=1,VLOOKUP(_xlfn.CONCAT(P17,O17),'full ppr adp'!$A:$K,11,FALSE),IF(Settings!$J$17=0,VLOOKUP(_xlfn.CONCAT(P17,O17),'standard adp'!$A:$J,10,FALSE),VLOOKUP(_xlfn.CONCAT(P17,O17),'half ppr adp'!$A:$J,10,FALSE))),VLOOKUP(_xlfn.CONCAT(P17,O17),'full ppr adp'!$A:$K,11,FALSE))),\"UND\")","v":30.666666666666668},null,"Jonnu Smith","TEN",{"$f":"VLOOKUP(_xlfn.CONCAT(W17,V17),'te data'!A:X,24,FALSE)","v":127.2997779},{"$f":"IFERROR(X17-LARGE($X$3:$X$54,'Position Expectations'!$B$6+1),X17-MIN($X$3:$X$54))","v":4.7027802999999864},{"$f":"IFERROR(X17-LARGE($X$3:$X$75,Settings!$F$21*Settings!$D$25),X17-MIN($X$3:$X$75))+IF(Settings!$D$26>0,MAX(0,LARGE($X$3:$X$75,Settings!$F$21*Settings!$D$25)-LARGE(($Q$3:$Q$150,$J$3:$J$100,$X$3:$X$75),Settings!$F$21*(Settings!$D$23+Settings!$D$24+Settings!$D$26))),0)","v":-6.1259735999999947},{"$f":"IFERROR((IFERROR(IF(Settings!$J$17=1,VLOOKUP(_xlfn.CONCAT(W17,V17),'full ppr adp'!$A:$K,11,FALSE),IF(Settings!$J$17=0,VLOOKUP(_xlfn.CONCAT(W17,V17),'standard adp'!$A:$J,10,FALSE),VLOOKUP(_xlfn.CONCAT(W17,V17),'half ppr adp'!$A:$J,10,FALSE))),VLOOKUP(_xlfn.CONCAT(W17,V17),'full ppr adp'!$A:$K,11,FALSE))),\"UND\")","v":160},null,{"$f":"VLOOKUP(AD17,'def data'!A:F,6,FALSE)","v":12},"Kansas City Chiefs",{"$f":"VLOOKUP($AD17,'def data'!$A:$F,2,FALSE)","v":23},{"$f":"VLOOKUP($AD17,'def data'!$A:$F,3,FALSE)","v":9},{"$f":"VLOOKUP($AD17,'def data'!$A:$F,4,FALSE)","v":9},{"$f":"IFERROR(IF(Settings!$J$17=1,VLOOKUP(AD17,'full ppr adp'!C:K,9,FALSE),IF(Settings!$J$17=0,VLOOKUP(AD17,'standard adp'!C:J,8,FALSE),VLOOKUP(AD17,'half ppr adp'!C:J,8,FALSE))),VLOOKUP(AD17,'full ppr adp'!C:K,9,FALSE))","v":188}]
["Ben Roethlisberger","PIT",{"$f":"VLOOKUP(A18,'qb data'!G:S,13,FALSE)","v":267.48253693999993},{"$f":"IFERROR(C18-LARGE($C$3:$C$34,'Position Expectations'!$B$3+1),C18-MIN($C$3:$C$34))","v":2.5600840399998788},{"$f":"IFERROR(C18-LARGE($C$3:$C$34,Settings!$F$21*Settings!$D$22),C18-MIN($C$3:$C$34))","v":-13.914134260000083},{"$f":"(IFERROR(IF(Settings!$J$17=1,VLOOKUP(_xlfn.CONCAT(B18,A18),'full ppr adp'!$A:$K,11,FALSE),IF(Settings!$J$17=0,VLOOKUP(_xlfn.CONCAT(B18,A18),'standard adp'!$A:$J,10,FALSE),VLOOKUP(_xlfn.CONCAT(B18,A18),'half ppr adp'!$A:$J,10,FALSE))),VLOOKUP(_xlfn.CONCAT(B18,A18),'full ppr adp'!$A:$K,11,FALSE)))","v":135.33333333333334},null,"Nick Chubb","CLE",{"$f":"VLOOKUP(_xlfn.CONCAT(I18,H18),'rb data'!A:X,24,FALSE)","v":211.89531904999998},{"$f":"IFERROR(J18-LARGE($J$3:$J$100,'Position Expectations'!$B$4+1),J18-MIN($J$3:$J$100))","v":152.32879424999999},{"$f":"IFERROR(J18-LARGE($J$3:$J$100,Settings!$F$21*Settings!$D$23),J18-MIN($J$3:$J$100))+IF(Settings!$D$26>0,MAX(0,LARGE($J$3:$J$100,Settings!$F$21*Settings!$D$23)-LARGE(($Q$3:$Q$150,$J$3:$J$100),Settings!$F$21*(Settings!$D$23+Settings!$D$24+Settings!$D$26))),0)","v":42.839657549999941},{"$f":"IFERROR((IFERROR(IF(Settings!$J$17=1,VLOOKUP(_xlfn.CONCAT(I18,H18),'full ppr adp'!$A:$K,11,FALSE),IF(Settings!$J$17=0,VLOOKUP(_xlfn.CONCAT(I18,H18),'standard adp'!$A:$J,10,FALSE),VLOOKUP(_xlfn.CONCAT(I18,H18),'half ppr adp'!$A:$J,10,FALSE))),VLOOKUP(_xlfn.CONCAT(I18,H18),'full ppr adp'!$A:$K,11,FALSE))),\"UND\")","v":14},null,"A.J. Brown","TEN",{"$f":"VLOOKUP(_xlfn.CONCAT(P18,O18),'wr data'!A:X,24,FALSE)","v":227.9190825},{"$f":"IFERROR(Q18-LARGE($Q$3:$Q$150,'Position Expectations'!$B$5+1),Q18-MIN($Q$3:$Q$150))","v":101.35848799999997},{"$f":"IFERROR(Q18-LARGE($Q$3:$Q$150,Settings!$F$21*Settings!$D$24),Q18-MIN($Q$3:$Q$150))+IF(Settings!$D$26>0,MAX(0,LARGE($Q$3:$Q$150,Settings!$F$21*Settings!$D$24)-LARGE(($Q$3:$Q$150,$J$3:$J$100),Settings!$F$21*(Settings!$D$23+Settings!$D$24+Settings!$D$26))),0)","v":56.170804599999997},{"$f":"IFERROR((IFERROR(IF(Settings!$J$17=1,VLOOKUP(_xlfn.CONCAT(P18,O18),'full ppr adp'!$A:$K,11,FALSE),IF(Settings!$J$17=0,VLOOKUP(_xlfn.CONCAT(P18,O18),'standard adp'!$A:$J,10,FALSE),VLOOKUP(_xlfn.CONCAT(P18,O18),'half ppr adp'!$A:$J,10,FALSE))),VLOOKUP(_xlfn.CONCAT(P18,O18),'full ppr adp'!$A:$K,11,FALSE))),\"UND\")","v":41},null,"Dallas Goedert","PHI",{"$f":"VLOOKUP(_xlfn.CONCAT(W18,V18),'te data'!A:X,24,FALSE)","v":125.95510760000002},{"$f":"IFERROR(X18-LARGE($X$3:$X$54,'Position Expectations'!$B$6+1),X18-MIN($X$3:$X$54))","v":3.3581100000000106},{"$f":"IFERROR(X18-LARGE($X$3:$X$75,Settings!$F$21*Settings!$D$25),X18-MIN($X$3:$X$75))+IF(Settings!$D$26>0,MAX(0,LARGE($X$3:$X$75,Settings!$F$21*Settings!$D$25)-LARGE(($Q$3:$Q$150,$J$3:$J$100,$X$3:$X$75),Settings!$F$21*(Settings!$D$23+Settings!$D$24+Settings!$D$26))),0)","v":-7.4706438999999705},{"$f":"IFERROR((IFERROR(IF(Settings!$J$17=1,VLOOKUP(_xlfn.CONCAT(W18,V18),'full ppr adp'!$A:$K,11,FALSE),IF(Settings!$J$17=0,VLOOKUP(_xlfn.CONCAT(W18,V18),'standard adp'!$A:$J,10,FALSE),VLOOKUP(_xlfn.CONCAT(W18,V18),'half ppr adp'!$A:$J,10,FALSE))),VLOOKUP(_xlfn.CONCAT(W18,V18),'full ppr adp'!$A:$K,11,FALSE))),\"UND\")","v":149},null,{"$f":"VLOOKUP(AD18,'def data'!A:F,6,FALSE)","v":13},"Philadelphia Eagles",{"$f":"VLOOKUP($AD18,'def data'!$A:$F,2,FALSE)","v":10},{"$f":"VLOOKUP($AD18,'def data'!$A:$F,3,FALSE)","v":14},{"$f":"VLOOKUP($AD18,'def data'!$A:$F,4,FALSE)","v":13},{"$f":"IFERROR(IF(Settings!$J$17=1,VLOOKUP(AD18,'full ppr adp'!C:K,9,FALSE),IF(Settings!$J$17=0,VLOOKUP(AD18,'standard adp'!C:J,8,FALSE),VLOOKUP(AD18,'half ppr adp'!C:J,8,FALSE))),VLOOKUP(AD18,'full ppr adp'!C:K,9,FALSE))","v":223.33333333333334}]
["Jared Goff","LAR",{"$f":"VLOOKUP(A19,'qb data'!G:S,13,FALSE)","v":266.13545600000009},{"$f":"IFERROR(C19-LARGE($C$3:$C$34,'Position Expectations'!$B$3+1),C19-MIN($C$3:$C$34))","v":1.2130031000000372},{"$f":"IFERROR(C19-LARGE($C$3:$C$34,Settings!$F$21*Settings!$D$22),C19-MIN($C$3:$C$34))","v":-15.261215199999924},{"$f":"(IFERROR(IF(Settings!$J$17=1,VLOOKUP(_xlfn.CONCAT(B19,A19),'full ppr adp'!$A:$K,11,FALSE),IF(Settings!$J$17=0,VLOOKUP(_xlfn.CONCAT(B19,A19),'standard adp'!$A:$J,10,FALSE),VLOOKUP(_xlfn.CONCAT(B19,A19),'half ppr adp'!$A:$J,10,FALSE))),VLOOKUP(_xlfn.CONCAT(B19,A19),'full ppr adp'!$A:$K,11,FALSE)))","v":142},null,"David Johnson","HOU",{"$f":"VLOOKUP(_xlfn.CONCAT(I19,H19),'rb data'!A:X,24,FALSE)","v":204.65307999999999},{"$f":"IFERROR(J19-LARGE($J$3:$J$100,'Position Expectations'!$B$4+1),J19-MIN($J$3:$J$100))","v":145.08655519999999},{"$f":"IFERROR(J19-LARGE($J$3:$J$100,Settings!$F$21*Settings!$D$23),J19-MIN($J$3:$J$100))+IF(Settings!$D$26>0,MAX(0,LARGE($J$3:$J$100,Settings!$F$21*Settings!$D$23)-LARGE(($Q$3:$Q$150,$J$3:$J$100),Settings!$F$21*(Settings!$D$23+Settings!$D$24+Settings!$D$26))),0)","v":35.597418499999947},{"$f":"IFERROR((IFERROR(IF(Settings!$J$17=1,VLOOKUP(_xlfn.CONCAT(I19,H19),'full ppr adp'!$A:$K,11,FALSE),IF(Settings!$J$17=0,VLOOKUP(_xlfn.CONCAT(I19,H19),'standard adp'!$A:$J,10,FALSE),VLOOKUP(_xlfn.CONCAT(I19,H19),'half ppr adp'!$A:$J,10,FALSE))),VLOOKUP(_xlfn.CONCAT(I19,H19),'full ppr adp'!$A:$K,11,FALSE))),\"UND\")","v":38.666666666666664},null,"DJ Chark","JAC",{"$f":"VLOOKUP(_xlfn.CONCAT(P19,O19),'wr data'!A:X,24,FALSE)","v":224.08897487499999},{"$f":"IFERROR(Q19-LARGE($Q$3:$Q$150,'Position Expectations'!$B$5+1),Q19-MIN($Q$3:$Q$150))","v":97.528380374999955},{"$f":"IFERROR(Q19-LARGE($Q$3:$Q$150,Settings!$F$21*Settings!$D$24),Q19-MIN($Q$3:$Q$150))+IF(Settings!$D$26>0,MAX(0,LARGE($Q$3:$Q$150,Settings!$F$21*Settings!$D$24)-LARGE(($Q$3:$Q$150,$J$3:$J$100),Settings!$F$21*(Settings!$D$23+Settings!$D$24+Settings!$D$26))),0)","v":52.340696974999986},{"$f":"IFERROR((IFERROR(IF(Settings!$J$17=1,VLOOKUP(_xlfn.CONCAT(P19,O19),'full ppr adp'!$A:$K,11,FALSE),IF(Settings!$J$17=0,VLOOKUP(_xlfn.CONCAT(P19,O19),'standard adp'!$A:$J,10,FALSE),VLOOKUP(_xlfn.CONCAT(P19,O19),'half ppr adp'!$A:$J,10,FALSE))),VLOOKUP(_xlfn.CONCAT(P19,O19),'full ppr adp'!$A:$K,11,FALSE))),\"UND\")","v":54.666666666666664},null,"Blake Jarwin","DAL",{"$f":"VLOOKUP(_xlfn.CONCAT(W19,V19),'te data'!A:X,24,FALSE)","v":125.29334254499997},{"$f":"IFERROR(X19-LARGE($X$3:$X$54,'Position Expectations'!$B$6+1),X19-MIN($X$3:$X$54))","v":2.6963449449999644},{"$f":"IFERROR(X19-LARGE($X$3:$X$75,Settings!$F$21*Settings!$D$25),X19-MIN($X$3:$X$75))+IF(Settings!$D$26>0,MAX(0,LARGE($X$3:$X$75,Settings!$F$21*Settings!$D$25)-LARGE(($Q$3:$Q$150,$J$3:$J$100,$X$3:$X$75),Settings!$F$21*(Settings!$D$23+Settings!$D$24+Settings!$D$26))),0)","v":-8.1324089550000167},{"$f":"IFERROR((IFERROR(IF(Settings!$J$17=1,VLOOKUP(_xlfn.CONCAT(W19,V19),'full ppr adp'!$A:$K,11,FALSE),IF(Settings!$J$17=0,VLOOKUP(_xlfn.CONCAT(W19,V19),'standard adp'!$A:$J,10,FALSE),VLOOKUP(_xlfn.CONCAT(W19,V19),'half ppr adp'!$A:$J,10,FALSE))),VLOOKUP(_xlfn.CONCAT(W19,V19),'full ppr adp'!$A:$K,11,FALSE))),\"UND\")","v":169.33333333333334},null,{"$f":"VLOOKUP(AD19,'def data'!A:F,6,FALSE)","v":14},"Tampa Bay Buccaneers",{"$f":"VLOOKUP($AD19,'def data'!$A:$F,2,FALSE)","v":12},{"$f":"VLOOKUP($AD19,'def data'!$A:$F,3,FALSE)","v":23},{"$f":"VLOOKUP($AD19,'def data'!$A:$F,4,FALSE)","v":14},{"$f":"IFERROR(IF(Settings!$J$17=1,VLOOKUP(AD19,'full ppr adp'!C:K,9,FALSE),IF(Settings!$J$17=0,VLOOKUP(AD19,'standard adp'!C:J,8,FALSE),VLOOKUP(AD19,'half ppr adp'!C:J,8,FALSE))),VLOOKUP(AD19,'full ppr adp'!C:K,9,FALSE))","v":217}]
["Joe Burrow","CIN",{"$f":"VLOOKUP(A20,'qb data'!G:S,13,FALSE)","v":265.56},{"$f":"IFERROR(C20-LARGE($C$3:$C$34,'Position Expectations'!$B$3+1),C20-MIN($C$3:$C$34))","v":0.6375470999999493},{"$f":"IFERROR(C20-LARGE($C$3:$C$34,Settings!$F$21*Settings!$D$22),C20-MIN($C$3:$C$34))","v":-15.836671200000012},{"$f":"(IFERROR(IF(Settings!$J$17=1,VLOOKUP(_xlfn.CONCAT(B20,A20),'full ppr adp'!$A:$K,11,FALSE),IF(Settings!$J$17=0,VLOOKUP(_xlfn.CONCAT(B20,A20),'standard adp'!$A:$J,10,FALSE),VLOOKUP(_xlfn.CONCAT(B20,A20),'half ppr adp'!$A:$J,10,FALSE))),VLOOKUP(_xlfn.CONCAT(B20,A20),'full ppr adp'!$A:$K,11,FALSE)))","v":151.33333333333334},null,"Melvin Gordon","DEN",{"$f":"VLOOKUP(_xlfn.CONCAT(I20,H20),'rb data'!A:X,24,FALSE)","v":202.97373680000001},{"$f":"IFERROR(J20-LARGE($J$3:$J$100,'Position Expectations'!$B$4+1),J20-MIN($J$3:$J$100))","v":143.40721200000002},{"$f":"IFERROR(J20-LARGE($J$3:$J$100,Settings!$F$21*Settings!$D$23),J20-MIN($J$3:$J$100))+IF(Settings!$D$26>0,MAX(0,LARGE($J$3:$J$100,Settings!$F$21*Settings!$D$23)-LARGE(($Q$3:$Q$150,$J$3:$J$100),Settings!$F$21*(Settings!$D$23+Settings!$D$24+Settings!$D$26))),0)","v":33.91807529999997},{"$f":"IFERROR((IFERROR(IF(Settings!$J$17=1,VLOOKUP(_xlfn.CONCAT(I20,H20),'full ppr adp'!$A:$K,11,FALSE),IF(Settings!$J$17=0,VLOOKUP(_xlfn.CONCAT(I20,H20),'standard adp'!$A:$J,10,FALSE),VLOOKUP(_xlfn.CONCAT(I20,H20),'half ppr adp'!$A:$J,10,FALSE))),VLOOKUP(_xlfn.CONCAT(I20,H20),'full ppr adp'!$A:$K,11,FALSE))),\"UND\")","v":41.333333333333336},null,"Terry McLaurin","WAS",{"$f":"VLOOKUP(_xlfn.CONCAT(P20,O20),'wr data'!A:X,24,FALSE)","v":220.00790160000003},{"$f":"IFERROR(Q20-LARGE($Q$3:$Q$150,'Position Expectations'!$B$5+1),Q20-MIN($Q$3:$Q$150))","v":93.447307099999989},{"$f":"IFERROR(Q20-LARGE($Q$3:$Q$150,Settings!$F$21*Settings!$D$24),Q20-MIN($Q$3:$Q$150))+IF(Settings!$D$26>0,MAX(0,LARGE($Q$3:$Q$150,Settings!$F$21*Settings!$D$24)-LARGE(($Q$3:$Q$150,$J$3:$J$100),Settings!$F$21*(Settings!$D$23+Settings!$D$24+Settings!$D$26))),0)","v":48.25962370000002},{"$f":"IFERROR((IFERROR(IF(Settings!$J$17=1,VLOOKUP(_xlfn.CONCAT(P20,O20),'full ppr adp'!$A:$K,11,FALSE),IF(Settings!$J$17=0,VLOOKUP(_xlfn.CONCAT(P20,O20),'standard adp'!$A:$J,10,FALSE),VLOOKUP(_xlfn.CONCAT(P20,O20),'half ppr adp'!$A:$J,10,FALSE))),VLOOKUP(_xlfn.CONCAT(P20,O20),'full ppr adp'!$A:$K,11,FALSE))),\"UND\")","v":58},null,"T.J. Hockenson","DET",{"$f":"VLOOKUP(_xlfn.CONCAT(W20,V20),'te data'!A:X,24,FALSE)","v":123.48881424000001},{"$f":"IFERROR(X20-LARGE($X$3:$X$54,'Position Expectations'!$B$6+1),X20-MIN($X$3:$X$54))","v":0.89181664000000183},{"$f":"IFERROR(X20-LARGE($X$3:$X$75,Settings!$F$21*Settings!$D$25),X20-MIN($X$3:$X$75))+IF(Settings!$D$26>0,MAX(0,LARGE($X$3:$X$75,Settings!$F$21*Settings!$D$25)-LARGE(($Q$3:$Q$150,$J$3:$J$100,$X$3:$X$75),Settings!$F$21*(Settings!$D$23+Settings!$D$24+Settings!$D$26))),0)","v":-9.9369372599999792},{"$f":"IFERROR((IFERROR(IF(Settings!$J$17=1,VLOOKUP(_xlfn.CONCAT(W20,V20),'full ppr adp'!$A:$K,11,FALSE),IF(Settings!$J$17=0,VLOOKUP(_xlfn.CONCAT(W20,V20),'standard adp'!$A:$J,10,FALSE),VLOOKUP(_xlfn.CONCAT(W20,V20),'half ppr adp'!$A:$J,10,FALSE))),VLOOKUP(_xlfn.CONCAT(W20,V20),'full ppr adp'!$A:$K,11,FALSE))),\"UND\")","v":128},null,{"$f":"VLOOKUP(AD20,'def data'!A:F,6,FALSE)","v":15},"Seattle Seahawks",{"$f":"VLOOKUP($AD20,'def data'!$A:$F,2,FALSE)","v":14},{"$f":"VLOOKUP($AD20,'def data'!$A:$F,3,FALSE)","v":12},{"$f":"VLOOKUP($AD20,'def data'!$A:$F,4,FALSE)","v":17},{"$f":"IFERROR(IF(Settings!$J$17=1,VLOOKUP(AD20,'full ppr adp'!C:K,9,FALSE),IF(Settings!$J$17=0,VLOOKUP(AD20,'standard adp'!C:J,8,FALSE),VLOOKUP(AD20,'half ppr adp'!C:J,8,FALSE))),VLOOKUP(AD20,'full ppr adp'!C:K,9,FALSE))","v":220.33333333333334}]
["Daniel Jones","NYG",{"$f":"VLOOKUP(A21,'qb data'!G:S,13,FALSE)","v":265.09145000000001},{"$f":"IFERROR(C21-LARGE($C$3:$C$34,'Position Expectations'!$B$3+1),C21-MIN($C$3:$C$34))","v":0.16899709999995594},{"$f":"IFERROR(C21-LARGE($C$3:$C$34,Settings!$F$21*Settings!$D$22),C21-MIN($C$3:$C$34))","v":-16.305221200000005},{"$f":"(IFERROR(IF(Settings!$J$17=1,VLOOKUP(_xlfn.CONCAT(B21,A21),'full ppr adp'!$A:$K,11,FALSE),IF(Settings!$J$17=0,VLOOKUP(_xlfn.CONCAT(B21,A21),'standard adp'!$A:$J,10,FALSE),VLOOKUP(_xlfn.CONCAT(B21,A21),'half ppr adp'!$A:$J,10,FALSE))),VLOOKUP(_xlfn.CONCAT(B21,A21),'full ppr adp'!$A:$K,11,FALSE)))","v":127.66666666666667},null,"Le'Veon Bell","NYJ",{"$f":"VLOOKUP(_xlfn.CONCAT(I21,H21),'rb data'!A:X,24,FALSE)","v":191.57816954},{"$f":"IFERROR(J21-LARGE($J$3:$J$100,'Position Expectations'!$B$4+1),J21-MIN($J$3:$J$100))","v":132.01164474000001},{"$f":"IFERROR(J21-LARGE($J$3:$J$100,Settings!$F$21*Settings!$D$23),J21-MIN($J$3:$J$100))+IF(Settings!$D$26>0,MAX(0,LARGE($J$3:$J$100,Settings!$F$21*Settings!$D$23)-LARGE(($Q$3:$Q$150,$J$3:$J$100),Settings!$F$21*(Settings!$D$23+Settings!$D$24+Settings!$D$26))),0)","v":22.522508039999963},{"$f":"IFERROR((IFERROR(IF(Settings!$J$17=1,VLOOKUP(_xlfn.CONCAT(I21,H21),'full ppr adp'!$A:$K,11,FALSE),IF(Settings!$J$17=0,VLOOKUP(_xlfn.CONCAT(I21,H21),'standard adp'!$A:$J,10,FALSE),VLOOKUP(_xlfn.CONCAT(I21,H21),'half ppr adp'!$A:$J,10,FALSE))),VLOOKUP(_xlfn.CONCAT(I21,H21),'full ppr adp'!$A:$K,11,FALSE))),\"UND\")","v":38},null,"DeVante Parker","MIA",{"$f":"VLOOKUP(_xlfn.CONCAT(P21,O21),'wr data'!A:X,24,FALSE)","v":218.69093730000003},{"$f":"IFERROR(Q21-LARGE($Q$3:$Q$150,'Position Expectations'!$B$5+1),Q21-MIN($Q$3:$Q$150))","v":92.130342799999994},{"$f":"IFERROR(Q21-LARGE($Q$3:$Q$150,Settings!$F$21*Settings!$D$24),Q21-MIN($Q$3:$Q$150))+IF(Settings!$D$26>0,MAX(0,LARGE($Q$3:$Q$150,Settings!$F$21*Settings!$D$24)-LARGE(($Q$3:$Q$150,$J$3:$J$100),Settings!$F$21*(Settings!$D$23+Settings!$D$24+Settings!$D$26))),0)","v":46.942659400000025},{"$f":"IFERROR((IFERROR(IF(Settings!$J$17=1,VLOOKUP(_xlfn.CONCAT(P21,O21),'full ppr adp'!$A:$K,11,FALSE),IF(Settings!$J$17=0,VLOOKUP(_xlfn.CONCAT(P21,O21),'standard adp'!$A:$J,10,FALSE),VLOOKUP(_xlfn.CONCAT(P21,O21),'half ppr adp'!$A:$J,10,FALSE))),VLOOKUP(_xlfn.CONCAT(P21,O21),'full ppr adp'!$A:$K,11,FALSE))),\"UND\")","v":58.666666666666664},null,"Jack Doyle","IND",{"$f":"VLOOKUP(_xlfn.CONCAT(W21,V21),'te data'!A:X,24,FALSE)","v":122.59699760000001},{"$f":"IFERROR(X21-LARGE($X$3:$X$54,'Position Expectations'!$B$6+1),X21-MIN($X$3:$X$54))","v":0},{"$f":"IFERROR(X21-LARGE($X$3:$X$75,Settings!$F$21*Settings!$D$25),X21-MIN($X$3:$X$75))+IF(Settings!$D$26>0,MAX(0,LARGE($X$3:$X$75,Settings!$F$21*Settings!$D$25)-LARGE(($Q$3:$Q$150,$J$3:$J$100,$X$3:$X$75),Settings!$F$21*(Settings!$D$23+Settings!$D$24+Settings!$D$26))),0)","v":-10.828753899999981},{"$f":"IFERROR((IFERROR(IF(Settings!$J$17=1,VLOOKUP(_xlfn.CONCAT(W21,V21),'full ppr adp'!$A:$K,11,FALSE),IF(Settings!$J$17=0,VLOOKUP(_xlfn.CONCAT(W21,V21),'standard adp'!$A:$J,10,FALSE),VLOOKUP(_xlfn.CONCAT(W21,V21),'half ppr adp'!$A:$J,10,FALSE))),VLOOKUP(_xlfn.CONCAT(W21,V21),'full ppr adp'!$A:$K,11,FALSE))),\"UND\")","v":158},null,{"$f":"VLOOKUP(AD21,'def data'!A:F,6,FALSE)","v":16},"Denver Broncos",{"$f":"VLOOKUP($AD21,'def data'!$A:$F,2,FALSE)","v":25},{"$f":"VLOOKUP($AD21,'def data'!$A:$F,3,FALSE)","v":16},{"$f":"VLOOKUP($AD21,'def data'!$A:$F,4,FALSE)","v":16},{"$f":"IFERROR(IF(Settings!$J$17=1,VLOOKUP(AD21,'full ppr adp'!C:K,9,FALSE),IF(Settings!$J$17=0,VLOOKUP(AD21,'standard adp'!C:J,8,FALSE),VLOOKUP(AD21,'half ppr adp'!C:J,8,FALSE))),VLOOKUP(AD21,'full ppr adp'!C:K,9,FALSE))","v":195}]
["Jimmy Garoppolo","SF",{"$f":"VLOOKUP(A22,'qb data'!G:S,13,FALSE)","v":264.92245290000005},{"$f":"IFERROR(C22-LARGE($C$3:$C$34,'Position Expectations'!$B$3+1),C22-MIN($C$3:$C$34))","v":0},{"$f":"IFERROR(C22-LARGE($C$3:$C$34,Settings!$F$21*Settings!$D$22),C22-MIN($C$3:$C$34))","v":-16.474218299999961},{"$f":"(IFERROR(IF(Settings!$J$17=1,VLOOKUP(_xlfn.CONCAT(B22,A22),'full ppr adp'!$A:$K,11,FALSE),IF(Settings!$J$17=0,VLOOKUP(_xlfn.CONCAT(B22,A22),'standard adp'!$A:$J,10,FALSE),VLOOKUP(_xlfn.CONCAT(B22,A22),'half ppr adp'!$A:$J,10,FALSE))),VLOOKUP(_xlfn.CONCAT(B22,A22),'full ppr adp'!$A:$K,11,FALSE)))","v":157.66666666666666},null,"Chris Carson","SEA",{"$f":"VLOOKUP(_xlfn.CONCAT(I22,H22),'rb data'!A:X,24,FALSE)","v":186.97753560000001},{"$f":"IFERROR(J22-LARGE($J$3:$J$100,'Position Expectations'!$B$4+1),J22-MIN($J$3:$J$100))","v":127.41101080000001},{"$f":"IFERROR(J22-LARGE($J$3:$J$100,Settings!$F$21*Settings!$D$23),J22-MIN($J$3:$J$100))+IF(Settings!$D$26>0,MAX(0,LARGE($J$3:$J$100,Settings!$F$21*Settings!$D$23)-LARGE(($Q$3:$Q$150,$J$3:$J$100),Settings!$F$21*(Settings!$D$23+Settings!$D$24+Settings!$D$26))),0)","v":17.921874099999968},{"$f":"IFERROR((IFERROR(IF(Settings!$J$17=1,VLOOKUP(_xlfn.CONCAT(I22,H22),'full ppr adp'!$A:$K,11,FALSE),IF(Settings!$J$17=0,VLOOKUP(_xlfn.CONCAT(I22,H22),'standard adp'!$A:$J,10,FALSE),VLOOKUP(_xlfn.CONCAT(I22,H22),'half ppr adp'!$A:$J,10,FALSE))),VLOOKUP(_xlfn.CONCAT(I22,H22),'full ppr adp'!$A:$K,11,FALSE))),\"UND\")","v":32.333333333333336},null,"Adam Thielen","MIN",{"$f":"VLOOKUP(_xlfn.CONCAT(P22,O22),'wr data'!A:X,24,FALSE)","v":206.55875280000001},{"$f":"IFERROR(Q22-LARGE($Q$3:$Q$150,'Position Expectations'!$B$5+1),Q22-MIN($Q$3:$Q$150))","v":79.998158299999972},{"$f":"IFERROR(Q22-LARGE($Q$3:$Q$150,Settings!$F$21*Settings!$D$24),Q22-MIN($Q$3:$Q$150))+IF(Settings!$D$26>0,MAX(0,LARGE($Q$3:$Q$150,Settings!$F$21*Settings!$D$24)-LARGE(($Q$3:$Q$150,$J$3:$J$100),Settings!$F$21*(Settings!$D$23+Settings!$D$24+Settings!$D$26))),0)","v":34.810474900000003},{"$f":"IFERROR((IFERROR(IF(Settings!$J$17=1,VLOOKUP(_xlfn.CONCAT(P22,O22),'full ppr adp'!$A:$K,11,FALSE),IF(Settings!$J$17=0,VLOOKUP(_xlfn.CONCAT(P22,O22),'standard adp'!$A:$J,10,FALSE),VLOOKUP(_xlfn.CONCAT(P22,O22),'half ppr adp'!$A:$J,10,FALSE))),VLOOKUP(_xlfn.CONCAT(P22,O22),'full ppr adp'!$A:$K,11,FALSE))),\"UND\")","v":33.666666666666664},null,"Eric Ebron","PIT",{"$f":"VLOOKUP(_xlfn.CONCAT(W22,V22),'te data'!A:X,24,FALSE)","v":122.03682260000001},{"$f":"IFERROR(X22-LARGE($X$3:$X$54,'Position Expectations'!$B$6+1),X22-MIN($X$3:$X$54))","v":-0.56017500000000098},{"$f":"IFERROR(X22-LARGE($X$3:$X$75,Settings!$F$21*Settings!$D$25),X22-MIN($X$3:$X$75))+IF(Settings!$D$26>0,MAX(0,LARGE($X$3:$X$75,Settings!$F$21*Settings!$D$25)-LARGE(($Q$3:$Q$150,$J$3:$J$100,$X$3:$X$75),Settings!$F$21*(Settings!$D$23+Settings!$D$24+Settings!$D$26))),0)","v":-11.388928899999982},{"$f":"IFERROR((IFERROR(IF(Settings!$J$17=1,VLOOKUP(_xlfn.CONCAT(W22,V22),'full ppr adp'!$A:$K,11,FALSE),IF(Settings!$J$17=0,VLOOKUP(_xlfn.CONCAT(W22,V22),'standard adp'!$A:$J,10,FALSE),VLOOKUP(_xlfn.CONCAT(W22,V22),'half ppr adp'!$A:$J,10,FALSE))),VLOOKUP(_xlfn.CONCAT(W22,V22),'full ppr adp'!$A:$K,11,FALSE))),\"UND\")","v":151.33333333333334},null,{"$f":"VLOOKUP(AD22,'def data'!A:F,6,FALSE)","v":17},"Chicago Bears",{"$f":"VLOOKUP($AD22,'def data'!$A:$F,2,FALSE)","v":31},{"$f":"VLOOKUP($AD22,'def data'!$A:$F,3,FALSE)","v":24},{"$f":"VLOOKUP($AD22,'def data'!$A:$F,4,FALSE)","v":15},{"$f":"IFERROR(IF(Settings!$J$17=1,VLOOKUP(AD22,'full ppr adp'!C:K,9,FALSE),IF(Settings!$J$17=0,VLOOKUP(AD22,'standard adp'!C:J,8,FALSE),VLOOKUP(AD22,'half ppr adp'!C:J,8,FALSE))),VLOOKUP(AD22,'full ppr adp'!C:K,9,FALSE))","v":155.66666666666666}]
["Ryan Tannehill","TEN",{"$f":"VLOOKUP(A23,'qb data'!G:S,13,FALSE)","v":260.50934503999997},{"$f":"IFERROR(C23-LARGE($C$3:$C$34,'Position Expectations'!$B$3+1),C23-MIN($C$3:$C$34))","v":-4.4131078600000819},{"$f":"IFERROR(C23-LARGE($C$3:$C$34,Settings!$F$21*Settings!$D$22),C23-MIN($C$3:$C$34))","v":-20.887326160000043},{"$f":"(IFERROR(IF(Settings!$J$17=1,VLOOKUP(_xlfn.CONCAT(B23,A23),'full ppr adp'!$A:$K,11,FALSE),IF(Settings!$J$17=0,VLOOKUP(_xlfn.CONCAT(B23,A23),'standard adp'!$A:$J,10,FALSE),VLOOKUP(_xlfn.CONCAT(B23,A23),'half ppr adp'!$A:$J,10,FALSE))),VLOOKUP(_xlfn.CONCAT(B23,A23),'full ppr adp'!$A:$K,11,FALSE)))","v":148.33333333333334},null,"Devin Singletary","BUF",{"$f":"VLOOKUP(_xlfn.CONCAT(I23,H23),'rb data'!A:X,24,FALSE)","v":175.64120170000001},{"$f":"IFERROR(J23-LARGE($J$3:$J$100,'Position Expectations'!$B$4+1),J23-MIN($J$3:$J$100))","v":116.07467690000001},{"$f":"IFERROR(J23-LARGE($J$3:$J$100,Settings!$F$21*Settings!$D$23),J23-MIN($J$3:$J$100))+IF(Settings!$D$26>0,MAX(0,LARGE($J$3:$J$100,Settings!$F$21*Settings!$D$23)-LARGE(($Q$3:$Q$150,$J$3:$J$100),Settings!$F$21*(Settings!$D$23+Settings!$D$24+Settings!$D$26))),0)","v":6.5855401999999685},{"$f":"IFERROR((IFERROR(IF(Settings!$J$17=1,VLOOKUP(_xlfn.CONCAT(I23,H23),'full ppr adp'!$A:$K,11,FALSE),IF(Settings!$J$17=0,VLOOKUP(_xlfn.CONCAT(I23,H23),'standard adp'!$A:$J,10,FALSE),VLOOKUP(_xlfn.CONCAT(I23,H23),'half ppr adp'!$A:$J,10,FALSE))),VLOOKUP(_xlfn.CONCAT(I23,H23),'full ppr adp'!$A:$K,11,FALSE))),\"UND\")","v":50.333333333333336},null,"A.J. Green","CIN",{"$f":"VLOOKUP(_xlfn.CONCAT(P23,O23),'wr data'!A:X,24,FALSE)","v":205.37434120000006},{"$f":"IFERROR(Q23-LARGE($Q$3:$Q$150,'Position Expectations'!$B$5+1),Q23-MIN($Q$3:$Q$150))","v":78.813746700000024},{"$f":"IFERROR(Q23-LARGE($Q$3:$Q$150,Settings!$F$21*Settings!$D$24),Q23-MIN($Q$3:$Q$150))+IF(Settings!$D$26>0,MAX(0,LARGE($Q$3:$Q$150,Settings!$F$21*Settings!$D$24)-LARGE(($Q$3:$Q$150,$J$3:$J$100),Settings!$F$21*(Settings!$D$23+Settings!$D$24+Settings!$D$26))),0)","v":33.626063300000055},{"$f":"IFERROR((IFERROR(IF(Settings!$J$17=1,VLOOKUP(_xlfn.CONCAT(P23,O23),'full ppr adp'!$A:$K,11,FALSE),IF(Settings!$J$17=0,VLOOKUP(_xlfn.CONCAT(P23,O23),'standard adp'!$A:$J,10,FALSE),VLOOKUP(_xlfn.CONCAT(P23,O23),'half ppr adp'!$A:$J,10,FALSE))),VLOOKUP(_xlfn.CONCAT(P23,O23),'full ppr adp'!$A:$K,11,FALSE))),\"UND\")","v":70},null,"Ian Thomas","CAR",{"$f":"VLOOKUP(_xlfn.CONCAT(W23,V23),'te data'!A:X,24,FALSE)","v":119.86212160000001},{"$f":"IFERROR(X23-LARGE($X$3:$X$54,'Position Expectations'!$B$6+1),X23-MIN($X$3:$X$54))","v":-2.7348759999999999},{"$f":"IFERROR(X23-LARGE($X$3:$X$75,Settings!$F$21*Settings!$D$25),X23-MIN($X$3:$X$75))+IF(Settings!$D$26>0,MAX(0,LARGE($X$3:$X$75,Settings!$F$21*Settings!$D$25)-LARGE(($Q$3:$Q$150,$J$3:$J$100,$X$3:$X$75),Settings!$F$21*(Settings!$D$23+Settings!$D$24+Settings!$D$26))),0)","v":-13.563629899999981},{"$f":"IFERROR((IFERROR(IF(Settings!$J$17=1,VLOOKUP(_xlfn.CONCAT(W23,V23),'full ppr adp'!$A:$K,11,FALSE),IF(Settings!$J$17=0,VLOOKUP(_xlfn.CONCAT(W23,V23),'standard adp'!$A:$J,10,FALSE),VLOOKUP(_xlfn.CONCAT(W23,V23),'half ppr adp'!$A:$J,10,FALSE))),VLOOKUP(_xlfn.CONCAT(W23,V23),'full ppr adp'!$A:$K,11,FALSE))),\"UND\")","v":180.5},null,{"$f":"VLOOKUP(AD23,'def data'!A:F,6,FALSE)","v":18},"Jacksonville Jaguars",{"$f":"VLOOKUP($AD23,'def data'!$A:$F,2,FALSE)","v":17},{"$f":"VLOOKUP($AD23,'def data'!$A:$F,3,FALSE)","v":21},{"$f":"VLOOKUP($AD23,'def data'!$A:$F,4,FALSE)","v":20},{"$f":"IFERROR(IF(Settings!$J$17=1,VLOOKUP(AD23,'full ppr adp'!C:K,9,FALSE),IF(Settings!$J$17=0,VLOOKUP(AD23,'standard adp'!C:J,8,FALSE),VLOOKUP(AD23,'half ppr adp'!C:J,8,FALSE))),VLOOKUP(AD23,'full ppr adp'!C:K,9,FALSE))","v":288.33333333333331}]
["Fitzpatrick / Tagovailoa","MIA",{"$f":"VLOOKUP(A24,'qb data'!G:S,13,FALSE)","v":259.98432000000003},{"$f":"IFERROR(C24-LARGE($C$3:$C$34,'Position Expectations'!$B$3+1),C24-MIN($C$3:$C$34))","v":-4.9381329000000278},{"$f":"IFERROR(C24-LARGE($C$3:$C$34,Settings!$F$21*Settings!$D$22),C24-MIN($C$3:$C$34))","v":-21.412351199999989},{"$f":"(IFERROR(IF(Settings!$J$17=1,VLOOKUP(_xlfn.CONCAT(B24,A24),'full ppr adp'!$A:$K,11,FALSE),IF(Settings!$J$17=0,VLOOKUP(_xlfn.CONCAT(B24,A24),'standard adp'!$A:$J,10,FALSE),VLOOKUP(_xlfn.CONCAT(B24,A24),'half ppr adp'!$A:$J,10,FALSE))),VLOOKUP(_xlfn.CONCAT(B24,A24),'full ppr adp'!$A:$K,11,FALSE)))","v":239.5},null,"Mark Ingram","BAL",{"$f":"VLOOKUP(_xlfn.CONCAT(I24,H24),'rb data'!A:X,24,FALSE)","v":174.16882770000004},{"$f":"IFERROR(J24-LARGE($J$3:$J$100,'Position Expectations'!$B$4+1),J24-MIN($J$3:$J$100))","v":114.60230290000004},{"$f":"IFERROR(J24-LARGE($J$3:$J$100,Settings!$F$21*Settings!$D$23),J24-MIN($J$3:$J$100))+IF(Settings!$D$26>0,MAX(0,LARGE($J$3:$J$100,Settings!$F$21*Settings!$D$23)-LARGE(($Q$3:$Q$150,$J$3:$J$100),Settings!$F$21*(Settings!$D$23+Settings!$D$24+Settings!$D$26))),0)","v":5.1131661999999949},{"$f":"IFERROR((IFERROR(IF(Settings!$J$17=1,VLOOKUP(_xlfn.CONCAT(I24,H24),'full ppr adp'!$A:$K,11,FALSE),IF(Settings!$J$17=0,VLOOKUP(_xlfn.CONCAT(I24,H24),'standard adp'!$A:$J,10,FALSE),VLOOKUP(_xlfn.CONCAT(I24,H24),'half ppr adp'!$A:$J,10,FALSE))),VLOOKUP(_xlfn.CONCAT(I24,H24),'full ppr adp'!$A:$K,11,FALSE))),\"UND\")","v":58.333333333333336},null,"Keenan Allen","LAC",{"$f":"VLOOKUP(_xlfn.CONCAT(P24,O24),'wr data'!A:X,24,FALSE)","v":205.09230079999998},{"$f":"IFERROR(Q24-LARGE($Q$3:$Q$150,'Position Expectations'!$B$5+1),Q24-MIN($Q$3:$Q$150))","v":78.531706299999939},{"$f":"IFERROR(Q24-LARGE($Q$3:$Q$150,Settings!$F$21*Settings!$D$24),Q24-MIN($Q$3:$Q$150))+IF(Settings!$D$26>0,MAX(0,LARGE($Q$3:$Q$150,Settings!$F$21*Settings!$D$24)-LARGE(($Q$3:$Q$150,$J$3:$J$100),Settings!$F$21*(Settings!$D$23+Settings!$D$24+Settings!$D$26))),0)","v":33.34402289999997},{"$f":"IFERROR((IFERROR(IF(Settings!$J$17=1,VLOOKUP(_xlfn.CONCAT(P24,O24),'full ppr adp'!$A:$K,11,FALSE),IF(Settings!$J$17=0,VLOOKUP(_xlfn.CONCAT(P24,O24),'standard adp'!$A:$J,10,FALSE),VLOOKUP(_xlfn.CONCAT(P24,O24),'half ppr adp'!$A:$J,10,FALSE))),VLOOKUP(_xlfn.CONCAT(P24,O24),'full ppr adp'!$A:$K,11,FALSE))),\"UND\")","v":49},null,"Austin Hooper","CLE",{"$f":"VLOOKUP(_xlfn.CONCAT(W24,V24),'te data'!A:X,24,FALSE)","v":113.15176328},{"$f":"IFERROR(X24-LARGE($X$3:$X$54,'Position Expectations'!$B$6+1),X24-MIN($X$3:$X$54))","v":-9.4452343200000115},{"$f":"IFERROR(X24-LARGE($X$3:$X$75,Settings!$F$21*Settings!$D$25),X24-MIN($X$3:$X$75))+IF(Settings!$D$26>0,MAX(0,LARGE($X$3:$X$75,Settings!$F$21*Settings!$D$25)-LARGE(($Q$3:$Q$150,$J$3:$J$100,$X$3:$X$75),Settings!$F$21*(Settings!$D$23+Settings!$D$24+Settings!$D$26))),0)","v":-20.273988219999993},{"$f":"IFERROR((IFERROR(IF(Settings!$J$17=1,VLOOKUP(_xlfn.CONCAT(W24,V24),'full ppr adp'!$A:$K,11,FALSE),IF(Settings!$J$17=0,VLOOKUP(_xlfn.CONCAT(W24,V24),'standard adp'!$A:$J,10,FALSE),VLOOKUP(_xlfn.CONCAT(W24,V24),'half ppr adp'!$A:$J,10,FALSE))),VLOOKUP(_xlfn.CONCAT(W24,V24),'full ppr adp'!$A:$K,11,FALSE))),\"UND\")","v":112.66666666666667},null,{"$f":"VLOOKUP(AD24,'def data'!A:F,6,FALSE)","v":19},"Green Bay Packers",{"$f":"VLOOKUP($AD24,'def data'!$A:$F,2,FALSE)","v":26},{"$f":"VLOOKUP($AD24,'def data'!$A:$F,3,FALSE)","v":26},{"$f":"VLOOKUP($AD24,'def data'!$A:$F,4,FALSE)","v":18},{"$f":"IFERROR(IF(Settings!$J$17=1,VLOOKUP(AD24,'full ppr adp'!C:K,9,FALSE),IF(Settings!$J$17=0,VLOOKUP(AD24,'standard adp'!C:J,8,FALSE),VLOOKUP(AD24,'half ppr adp'!C:J,8,FALSE))),VLOOKUP(AD24,'full ppr adp'!C:K,9,FALSE))","v":240.33333333333334}]
["Derek Carr","LV",{"$f":"VLOOKUP(A25,'qb data'!G:S,13,FALSE)","v":257.28675199999998},{"$f":"IFERROR(C25-LARGE($C$3:$C$34,'Position Expectations'!$B$3+1),C25-MIN($C$3:$C$34))","v":-7.6357009000000744},{"$f":"IFERROR(C25-LARGE($C$3:$C$34,Settings!$F$21*Settings!$D$22),C25-MIN($C$3:$C$34))","v":-24.109919200000036},{"$f":"(IFERROR(IF(Settings!$J$17=1,VLOOKUP(_xlfn.CONCAT(B25,A25),'full ppr adp'!$A:$K,11,FALSE),IF(Settings!$J$17=0,VLOOKUP(_xlfn.CONCAT(B25,A25),'standard adp'!$A:$J,10,FALSE),VLOOKUP(_xlfn.CONCAT(B25,A25),'half ppr adp'!$A:$J,10,FALSE))),VLOOKUP(_xlfn.CONCAT(B25,A25),'full ppr adp'!$A:$K,11,FALSE)))","v":204.66666666666666},null,"Raheem Mostert","SF",{"$f":"VLOOKUP(_xlfn.CONCAT(I25,H25),'rb data'!A:X,24,FALSE)","v":169.93046114400002},{"$f":"IFERROR(J25-LARGE($J$3:$J$100,'Position Expectations'!$B$4+1),J25-MIN($J$3:$J$100))","v":110.36393634400002},{"$f":"IFERROR(J25-LARGE($J$3:$J$100,Settings!$F$21*Settings!$D$23),J25-MIN($J$3:$J$100))+IF(Settings!$D$26>0,MAX(0,LARGE($J$3:$J$100,Settings!$F$21*Settings!$D$23)-LARGE(($Q$3:$Q$150,$J$3:$J$100),Settings!$F$21*(Settings!$D$23+Settings!$D$24+Settings!$D$26))),0)","v":0.87479964399997812},{"$f":"IFERROR((IFERROR(IF(Settings!$J$17=1,VLOOKUP(_xlfn.CONCAT(I25,H25),'full ppr adp'!$A:$K,11,FALSE),IF(Settings!$J$17=0,VLOOKUP(_xlfn.CONCAT(I25,H25),'standard adp'!$A:$J,10,FALSE),VLOOKUP(_xlfn.CONCAT(I25,H25),'half ppr adp'!$A:$J,10,FALSE))),VLOOKUP(_xlfn.CONCAT(I25,H25),'full ppr adp'!$A:$K,11,FALSE))),\"UND\")","v":60.666666666666664},null,"Stefon Diggs","BUF",{"$f":"VLOOKUP(_xlfn.CONCAT(P25,O25),'wr data'!A:X,24,FALSE)","v":203.17272479000002},{"$f":"IFERROR(Q25-LARGE($Q$3:$Q$150,'Position Expectations'!$B$5+1),Q25-MIN($Q$3:$Q$150))","v":76.612130289999982},{"$f":"IFERROR(Q25-LARGE($Q$3:$Q$150,Settings!$F$21*Settings!$D$24),Q25-MIN($Q$3:$Q$150))+IF(Settings!$D$26>0,MAX(0,LARGE($Q$3:$Q$150,Settings!$F$21*Settings!$D$24)-LARGE(($Q$3:$Q$150,$J$3:$J$100),Settings!$F$21*(Settings!$D$23+Settings!$D$24+Settings!$D$26))),0)","v":31.424446890000013},{"$f":"IFERROR((IFERROR(IF(Settings!$J$17=1,VLOOKUP(_xlfn.CONCAT(P25,O25),'full ppr adp'!$A:$K,11,FALSE),IF(Settings!$J$17=0,VLOOKUP(_xlfn.CONCAT(P25,O25),'standard adp'!$A:$J,10,FALSE),VLOOKUP(_xlfn.CONCAT(P25,O25),'half ppr adp'!$A:$J,10,FALSE))),VLOOKUP(_xlfn.CONCAT(P25,O25),'full ppr adp'!$A:$K,11,FALSE))),\"UND\")","v":59.666666666666664},null,"Tyler Eifert","JAC",{"$f":"VLOOKUP(_xlfn.CONCAT(W25,V25),'te data'!A:X,24,FALSE)","v":105.24092040000001},{"$f":"IFERROR(X25-LARGE($X$3:$X$54,'Position Expectations'!$B$6+1),X25-MIN($X$3:$X$54))","v":-17.356077200000001},{"$f":"IFERROR(X25-LARGE($X$3:$X$75,Settings!$F$21*Settings!$D$25),X25-MIN($X$3:$X$75))+IF(Settings!$D$26>0,MAX(0,LARGE($X$3:$X$75,Settings!$F$21*Settings!$D$25)-LARGE(($Q$3:$Q$150,$J$3:$J$100,$X$3:$X$75),Settings!$F$21*(Settings!$D$23+Settings!$D$24+Settings!$D$26))),0)","v":-28.184831099999982},{"$f":"IFERROR((IFERROR(IF(Settings!$J$17=1,VLOOKUP(_xlfn.CONCAT(W25,V25),'full ppr adp'!$A:$K,11,FALSE),IF(Settings!$J$17=0,VLOOKUP(_xlfn.CONCAT(W25,V25),'standard adp'!$A:$J,10,FALSE),VLOOKUP(_xlfn.CONCAT(W25,V25),'half ppr adp'!$A:$J,10,FALSE))),VLOOKUP(_xlfn.CONCAT(W25,V25),'full ppr adp'!$A:$K,11,FALSE))),\"UND\")","v":288},null,{"$f":"VLOOKUP(AD25,'def data'!A:F,6,FALSE)","v":20},"Dallas Cowboys",{"$f":"VLOOKUP($AD25,'def data'!$A:$F,2,FALSE)","v":27},{"$f":"VLOOKUP($AD25,'def data'!$A:$F,3,FALSE)","v":18},{"$f":"VLOOKUP($AD25,'def data'!$A:$F,4,FALSE)","v":19},{"$f":"IFERROR(IF(Settings!$J$17=1,VLOOKUP(AD25,'full ppr adp'!C:K,9,FALSE),IF(Settings!$J$17=0,VLOOKUP(AD25,'standard adp'!C:J,8,FALSE),VLOOKUP(AD25,'half ppr adp'!C:J,8,FALSE))),VLOOKUP(AD25,'full ppr adp'!C:K,9,FALSE))","v":215.66666666666666}]
["Baker Mayfield","CLE",{"$f":"VLOOKUP(A26,'qb data'!G:S,13,FALSE)","v":246.46554900000001},{"$f":"IFERROR(C26-LARGE($C$3:$C$34,'Position Expectations'!$B$3+1),C26-MIN($C$3:$C$34))","v":-18.456903900000043},{"$f":"IFERROR(C26-LARGE($C$3:$C$34,Settings!$F$21*Settings!$D$22),C26-MIN($C$3:$C$34))","v":-34.931122200000004},{"$f":"(IFERROR(IF(Settings!$J$17=1,VLOOKUP(_xlfn.CONCAT(B26,A26),'full ppr adp'!$A:$K,11,FALSE),IF(Settings!$J$17=0,VLOOKUP(_xlfn.CONCAT(B26,A26),'standard adp'!$A:$J,10,FALSE),VLOOKUP(_xlfn.CONCAT(B26,A26),'half ppr adp'!$A:$J,10,FALSE))),VLOOKUP(_xlfn.CONCAT(B26,A26),'full ppr adp'!$A:$K,11,FALSE)))","v":144},null,"Cam Akers","LAR",{"$f":"VLOOKUP(_xlfn.CONCAT(I26,H26),'rb data'!A:X,24,FALSE)","v":169.05566150000004},{"$f":"IFERROR(J26-LARGE($J$3:$J$100,'Position Expectations'!$B$4+1),J26-MIN($J$3:$J$100))","v":109.48913670000005},{"$f":"IFERROR(J26-LARGE($J$3:$J$100,Settings!$F$21*Settings!$D$23),J26-MIN($J$3:$J$100))+IF(Settings!$D$26>0,MAX(0,LARGE($J$3:$J$100,Settings!$F$21*Settings!$D$23)-LARGE(($Q$3:$Q$150,$J$3:$J$100),Settings!$F$21*(Settings!$D$23+Settings!$D$24+Settings!$D$26))),0)","v":0},{"$f":"IFERROR((IFERROR(IF(Settings!$J$17=1,VLOOKUP(_xlfn.CONCAT(I26,H26),'full ppr adp'!$A:$K,11,FALSE),IF(Settings!$J$17=0,VLOOKUP(_xlfn.CONCAT(I26,H26),'standard adp'!$A:$J,10,FALSE),VLOOKUP(_xlfn.CONCAT(I26,H26),'half ppr adp'!$A:$J,10,FALSE))),VLOOKUP(_xlfn.CONCAT(I26,H26),'full ppr adp'!$A:$K,11,FALSE))),\"UND\")","v":62},null,"Courtland Sutton","DEN",{"$f":"VLOOKUP(_xlfn.CONCAT(P26,O26),'wr data'!A:X,24,FALSE)","v":198.71181120000003},{"$f":"IFERROR(Q26-LARGE($Q$3:$Q$150,'Position Expectations'!$B$5+1),Q26-MIN($Q$3:$Q$150))","v":72.151216699999992},{"$f":"IFERROR(Q26-LARGE($Q$3:$Q$150,Settings!$F$21*Settings!$D$24),Q26-MIN($Q$3:$Q$150))+IF(Settings!$D$26>0,MAX(0,LARGE($Q$3:$Q$150,Settings!$F$21*Settings!$D$24)-LARGE(($Q$3:$Q$150,$J$3:$J$100),Settings!$F$21*(Settings!$D$23+Settings!$D$24+Settings!$D$26))),0)","v":26.963533300000023},{"$f":"IFERROR((IFERROR(IF(Settings!$J$17=1,VLOOKUP(_xlfn.CONCAT(P26,O26),'full ppr adp'!$A:$K,11,FALSE),IF(Settings!$J$17=0,VLOOKUP(_xlfn.CONCAT(P26,O26),'standard adp'!$A:$J,10,FALSE),VLOOKUP(_xlfn.CONCAT(P26,O26),'half ppr adp'!$A:$J,10,FALSE))),VLOOKUP(_xlfn.CONCAT(P26,O26),'full ppr adp'!$A:$K,11,FALSE))),\"UND\")","v":42.333333333333336},null,"Dawson Knox","BUF",{"$f":"VLOOKUP(_xlfn.CONCAT(W26,V26),'te data'!A:X,24,FALSE)","v":100.29829119999999},{"$f":"IFERROR(X26-LARGE($X$3:$X$54,'Position Expectations'!$B$6+1),X26-MIN($X$3:$X$54))","v":-22.298706400000015},{"$f":"IFERROR(X26-LARGE($X$3:$X$75,Settings!$F$21*Settings!$D$25),X26-MIN($X$3:$X$75))+IF(Settings!$D$26>0,MAX(0,LARGE($X$3:$X$75,Settings!$F$21*Settings!$D$25)-LARGE(($Q$3:$Q$150,$J$3:$J$100,$X$3:$X$75),Settings!$F$21*(Settings!$D$23+Settings!$D$24+Settings!$D$26))),0)","v":-33.127460299999996},{"$f":"IFERROR((IFERROR(IF(Settings!$J$17=1,VLOOKUP(_xlfn.CONCAT(W26,V26),'full ppr adp'!$A:$K,11,FALSE),IF(Settings!$J$17=0,VLOOKUP(_xlfn.CONCAT(W26,V26),'standard adp'!$A:$J,10,FALSE),VLOOKUP(_xlfn.CONCAT(W26,V26),'half ppr adp'!$A:$J,10,FALSE))),VLOOKUP(_xlfn.CONCAT(W26,V26),'full ppr adp'!$A:$K,11,FALSE))),\"UND\")","v":239},null,{"$f":"VLOOKUP(AD26,'def data'!A:F,6,FALSE)","v":21},"Los Angeles Chargers",{"$f":"VLOOKUP($AD26,'def data'!$A:$F,2,FALSE)","v":29},{"$f":"VLOOKUP($AD26,'def data'!$A:$F,3,FALSE)","v":11},{"$f":"VLOOKUP($AD26,'def data'!$A:$F,4,FALSE)","v":21},{"$f":"IFERROR(IF(Settings!$J$17=1,VLOOKUP(AD26,'full ppr adp'!C:K,9,FALSE),IF(Settings!$J$17=0,VLOOKUP(AD26,'standard adp'!C:J,8,FALSE),VLOOKUP(AD26,'half ppr adp'!C:J,8,FALSE))),VLOOKUP(AD26,'full ppr adp'!C:K,9,FALSE))","v":196.66666666666666}]
["Teddy Bridgewater","CAR",{"$f":"VLOOKUP(A27,'qb data'!G:S,13,FALSE)","v":243.06692399999997},{"$f":"IFERROR(C27-LARGE($C$3:$C$34,'Position Expectations'!$B$3+1),C27-MIN($C$3:$C$34))","v":-21.855528900000081},{"$f":"IFERROR(C27-LARGE($C$3:$C$34,Settings!$F$21*Settings!$D$22),C27-MIN($C$3:$C$34))","v":-38.329747200000043},{"$f":"(IFERROR(IF(Settings!$J$17=1,VLOOKUP(_xlfn.CONCAT(B27,A27),'full ppr adp'!$A:$K,11,FALSE),IF(Settings!$J$17=0,VLOOKUP(_xlfn.CONCAT(B27,A27),'standard adp'!$A:$J,10,FALSE),VLOOKUP(_xlfn.CONCAT(B27,A27),'half ppr adp'!$A:$J,10,FALSE))),VLOOKUP(_xlfn.CONCAT(B27,A27),'full ppr adp'!$A:$K,11,FALSE)))","v":194},null,"Tarik Cohen","CHI",{"$f":"VLOOKUP(_xlfn.CONCAT(I27,H27),'rb data'!A:X,24,FALSE)","v":168.10738322},{"$f":"IFERROR(J27-LARGE($J$3:$J$100,'Position Expectations'!$B$4+1),J27-MIN($J$3:$J$100))","v":108.54085842000001},{"$f":"IFERROR(J27-LARGE($J$3:$J$100,Settings!$F$21*Settings!$D$23),J27-MIN($J$3:$J$100))+IF(Settings!$D$26>0,MAX(0,LARGE($J$3:$J$100,Settings!$F$21*Settings!$D$23)-LARGE(($Q$3:$Q$150,$J$3:$J$100),Settings!$F$21*(Settings!$D$23+Settings!$D$24+Settings!$D$26))),0)","v":-0.94827828000003933},{"$f":"IFERROR((IFERROR(IF(Settings!$J$17=1,VLOOKUP(_xlfn.CONCAT(I27,H27),'full ppr adp'!$A:$K,11,FALSE),IF(Settings!$J$17=0,VLOOKUP(_xlfn.CONCAT(I27,H27),'standard adp'!$A:$J,10,FALSE),VLOOKUP(_xlfn.CONCAT(I27,H27),'half ppr adp'!$A:$J,10,FALSE))),VLOOKUP(_xlfn.CONCAT(I27,H27),'full ppr adp'!$A:$K,11,FALSE))),\"UND\")","v":88},null,"T.Y. Hilton","IND",{"$f":"VLOOKUP(_xlfn.CONCAT(P27,O27),'wr data'!A:X,24,FALSE)","v":193.37022240000002},{"$f":"IFERROR(Q27-LARGE($Q$3:$Q$150,'Position Expectations'!$B$5+1),Q27-MIN($Q$3:$Q$150))","v":66.809627899999981},{"$f":"IFERROR(Q27-LARGE($Q$3:$Q$150,Settings!$F$21*Settings!$D$24),Q27-MIN($Q$3:$Q$150))+IF(Settings!$D$26>0,MAX(0,LARGE($Q$3:$Q$150,Settings!$F$21*Settings!$D$24)-LARGE(($Q$3:$Q$150,$J$3:$J$100),Settings!$F$21*(Settings!$D$23+Settings!$D$24+Settings!$D$26))),0)","v":21.621944500000012},{"$f":"IFERROR((IFERROR(IF(Settings!$J$17=1,VLOOKUP(_xlfn.CONCAT(P27,O27),'full ppr adp'!$A:$K,11,FALSE),IF(Settings!$J$17=0,VLOOKUP(_xlfn.CONCAT(P27,O27),'standard adp'!$A:$J,10,FALSE),VLOOKUP(_xlfn.CONCAT(P27,O27),'half ppr adp'!$A:$J,10,FALSE))),VLOOKUP(_xlfn.CONCAT(P27,O27),'full ppr adp'!$A:$K,11,FALSE))),\"UND\")","v":57.333333333333336},null,"Greg Olsen","SEA",{"$f":"VLOOKUP(_xlfn.CONCAT(W27,V27),'te data'!A:X,24,FALSE)","v":96.46031450000001},{"$f":"IFERROR(X27-LARGE($X$3:$X$54,'Position Expectations'!$B$6+1),X27-MIN($X$3:$X$54))","v":-26.136683099999999},{"$f":"IFERROR(X27-LARGE($X$3:$X$75,Settings!$F$21*Settings!$D$25),X27-MIN($X$3:$X$75))+IF(Settings!$D$26>0,MAX(0,LARGE($X$3:$X$75,Settings!$F$21*Settings!$D$25)-LARGE(($Q$3:$Q$150,$J$3:$J$100,$X$3:$X$75),Settings!$F$21*(Settings!$D$23+Settings!$D$24+Settings!$D$26))),0)","v":-36.96543699999998},{"$f":"IFERROR((IFERROR(IF(Settings!$J$17=1,VLOOKUP(_xlfn.CONCAT(W27,V27),'full ppr adp'!$A:$K,11,FALSE),IF(Settings!$J$17=0,VLOOKUP(_xlfn.CONCAT(W27,V27),'standard adp'!$A:$J,10,FALSE),VLOOKUP(_xlfn.CONCAT(W27,V27),'half ppr adp'!$A:$J,10,FALSE))),VLOOKUP(_xlfn.CONCAT(W27,V27),'full ppr adp'!$A:$K,11,FALSE))),\"UND\")","v":208},null,{"$f":"VLOOKUP(AD27,'def data'!A:F,6,FALSE)","v":22},"Cleveland Browns",{"$f":"VLOOKUP($AD27,'def data'!$A:$F,2,FALSE)","v":13},{"$f":"VLOOKUP($AD27,'def data'!$A:$F,3,FALSE)","v":20},{"$f":"VLOOKUP($AD27,'def data'!$A:$F,4,FALSE)","v":24},{"$f":"IFERROR(IF(Settings!$J$17=1,VLOOKUP(AD27,'full ppr adp'!C:K,9,FALSE),IF(Settings!$J$17=0,VLOOKUP(AD27,'standard adp'!C:J,8,FALSE),VLOOKUP(AD27,'half ppr adp'!C:J,8,FALSE))),VLOOKUP(AD27,'full ppr adp'!C:K,9,FALSE))","v":260}]
["Kirk Cousins","MIN",{"$f":"VLOOKUP(A28,'qb data'!G:S,13,FALSE)","v":242.44613999999999},{"$f":"IFERROR(C28-LARGE($C$3:$C$34,'Position Expectations'!$B$3+1),C28-MIN($C$3:$C$34))","v":-22.476312900000067},{"$f":"IFERROR(C28-LARGE($C$3:$C$34,Settings!$F$21*Settings!$D$22),C28-MIN($C$3:$C$34))","v":-38.950531200000029},{"$f":"(IFERROR(IF(Settings!$J$17=1,VLOOKUP(_xlfn.CONCAT(B28,A28),'full ppr adp'!$A:$K,11,FALSE),IF(Settings!$J$17=0,VLOOKUP(_xlfn.CONCAT(B28,A28),'standard adp'!$A:$J,10,FALSE),VLOOKUP(_xlfn.CONCAT(B28,A28),'half ppr adp'!$A:$J,10,FALSE))),VLOOKUP(_xlfn.CONCAT(B28,A28),'full ppr adp'!$A:$K,11,FALSE)))","v":168},null,"Kareem Hunt","CLE",{"$f":"VLOOKUP(_xlfn.CONCAT(I28,H28),'rb data'!A:X,24,FALSE)","v":167.109467145},{"$f":"IFERROR(J28-LARGE($J$3:$J$100,'Position Expectations'!$B$4+1),J28-MIN($J$3:$J$100))","v":107.542942345},{"$f":"IFERROR(J28-LARGE($J$3:$J$100,Settings!$F$21*Settings!$D$23),J28-MIN($J$3:$J$100))+IF(Settings!$D$26>0,MAX(0,LARGE($J$3:$J$100,Settings!$F$21*Settings!$D$23)-LARGE(($Q$3:$Q$150,$J$3:$J$100),Settings!$F$21*(Settings!$D$23+Settings!$D$24+Settings!$D$26))),0)","v":-1.9461943550000456},{"$f":"IFERROR((IFERROR(IF(Settings!$J$17=1,VLOOKUP(_xlfn.CONCAT(I28,H28),'full ppr adp'!$A:$K,11,FALSE),IF(Settings!$J$17=0,VLOOKUP(_xlfn.CONCAT(I28,H28),'standard adp'!$A:$J,10,FALSE),VLOOKUP(_xlfn.CONCAT(I28,H28),'half ppr adp'!$A:$J,10,FALSE))),VLOOKUP(_xlfn.CONCAT(I28,H28),'full ppr adp'!$A:$K,11,FALSE))),\"UND\")","v":61.333333333333336},null,"Michael Gallup","DAL",{"$f":"VLOOKUP(_xlfn.CONCAT(P28,O28),'wr data'!A:X,24,FALSE)","v":192.60838825000002},{"$f":"IFERROR(Q28-LARGE($Q$3:$Q$150,'Position Expectations'!$B$5+1),Q28-MIN($Q$3:$Q$150))","v":66.047793749999983},{"$f":"IFERROR(Q28-LARGE($Q$3:$Q$150,Settings!$F$21*Settings!$D$24),Q28-MIN($Q$3:$Q$150))+IF(Settings!$D$26>0,MAX(0,LARGE($Q$3:$Q$150,Settings!$F$21*Settings!$D$24)-LARGE(($Q$3:$Q$150,$J$3:$J$100),Settings!$F$21*(Settings!$D$23+Settings!$D$24+Settings!$D$26))),0)","v":20.860110350000014},{"$f":"IFERROR((IFERROR(IF(Settings!$J$17=1,VLOOKUP(_xlfn.CONCAT(P28,O28),'full ppr adp'!$A:$K,11,FALSE),IF(Settings!$J$17=0,VLOOKUP(_xlfn.CONCAT(P28,O28),'standard adp'!$A:$J,10,FALSE),VLOOKUP(_xlfn.CONCAT(P28,O28),'half ppr adp'!$A:$J,10,FALSE))),VLOOKUP(_xlfn.CONCAT(P28,O28),'full ppr adp'!$A:$K,11,FALSE))),\"UND\")","v":75.333333333333329},null,"Kyle Rudolph","MIN",{"$f":"VLOOKUP(_xlfn.CONCAT(W28,V28),'te data'!A:X,24,FALSE)","v":90.678379499999977},{"$f":"IFERROR(X28-LARGE($X$3:$X$54,'Position Expectations'!$B$6+1),X28-MIN($X$3:$X$54))","v":-31.918618100000032},{"$f":"IFERROR(X28-LARGE($X$3:$X$75,Settings!$F$21*Settings!$D$25),X28-MIN($X$3:$X$75))+IF(Settings!$D$26>0,MAX(0,LARGE($X$3:$X$75,Settings!$F$21*Settings!$D$25)-LARGE(($Q$3:$Q$150,$J$3:$J$100,$X$3:$X$75),Settings!$F$21*(Settings!$D$23+Settings!$D$24+Settings!$D$26))),0)","v":-42.747372000000013},{"$f":"IFERROR((IFERROR(IF(Settings!$J$17=1,VLOOKUP(_xlfn.CONCAT(W28,V28),'full ppr adp'!$A:$K,11,FALSE),IF(Settings!$J$17=0,VLOOKUP(_xlfn.CONCAT(W28,V28),'standard adp'!$A:$J,10,FALSE),VLOOKUP(_xlfn.CONCAT(W28,V28),'half ppr adp'!$A:$J,10,FALSE))),VLOOKUP(_xlfn.CONCAT(W28,V28),'full ppr adp'!$A:$K,11,FALSE))),\"UND\")","v":220},null,{"$f":"VLOOKUP(AD28,'def data'!A:F,6,FALSE)","v":23},"Houston Texans",{"$f":"VLOOKUP($AD28,'def data'!$A:$F,2,FALSE)","v":15},{"$f":"VLOOKUP($AD28,'def data'!$A:$F,3,FALSE)","v":13},{"$f":"VLOOKUP($AD28,'def data'!$A:$F,4,FALSE)","v":25},{"$f":"IFERROR(IF(Settings!$J$17=1,VLOOKUP(AD28,'full ppr adp'!C:K,9,FALSE),IF(Settings!$J$17=0,VLOOKUP(AD28,'standard adp'!C:J,8,FALSE),VLOOKUP(AD28,'half ppr adp'!C:J,8,FALSE))),VLOOKUP(AD28,'full ppr adp'!C:K,9,FALSE))","v":270}]
["Drew Lock","DEN",{"$f":"VLOOKUP(A29,'qb data'!G:S,13,FALSE)","v":236.88143600000004},{"$f":"IFERROR(C29-LARGE($C$3:$C$34,'Position Expectations'!$B$3+1),C29-MIN($C$3:$C$34))","v":-28.041016900000017},{"$f":"IFERROR(C29-LARGE($C$3:$C$34,Settings!$F$21*Settings!$D$22),C29-MIN($C$3:$C$34))","v":-44.515235199999978},{"$f":"(IFERROR(IF(Settings!$J$17=1,VLOOKUP(_xlfn.CONCAT(B29,A29),'full ppr adp'!$A:$K,11,FALSE),IF(Settings!$J$17=0,VLOOKUP(_xlfn.CONCAT(B29,A29),'standard adp'!$A:$J,10,FALSE),VLOOKUP(_xlfn.CONCAT(B29,A29),'half ppr adp'!$A:$J,10,FALSE))),VLOOKUP(_xlfn.CONCAT(B29,A29),'full ppr adp'!$A:$K,11,FALSE)))","v":177.66666666666666},null,"James White","NE",{"$f":"VLOOKUP(_xlfn.CONCAT(I29,H29),'rb data'!A:X,24,FALSE)","v":166.03247324},{"$f":"IFERROR(J29-LARGE($J$3:$J$100,'Position Expectations'!$B$4+1),J29-MIN($J$3:$J$100))","v":106.46594844000001},{"$f":"IFERROR(J29-LARGE($J$3:$J$100,Settings!$F$21*Settings!$D$23),J29-MIN($J$3:$J$100))+IF(Settings!$D$26>0,MAX(0,LARGE($J$3:$J$100,Settings!$F$21*Settings!$D$23)-LARGE(($Q$3:$Q$150,$J$3:$J$100),Settings!$F$21*(Settings!$D$23+Settings!$D$24+Settings!$D$26))),0)","v":-3.0231882600000404},{"$f":"IFERROR((IFERROR(IF(Settings!$J$17=1,VLOOKUP(_xlfn.CONCAT(I29,H29),'full ppr adp'!$A:$K,11,FALSE),IF(Settings!$J$17=0,VLOOKUP(_xlfn.CONCAT(I29,H29),'standard adp'!$A:$J,10,FALSE),VLOOKUP(_xlfn.CONCAT(I29,H29),'half ppr adp'!$A:$J,10,FALSE))),VLOOKUP(_xlfn.CONCAT(I29,H29),'full ppr adp'!$A:$K,11,FALSE))),\"UND\")","v":84},null,"Odell Beckham Jr.","CLE",{"$f":"VLOOKUP(_xlfn.CONCAT(P29,O29),'wr data'!A:X,24,FALSE)","v":190.11800445000003},{"$f":"IFERROR(Q29-LARGE($Q$3:$Q$150,'Position Expectations'!$B$5+1),Q29-MIN($Q$3:$Q$150))","v":63.557409949999993},{"$f":"IFERROR(Q29-LARGE($Q$3:$Q$150,Settings!$F$21*Settings!$D$24),Q29-MIN($Q$3:$Q$150))+IF(Settings!$D$26>0,MAX(0,LARGE($Q$3:$Q$150,Settings!$F$21*Settings!$D$24)-LARGE(($Q$3:$Q$150,$J$3:$J$100),Settings!$F$21*(Settings!$D$23+Settings!$D$24+Settings!$D$26))),0)","v":18.369726550000024},{"$f":"IFERROR((IFERROR(IF(Settings!$J$17=1,VLOOKUP(_xlfn.CONCAT(P29,O29),'full ppr adp'!$A:$K,11,FALSE),IF(Settings!$J$17=0,VLOOKUP(_xlfn.CONCAT(P29,O29),'standard adp'!$A:$J,10,FALSE),VLOOKUP(_xlfn.CONCAT(P29,O29),'half ppr adp'!$A:$J,10,FALSE))),VLOOKUP(_xlfn.CONCAT(P29,O29),'full ppr adp'!$A:$K,11,FALSE))),\"UND\")","v":30},null,"Jace Sternberger","GB",{"$f":"VLOOKUP(_xlfn.CONCAT(W29,V29),'te data'!A:X,24,FALSE)","v":90.131454399999996},{"$f":"IFERROR(X29-LARGE($X$3:$X$54,'Position Expectations'!$B$6+1),X29-MIN($X$3:$X$54))","v":-32.465543200000013},{"$f":"IFERROR(X29-LARGE($X$3:$X$75,Settings!$F$21*Settings!$D$25),X29-MIN($X$3:$X$75))+IF(Settings!$D$26>0,MAX(0,LARGE($X$3:$X$75,Settings!$F$21*Settings!$D$25)-LARGE(($Q$3:$Q$150,$J$3:$J$100,$X$3:$X$75),Settings!$F$21*(Settings!$D$23+Settings!$D$24+Settings!$D$26))),0)","v":-43.294297099999994},{"$f":"IFERROR((IFERROR(IF(Settings!$J$17=1,VLOOKUP(_xlfn.CONCAT(W29,V29),'full ppr adp'!$A:$K,11,FALSE),IF(Settings!$J$17=0,VLOOKUP(_xlfn.CONCAT(W29,V29),'standard adp'!$A:$J,10,FALSE),VLOOKUP(_xlfn.CONCAT(W29,V29),'half ppr adp'!$A:$J,10,FALSE))),VLOOKUP(_xlfn.CONCAT(W29,V29),'full ppr adp'!$A:$K,11,FALSE))),\"UND\")","v":245},null,{"$f":"VLOOKUP(AD29,'def data'!A:F,6,FALSE)","v":24},"Detroit Lions",{"$f":"VLOOKUP($AD29,'def data'!$A:$F,2,FALSE)","v":8},{"$f":"VLOOKUP($AD29,'def data'!$A:$F,3,FALSE)","v":17},{"$f":"VLOOKUP($AD29,'def data'!$A:$F,4,FALSE)","v":27},{"$f":"IFERROR(IF(Settings!$J$17=1,VLOOKUP(AD29,'full ppr adp'!C:K,9,FALSE),IF(Settings!$J$17=0,VLOOKUP(AD29,'standard adp'!C:J,8,FALSE),VLOOKUP(AD29,'half ppr adp'!C:J,8,FALSE))),VLOOKUP(AD29,'full ppr adp'!C:K,9,FALSE))","v":234}]
["Philip Rivers","IND",{"$f":"VLOOKUP(A30,'qb data'!G:S,13,FALSE)","v":228.399192},{"$f":"IFERROR(C30-LARGE($C$3:$C$34,'Position Expectations'!$B$3+1),C30-MIN($C$3:$C$34))","v":-36.523260900000054},{"$f":"IFERROR(C30-LARGE($C$3:$C$34,Settings!$F$21*Settings!$D$22),C30-MIN($C$3:$C$34))","v":-52.997479200000015},{"$f":"(IFERROR(IF(Settings!$J$17=1,VLOOKUP(_xlfn.CONCAT(B30,A30),'full ppr adp'!$A:$K,11,FALSE),IF(Settings!$J$17=0,VLOOKUP(_xlfn.CONCAT(B30,A30),'standard adp'!$A:$J,10,FALSE),VLOOKUP(_xlfn.CONCAT(B30,A30),'half ppr adp'!$A:$J,10,FALSE))),VLOOKUP(_xlfn.CONCAT(B30,A30),'full ppr adp'!$A:$K,11,FALSE)))","v":182.33333333333334},null,"D'Andre Swift","DET",{"$f":"VLOOKUP(_xlfn.CONCAT(I30,H30),'rb data'!A:X,24,FALSE)","v":152.44774219999999},{"$f":"IFERROR(J30-LARGE($J$3:$J$100,'Position Expectations'!$B$4+1),J30-MIN($J$3:$J$100))","v":92.881217399999997},{"$f":"IFERROR(J30-LARGE($J$3:$J$100,Settings!$F$21*Settings!$D$23),J30-MIN($J$3:$J$100))+IF(Settings!$D$26>0,MAX(0,LARGE($J$3:$J$100,Settings!$F$21*Settings!$D$23)-LARGE(($Q$3:$Q$150,$J$3:$J$100),Settings!$F$21*(Settings!$D$23+Settings!$D$24+Settings!$D$26))),0)","v":-16.607919300000049},{"$f":"IFERROR((IFERROR(IF(Settings!$J$17=1,VLOOKUP(_xlfn.CONCAT(I30,H30),'full ppr adp'!$A:$K,11,FALSE),IF(Settings!$J$17=0,VLOOKUP(_xlfn.CONCAT(I30,H30),'standard adp'!$A:$J,10,FALSE),VLOOKUP(_xlfn.CONCAT(I30,H30),'half ppr adp'!$A:$J,10,FALSE))),VLOOKUP(_xlfn.CONCAT(I30,H30),'full ppr adp'!$A:$K,11,FALSE))),\"UND\")","v":60.333333333333336},null,"Julian Edelman","NE",{"$f":"VLOOKUP(_xlfn.CONCAT(P30,O30),'wr data'!A:X,24,FALSE)","v":189.96451864000005},{"$f":"IFERROR(Q30-LARGE($Q$3:$Q$150,'Position Expectations'!$B$5+1),Q30-MIN($Q$3:$Q$150))","v":63.403924140000015},{"$f":"IFERROR(Q30-LARGE($Q$3:$Q$150,Settings!$F$21*Settings!$D$24),Q30-MIN($Q$3:$Q$150))+IF(Settings!$D$26>0,MAX(0,LARGE($Q$3:$Q$150,Settings!$F$21*Settings!$D$24)-LARGE(($Q$3:$Q$150,$J$3:$J$100),Settings!$F$21*(Settings!$D$23+Settings!$D$24+Settings!$D$26))),0)","v":18.216240740000046},{"$f":"IFERROR((IFERROR(IF(Settings!$J$17=1,VLOOKUP(_xlfn.CONCAT(P30,O30),'full ppr adp'!$A:$K,11,FALSE),IF(Settings!$J$17=0,VLOOKUP(_xlfn.CONCAT(P30,O30),'standard adp'!$A:$J,10,FALSE),VLOOKUP(_xlfn.CONCAT(P30,O30),'half ppr adp'!$A:$J,10,FALSE))),VLOOKUP(_xlfn.CONCAT(P30,O30),'full ppr adp'!$A:$K,11,FALSE))),\"UND\")","v":75},null,"Devin Asiasi","NE",{"$f":"VLOOKUP(_xlfn.CONCAT(W30,V30),'te data'!A:X,24,FALSE)","v":89.565288800000005},{"$f":"IFERROR(X30-LARGE($X$3:$X$54,'Position Expectations'!$B$6+1),X30-MIN($X$3:$X$54))","v":-33.031708800000004},{"$f":"IFERROR(X30-LARGE($X$3:$X$75,Settings!$F$21*Settings!$D$25),X30-MIN($X$3:$X$75))+IF(Settings!$D$26>0,MAX(0,LARGE($X$3:$X$75,Settings!$F$21*Settings!$D$25)-LARGE(($Q$3:$Q$150,$J$3:$J$100,$X$3:$X$75),Settings!$F$21*(Settings!$D$23+Settings!$D$24+Settings!$D$26))),0)","v":-43.860462699999985},{"$f":"IFERROR((IFERROR(IF(Settings!$J$17=1,VLOOKUP(_xlfn.CONCAT(W30,V30),'full ppr adp'!$A:$K,11,FALSE),IF(Settings!$J$17=0,VLOOKUP(_xlfn.CONCAT(W30,V30),'standard adp'!$A:$J,10,FALSE),VLOOKUP(_xlfn.CONCAT(W30,V30),'half ppr adp'!$A:$J,10,FALSE))),VLOOKUP(_xlfn.CONCAT(W30,V30),'full ppr adp'!$A:$K,11,FALSE))),\"UND\")","v":270},null,{"$f":"VLOOKUP(AD30,'def data'!A:F,6,FALSE)","v":25},"Atlanta Falcons",{"$f":"VLOOKUP($AD30,'def data'!$A:$F,2,FALSE)","v":22},{"$f":"VLOOKUP($AD30,'def data'!$A:$F,3,FALSE)","v":30},{"$f":"VLOOKUP($AD30,'def data'!$A:$F,4,FALSE)","v":22},{"$f":"IFERROR(IF(Settings!$J$17=1,VLOOKUP(AD30,'full ppr adp'!C:K,9,FALSE),IF(Settings!$J$17=0,VLOOKUP(AD30,'standard adp'!C:J,8,FALSE),VLOOKUP(AD30,'half ppr adp'!C:J,8,FALSE))),VLOOKUP(AD30,'full ppr adp'!C:K,9,FALSE))","v":228.5}]
["Sam Darnold","NYJ",{"$f":"VLOOKUP(A31,'qb data'!G:S,13,FALSE)","v":224.01503249999999},{"$f":"IFERROR(C31-LARGE($C$3:$C$34,'Position Expectations'!$B$3+1),C31-MIN($C$3:$C$34))","v":-40.907420400000063},{"$f":"IFERROR(C31-LARGE($C$3:$C$34,Settings!$F$21*Settings!$D$22),C31-MIN($C$3:$C$34))","v":-57.381638700000025},{"$f":"(IFERROR(IF(Settings!$J$17=1,VLOOKUP(_xlfn.CONCAT(B31,A31),'full ppr adp'!$A:$K,11,FALSE),IF(Settings!$J$17=0,VLOOKUP(_xlfn.CONCAT(B31,A31),'standard adp'!$A:$J,10,FALSE),VLOOKUP(_xlfn.CONCAT(B31,A31),'half ppr adp'!$A:$J,10,FALSE))),VLOOKUP(_xlfn.CONCAT(B31,A31),'full ppr adp'!$A:$K,11,FALSE)))","v":209},null,"David Montgomery","CHI",{"$f":"VLOOKUP(_xlfn.CONCAT(I31,H31),'rb data'!A:X,24,FALSE)","v":152.37187066999999},{"$f":"IFERROR(J31-LARGE($J$3:$J$100,'Position Expectations'!$B$4+1),J31-MIN($J$3:$J$100))","v":92.805345869999996},{"$f":"IFERROR(J31-LARGE($J$3:$J$100,Settings!$F$21*Settings!$D$23),J31-MIN($J$3:$J$100))+IF(Settings!$D$26>0,MAX(0,LARGE($J$3:$J$100,Settings!$F$21*Settings!$D$23)-LARGE(($Q$3:$Q$150,$J$3:$J$100),Settings!$F$21*(Settings!$D$23+Settings!$D$24+Settings!$D$26))),0)","v":-16.683790830000049},{"$f":"IFERROR((IFERROR(IF(Settings!$J$17=1,VLOOKUP(_xlfn.CONCAT(I31,H31),'full ppr adp'!$A:$K,11,FALSE),IF(Settings!$J$17=0,VLOOKUP(_xlfn.CONCAT(I31,H31),'standard adp'!$A:$J,10,FALSE),VLOOKUP(_xlfn.CONCAT(I31,H31),'half ppr adp'!$A:$J,10,FALSE))),VLOOKUP(_xlfn.CONCAT(I31,H31),'full ppr adp'!$A:$K,11,FALSE))),\"UND\")","v":62.666666666666664},null,"Tyler Boyd","CIN",{"$f":"VLOOKUP(_xlfn.CONCAT(P31,O31),'wr data'!A:X,24,FALSE)","v":188.97443919999998},{"$f":"IFERROR(Q31-LARGE($Q$3:$Q$150,'Position Expectations'!$B$5+1),Q31-MIN($Q$3:$Q$150))","v":62.413844699999942},{"$f":"IFERROR(Q31-LARGE($Q$3:$Q$150,Settings!$F$21*Settings!$D$24),Q31-MIN($Q$3:$Q$150))+IF(Settings!$D$26>0,MAX(0,LARGE($Q$3:$Q$150,Settings!$F$21*Settings!$D$24)-LARGE(($Q$3:$Q$150,$J$3:$J$100),Settings!$F$21*(Settings!$D$23+Settings!$D$24+Settings!$D$26))),0)","v":17.226161299999973},{"$f":"IFERROR((IFERROR(IF(Settings!$J$17=1,VLOOKUP(_xlfn.CONCAT(P31,O31),'full ppr adp'!$A:$K,11,FALSE),IF(Settings!$J$17=0,VLOOKUP(_xlfn.CONCAT(P31,O31),'standard adp'!$A:$J,10,FALSE),VLOOKUP(_xlfn.CONCAT(P31,O31),'half ppr adp'!$A:$J,10,FALSE))),VLOOKUP(_xlfn.CONCAT(P31,O31),'full ppr adp'!$A:$K,11,FALSE))),\"UND\")","v":72},null,"C.J. Uzomah","CIN",{"$f":"VLOOKUP(_xlfn.CONCAT(W31,V31),'te data'!A:X,24,FALSE)","v":89.528185449999995},{"$f":"IFERROR(X31-LARGE($X$3:$X$54,'Position Expectations'!$B$6+1),X31-MIN($X$3:$X$54))","v":-33.068812150000014},{"$f":"IFERROR(X31-LARGE($X$3:$X$75,Settings!$F$21*Settings!$D$25),X31-MIN($X$3:$X$75))+IF(Settings!$D$26>0,MAX(0,LARGE($X$3:$X$75,Settings!$F$21*Settings!$D$25)-LARGE(($Q$3:$Q$150,$J$3:$J$100,$X$3:$X$75),Settings!$F$21*(Settings!$D$23+Settings!$D$24+Settings!$D$26))),0)","v":-43.897566049999995},{"$f":"IFERROR((IFERROR(IF(Settings!$J$17=1,VLOOKUP(_xlfn.CONCAT(W31,V31),'full ppr adp'!$A:$K,11,FALSE),IF(Settings!$J$17=0,VLOOKUP(_xlfn.CONCAT(W31,V31),'standard adp'!$A:$J,10,FALSE),VLOOKUP(_xlfn.CONCAT(W31,V31),'half ppr adp'!$A:$J,10,FALSE))),VLOOKUP(_xlfn.CONCAT(W31,V31),'full ppr adp'!$A:$K,11,FALSE))),\"UND\")","v":236},null,{"$f":"VLOOKUP(AD31,'def data'!A:F,6,FALSE)","v":26},"Washington Football Team",{"$f":"VLOOKUP($AD31,'def data'!$A:$F,2,FALSE)","v":21},{"$f":"VLOOKUP($AD31,'def data'!$A:$F,3,FALSE)","v":31},{"$f":"VLOOKUP($AD31,'def data'!$A:$F,4,FALSE)","v":23},{"$f":"IFERROR(IF(Settings!$J$17=1,VLOOKUP(AD31,'full ppr adp'!C:K,9,FALSE),IF(Settings!$J$17=0,VLOOKUP(AD31,'standard adp'!C:J,8,FALSE),VLOOKUP(AD31,'half ppr adp'!C:J,8,FALSE))),VLOOKUP(AD31,'full ppr adp'!C:K,9,FALSE))","v":224.5}]
["Dwayne Haskins","WAS",{"$f":"VLOOKUP(A32,'qb data'!G:S,13,FALSE)","v":207.32089400000007},{"$f":"IFERROR(C32-LARGE($C$3:$C$34,'Position Expectations'!$B$3+1),C32-MIN($C$3:$C$34))","v":-57.601558899999986},{"$f":"IFERROR(C32-LARGE($C$3:$C$34,Settings!$F$21*Settings!$D$22),C32-MIN($C$3:$C$34))","v":-74.075777199999948},{"$f":"(IFERROR(IF(Settings!$J$17=1,VLOOKUP(_xlfn.CONCAT(B32,A32),'full ppr adp'!$A:$K,11,FALSE),IF(Settings!$J$17=0,VLOOKUP(_xlfn.CONCAT(B32,A32),'standard adp'!$A:$J,10,FALSE),VLOOKUP(_xlfn.CONCAT(B32,A32),'half ppr adp'!$A:$J,10,FALSE))),VLOOKUP(_xlfn.CONCAT(B32,A32),'full ppr adp'!$A:$K,11,FALSE)))","v":262.66666666666669},null,"Jonathan Taylor","IND",{"$f":"VLOOKUP(_xlfn.CONCAT(I32,H32),'rb data'!A:X,24,FALSE)","v":149.05457479999998},{"$f":"IFERROR(J32-LARGE($J$3:$J$100,'Position Expectations'!$B$4+1),J32-MIN($J$3:$J$100))","v":89.488049999999987},{"$f":"IFERROR(J32-LARGE($J$3:$J$100,Settings!$F$21*Settings!$D$23),J32-MIN($J$3:$J$100))+IF(Settings!$D$26>0,MAX(0,LARGE($J$3:$J$100,Settings!$F$21*Settings!$D$23)-LARGE(($Q$3:$Q$150,$J$3:$J$100),Settings!$F$21*(Settings!$D$23+Settings!$D$24+Settings!$D$26))),0)","v":-20.001086700000059},{"$f":"IFERROR((IFERROR(IF(Settings!$J$17=1,VLOOKUP(_xlfn.CONCAT(I32,H32),'full ppr adp'!$A:$K,11,FALSE),IF(Settings!$J$17=0,VLOOKUP(_xlfn.CONCAT(I32,H32),'standard adp'!$A:$J,10,FALSE),VLOOKUP(_xlfn.CONCAT(I32,H32),'half ppr adp'!$A:$J,10,FALSE))),VLOOKUP(_xlfn.CONCAT(I32,H32),'full ppr adp'!$A:$K,11,FALSE))),\"UND\")","v":45.333333333333336},null,"Marvin Jones","DET",{"$f":"VLOOKUP(_xlfn.CONCAT(P32,O32),'wr data'!A:X,24,FALSE)","v":187.82061153000001},{"$f":"IFERROR(Q32-LARGE($Q$3:$Q$150,'Position Expectations'!$B$5+1),Q32-MIN($Q$3:$Q$150))","v":61.260017029999972},{"$f":"IFERROR(Q32-LARGE($Q$3:$Q$150,Settings!$F$21*Settings!$D$24),Q32-MIN($Q$3:$Q$150))+IF(Settings!$D$26>0,MAX(0,LARGE($Q$3:$Q$150,Settings!$F$21*Settings!$D$24)-LARGE(($Q$3:$Q$150,$J$3:$J$100),Settings!$F$21*(Settings!$D$23+Settings!$D$24+Settings!$D$26))),0)","v":16.072333630000003},{"$f":"IFERROR((IFERROR(IF(Settings!$J$17=1,VLOOKUP(_xlfn.CONCAT(P32,O32),'full ppr adp'!$A:$K,11,FALSE),IF(Settings!$J$17=0,VLOOKUP(_xlfn.CONCAT(P32,O32),'standard adp'!$A:$J,10,FALSE),VLOOKUP(_xlfn.CONCAT(P32,O32),'half ppr adp'!$A:$J,10,FALSE))),VLOOKUP(_xlfn.CONCAT(P32,O32),'full ppr adp'!$A:$K,11,FALSE))),\"UND\")","v":86.666666666666671},null,"O.J. Howard","TB",{"$f":"VLOOKUP(_xlfn.CONCAT(W32,V32),'te data'!A:X,24,FALSE)","v":88.238843759999995},{"$f":"IFERROR(X32-LARGE($X$3:$X$54,'Position Expectations'!$B$6+1),X32-MIN($X$3:$X$54))","v":-34.358153840000014},{"$f":"IFERROR(X32-LARGE($X$3:$X$75,Settings!$F$21*Settings!$D$25),X32-MIN($X$3:$X$75))+IF(Settings!$D$26>0,MAX(0,LARGE($X$3:$X$75,Settings!$F$21*Settings!$D$25)-LARGE(($Q$3:$Q$150,$J$3:$J$100,$X$3:$X$75),Settings!$F$21*(Settings!$D$23+Settings!$D$24+Settings!$D$26))),0)","v":-45.186907739999995},{"$f":"IFERROR((IFERROR(IF(Settings!$J$17=1,VLOOKUP(_xlfn.CONCAT(W32,V32),'full ppr adp'!$A:$K,11,FALSE),IF(Settings!$J$17=0,VLOOKUP(_xlfn.CONCAT(W32,V32),'standard adp'!$A:$J,10,FALSE),VLOOKUP(_xlfn.CONCAT(W32,V32),'half ppr adp'!$A:$J,10,FALSE))),VLOOKUP(_xlfn.CONCAT(W32,V32),'full ppr adp'!$A:$K,11,FALSE))),\"UND\")","v":207},null,{"$f":"VLOOKUP(AD32,'def data'!A:F,6,FALSE)","v":27},"Carolina Panthers",{"$f":"VLOOKUP($AD32,'def data'!$A:$F,2,FALSE)","v":24},{"$f":"VLOOKUP($AD32,'def data'!$A:$F,3,FALSE)","v":25},{"$f":"VLOOKUP($AD32,'def data'!$A:$F,4,FALSE)","v":26},{"$f":"IFERROR(IF(Settings!$J$17=1,VLOOKUP(AD32,'full ppr adp'!C:K,9,FALSE),IF(Settings!$J$17=0,VLOOKUP(AD32,'standard adp'!C:J,8,FALSE),VLOOKUP(AD32,'half ppr adp'!C:J,8,FALSE))),VLOOKUP(AD32,'full ppr adp'!C:K,9,FALSE))","v":293}]
["Nick Foles","CHI",{"$f":"VLOOKUP(A33,'qb data'!G:S,13,FALSE)","v":206.95824000000005},{"$f":"IFERROR(C33-LARGE($C$3:$C$34,'Position Expectations'!$B$3+1),C33-MIN($C$3:$C$34))","v":-57.964212900000007},{"$f":"IFERROR(C33-LARGE($C$3:$C$34,Settings!$F$21*Settings!$D$22),C33-MIN($C$3:$C$34))","v":-74.438431199999968},{"$f":"(IFERROR(IF(Settings!$J$17=1,VLOOKUP(_xlfn.CONCAT(B33,A33),'full ppr adp'!$A:$K,11,FALSE),IF(Settings!$J$17=0,VLOOKUP(_xlfn.CONCAT(B33,A33),'standard adp'!$A:$J,10,FALSE),VLOOKUP(_xlfn.CONCAT(B33,A33),'half ppr adp'!$A:$J,10,FALSE))),VLOOKUP(_xlfn.CONCAT(B33,A33),'full ppr adp'!$A:$K,11,FALSE)))","v":298},null,"Leonard Fournette","TB",{"$f":"VLOOKUP(_xlfn.CONCAT(I33,H33),'rb data'!A:X,24,FALSE)","v":144.66119924},{"$f":"IFERROR(J33-LARGE($J$3:$J$100,'Position Expectations'!$B$4+1),J33-MIN($J$3:$J$100))","v":85.094674440000006},{"$f":"IFERROR(J33-LARGE($J$3:$J$100,Settings!$F$21*Settings!$D$23),J33-MIN($J$3:$J$100))+IF(Settings!$D$26>0,MAX(0,LARGE($J$3:$J$100,Settings!$F$21*Settings!$D$23)-LARGE(($Q$3:$Q$150,$J$3:$J$100),Settings!$F$21*(Settings!$D$23+Settings!$D$24+Settings!$D$26))),0)","v":-24.39446226000004},{"$f":"IFERROR((IFERROR(IF(Settings!$J$17=1,VLOOKUP(_xlfn.CONCAT(I33,H33),'full ppr adp'!$A:$K,11,FALSE),IF(Settings!$J$17=0,VLOOKUP(_xlfn.CONCAT(I33,H33),'standard adp'!$A:$J,10,FALSE),VLOOKUP(_xlfn.CONCAT(I33,H33),'half ppr adp'!$A:$J,10,FALSE))),VLOOKUP(_xlfn.CONCAT(I33,H33),'full ppr adp'!$A:$K,11,FALSE))),\"UND\")","v":51},null,"Tyler Lockett","SEA",{"$f":"VLOOKUP(_xlfn.CONCAT(P33,O33),'wr data'!A:X,24,FALSE)","v":186.20966880000003},{"$f":"IFERROR(Q33-LARGE($Q$3:$Q$150,'Position Expectations'!$B$5+1),Q33-MIN($Q$3:$Q$150))","v":59.649074299999995},{"$f":"IFERROR(Q33-LARGE($Q$3:$Q$150,Settings!$F$21*Settings!$D$24),Q33-MIN($Q$3:$Q$150))+IF(Settings!$D$26>0,MAX(0,LARGE($Q$3:$Q$150,Settings!$F$21*Settings!$D$24)-LARGE(($Q$3:$Q$150,$J$3:$J$100),Settings!$F$21*(Settings!$D$23+Settings!$D$24+Settings!$D$26))),0)","v":14.461390900000026},{"$f":"IFERROR((IFERROR(IF(Settings!$J$17=1,VLOOKUP(_xlfn.CONCAT(P33,O33),'full ppr adp'!$A:$K,11,FALSE),IF(Settings!$J$17=0,VLOOKUP(_xlfn.CONCAT(P33,O33),'standard adp'!$A:$J,10,FALSE),VLOOKUP(_xlfn.CONCAT(P33,O33),'half ppr adp'!$A:$J,10,FALSE))),VLOOKUP(_xlfn.CONCAT(P33,O33),'full ppr adp'!$A:$K,11,FALSE))),\"UND\")","v":51},null,"Jimmy Graham","CHI",{"$f":"VLOOKUP(_xlfn.CONCAT(W33,V33),'te data'!A:X,24,FALSE)","v":87.673997040000017},{"$f":"IFERROR(X33-LARGE($X$3:$X$54,'Position Expectations'!$B$6+1),X33-MIN($X$3:$X$54))","v":-34.923000559999991},{"$f":"IFERROR(X33-LARGE($X$3:$X$75,Settings!$F$21*Settings!$D$25),X33-MIN($X$3:$X$75))+IF(Settings!$D$26>0,MAX(0,LARGE($X$3:$X$75,Settings!$F$21*Settings!$D$25)-LARGE(($Q$3:$Q$150,$J$3:$J$100,$X$3:$X$75),Settings!$F$21*(Settings!$D$23+Settings!$D$24+Settings!$D$26))),0)","v":-45.751754459999972},{"$f":"IFERROR((IFERROR(IF(Settings!$J$17=1,VLOOKUP(_xlfn.CONCAT(W33,V33),'full ppr adp'!$A:$K,11,FALSE),IF(Settings!$J$17=0,VLOOKUP(_xlfn.CONCAT(W33,V33),'standard adp'!$A:$J,10,FALSE),VLOOKUP(_xlfn.CONCAT(W33,V33),'half ppr adp'!$A:$J,10,FALSE))),VLOOKUP(_xlfn.CONCAT(W33,V33),'full ppr adp'!$A:$K,11,FALSE))),\"UND\")","v":233},null,{"$f":"VLOOKUP(AD33,'def data'!A:F,6,FALSE)","v":28},"Cincinnati Bengals",{"$f":"VLOOKUP($AD33,'def data'!$A:$F,2,FALSE)","v":16},{"$f":"VLOOKUP($AD33,'def data'!$A:$F,3,FALSE)","v":27},{"$f":"VLOOKUP($AD33,'def data'!$A:$F,4,FALSE)","v":29},{"$f":"IFERROR(IF(Settings!$J$17=1,VLOOKUP(AD33,'full ppr adp'!C:K,9,FALSE),IF(Settings!$J$17=0,VLOOKUP(AD33,'standard adp'!C:J,8,FALSE),VLOOKUP(AD33,'half ppr adp'!C:J,8,FALSE))),VLOOKUP(AD33,'full ppr adp'!C:K,9,FALSE))","v":207}]
["Taylor / Herbert","LAC",{"$f":"VLOOKUP(A34,'qb data'!G:S,13,FALSE)","v":195.62219999999999},{"$f":"IFERROR(C34-LARGE($C$3:$C$34,'Position Expectations'!$B$3+1),C34-MIN($C$3:$C$34))","v":-69.300252900000061},{"$f":"IFERROR(C34-LARGE($C$3:$C$34,Settings!$F$21*Settings!$D$22),C34-MIN($C$3:$C$34))","v":-85.774471200000022},{"$f":"(IFERROR(IF(Settings!$J$17=1,VLOOKUP(_xlfn.CONCAT(B34,A34),'full ppr adp'!$A:$K,11,FALSE),IF(Settings!$J$17=0,VLOOKUP(_xlfn.CONCAT(B34,A34),'standard adp'!$A:$J,10,FALSE),VLOOKUP(_xlfn.CONCAT(B34,A34),'half ppr adp'!$A:$J,10,FALSE))),VLOOKUP(_xlfn.CONCAT(B34,A34),'full ppr adp'!$A:$K,11,FALSE)))","v":250.5},null,"Kerryon Johnson","DET",{"$f":"VLOOKUP(_xlfn.CONCAT(I34,H34),'rb data'!A:X,24,FALSE)","v":138.48251384},{"$f":"IFERROR(J34-LARGE($J$3:$J$100,'Position Expectations'!$B$4+1),J34-MIN($J$3:$J$100))","v":78.915989039999999},{"$f":"IFERROR(J34-LARGE($J$3:$J$100,Settings!$F$21*Settings!$D$23),J34-MIN($J$3:$J$100))+IF(Settings!$D$26>0,MAX(0,LARGE($J$3:$J$100,Settings!$F$21*Settings!$D$23)-LARGE(($Q$3:$Q$150,$J$3:$J$100),Settings!$F$21*(Settings!$D$23+Settings!$D$24+Settings!$D$26))),0)","v":-30.573147660000046},{"$f":"IFERROR((IFERROR(IF(Settings!$J$17=1,VLOOKUP(_xlfn.CONCAT(I34,H34),'full ppr adp'!$A:$K,11,FALSE),IF(Settings!$J$17=0,VLOOKUP(_xlfn.CONCAT(I34,H34),'standard adp'!$A:$J,10,FALSE),VLOOKUP(_xlfn.CONCAT(I34,H34),'half ppr adp'!$A:$J,10,FALSE))),VLOOKUP(_xlfn.CONCAT(I34,H34),'full ppr adp'!$A:$K,11,FALSE))),\"UND\")","v":98.333333333333329},null,"Will Fuller","HOU",{"$f":"VLOOKUP(_xlfn.CONCAT(P34,O34),'wr data'!A:X,24,FALSE)","v":181.00864500000003},{"$f":"IFERROR(Q34-LARGE($Q$3:$Q$150,'Position Expectations'!$B$5+1),Q34-MIN($Q$3:$Q$150))","v":54.448050499999994},{"$f":"IFERROR(Q34-LARGE($Q$3:$Q$150,Settings!$F$21*Settings!$D$24),Q34-MIN($Q$3:$Q$150))+IF(Settings!$D$26>0,MAX(0,LARGE($Q$3:$Q$150,Settings!$F$21*Settings!$D$24)-LARGE(($Q$3:$Q$150,$J$3:$J$100),Settings!$F$21*(Settings!$D$23+Settings!$D$24+Settings!$D$26))),0)","v":9.2603671000000247},{"$f":"IFERROR((IFERROR(IF(Settings!$J$17=1,VLOOKUP(_xlfn.CONCAT(P34,O34),'full ppr adp'!$A:$K,11,FALSE),IF(Settings!$J$17=0,VLOOKUP(_xlfn.CONCAT(P34,O34),'standard adp'!$A:$J,10,FALSE),VLOOKUP(_xlfn.CONCAT(P34,O34),'half ppr adp'!$A:$J,10,FALSE))),VLOOKUP(_xlfn.CONCAT(P34,O34),'full ppr adp'!$A:$K,11,FALSE))),\"UND\")","v":77},null,"Darren Fells","HOU",{"$f":"VLOOKUP(_xlfn.CONCAT(W34,V34),'te data'!A:X,24,FALSE)","v":86.271360000000001},{"$f":"IFERROR(X34-LARGE($X$3:$X$54,'Position Expectations'!$B$6+1),X34-MIN($X$3:$X$54))","v":-36.325637600000007},{"$f":"IFERROR(X34-LARGE($X$3:$X$75,Settings!$F$21*Settings!$D$25),X34-MIN($X$3:$X$75))+IF(Settings!$D$26>0,MAX(0,LARGE($X$3:$X$75,Settings!$F$21*Settings!$D$25)-LARGE(($Q$3:$Q$150,$J$3:$J$100,$X$3:$X$75),Settings!$F$21*(Settings!$D$23+Settings!$D$24+Settings!$D$26))),0)","v":-47.154391499999988},{"$f":"IFERROR((IFERROR(IF(Settings!$J$17=1,VLOOKUP(_xlfn.CONCAT(W34,V34),'full ppr adp'!$A:$K,11,FALSE),IF(Settings!$J$17=0,VLOOKUP(_xlfn.CONCAT(W34,V34),'standard adp'!$A:$J,10,FALSE),VLOOKUP(_xlfn.CONCAT(W34,V34),'half ppr adp'!$A:$J,10,FALSE))),VLOOKUP(_xlfn.CONCAT(W34,V34),'full ppr adp'!$A:$K,11,FALSE))),\"UND\")","v":325},null,{"$f":"VLOOKUP(AD34,'def data'!A:F,6,FALSE)","v":29},"New York Giants",{"$f":"VLOOKUP($AD34,'def data'!$A:$F,2,FALSE)","v":30},{"$f":"VLOOKUP($AD34,'def data'!$A:$F,3,FALSE)","v":29},{"$f":"VLOOKUP($AD34,'def data'!$A:$F,4,FALSE)","v":28},{"$f":"IFERROR(IF(Settings!$J$17=1,VLOOKUP(AD34,'full ppr adp'!C:K,9,FALSE),IF(Settings!$J$17=0,VLOOKUP(AD34,'standard adp'!C:J,8,FALSE),VLOOKUP(AD34,'half ppr adp'!C:J,8,FALSE))),VLOOKUP(AD34,'full ppr adp'!C:K,9,FALSE))","v":228}]
[null,null,null,null,null,null,null,"Phillip Lindsay","DEN",{"$f":"VLOOKUP(_xlfn.CONCAT(I35,H35),'rb data'!A:X,24,FALSE)","v":135.35248687999999},{"$f":"IFERROR(J35-LARGE($J$3:$J$100,'Position Expectations'!$B$4+1),J35-MIN($J$3:$J$100))","v":75.78596207999999},{"$f":"IFERROR(J35-LARGE($J$3:$J$100,Settings!$F$21*Settings!$D$23),J35-MIN($J$3:$J$100))+IF(Settings!$D$26>0,MAX(0,LARGE($J$3:$J$100,Settings!$F$21*Settings!$D$23)-LARGE(($Q$3:$Q$150,$J$3:$J$100),Settings!$F$21*(Settings!$D$23+Settings!$D$24+Settings!$D$26))),0)","v":-33.703174620000055},{"$f":"IFERROR((IFERROR(IF(Settings!$J$17=1,VLOOKUP(_xlfn.CONCAT(I35,H35),'full ppr adp'!$A:$K,11,FALSE),IF(Settings!$J$17=0,VLOOKUP(_xlfn.CONCAT(I35,H35),'standard adp'!$A:$J,10,FALSE),VLOOKUP(_xlfn.CONCAT(I35,H35),'half ppr adp'!$A:$J,10,FALSE))),VLOOKUP(_xlfn.CONCAT(I35,H35),'full ppr adp'!$A:$K,11,FALSE))),\"UND\")","v":88},null,"Jamison Crowder","NYJ",{"$f":"VLOOKUP(_xlfn.CONCAT(P35,O35),'wr data'!A:X,24,FALSE)","v":178.165794065},{"$f":"IFERROR(Q35-LARGE($Q$3:$Q$150,'Position Expectations'!$B$5+1),Q35-MIN($Q$3:$Q$150))","v":51.605199564999964},{"$f":"IFERROR(Q35-LARGE($Q$3:$Q$150,Settings!$F$21*Settings!$D$24),Q35-MIN($Q$3:$Q$150))+IF(Settings!$D$26>0,MAX(0,LARGE($Q$3:$Q$150,Settings!$F$21*Settings!$D$24)-LARGE(($Q$3:$Q$150,$J$3:$J$100),Settings!$F$21*(Settings!$D$23+Settings!$D$24+Settings!$D$26))),0)","v":6.417516164999995},{"$f":"IFERROR((IFERROR(IF(Settings!$J$17=1,VLOOKUP(_xlfn.CONCAT(P35,O35),'full ppr adp'!$A:$K,11,FALSE),IF(Settings!$J$17=0,VLOOKUP(_xlfn.CONCAT(P35,O35),'standard adp'!$A:$J,10,FALSE),VLOOKUP(_xlfn.CONCAT(P35,O35),'half ppr adp'!$A:$J,10,FALSE))),VLOOKUP(_xlfn.CONCAT(P35,O35),'full ppr adp'!$A:$K,11,FALSE))),\"UND\")","v":99.666666666666671},null,"Gerald Everett","LAR",{"$f":"VLOOKUP(_xlfn.CONCAT(W35,V35),'te data'!A:X,24,FALSE)","v":80.802438839999994},{"$f":"IFERROR(X35-LARGE($X$3:$X$54,'Position Expectations'!$B$6+1),X35-MIN($X$3:$X$54))","v":-41.794558760000015},{"$f":"IFERROR(X35-LARGE($X$3:$X$75,Settings!$F$21*Settings!$D$25),X35-MIN($X$3:$X$75))+IF(Settings!$D$26>0,MAX(0,LARGE($X$3:$X$75,Settings!$F$21*Settings!$D$25)-LARGE(($Q$3:$Q$150,$J$3:$J$100,$X$3:$X$75),Settings!$F$21*(Settings!$D$23+Settings!$D$24+Settings!$D$26))),0)","v":-52.623312659999996},{"$f":"IFERROR((IFERROR(IF(Settings!$J$17=1,VLOOKUP(_xlfn.CONCAT(W35,V35),'full ppr adp'!$A:$K,11,FALSE),IF(Settings!$J$17=0,VLOOKUP(_xlfn.CONCAT(W35,V35),'standard adp'!$A:$J,10,FALSE),VLOOKUP(_xlfn.CONCAT(W35,V35),'half ppr adp'!$A:$J,10,FALSE))),VLOOKUP(_xlfn.CONCAT(W35,V35),'full ppr adp'!$A:$K,11,FALSE))),\"UND\")","v":261},null,{"$f":"VLOOKUP(AD35,'def data'!A:F,6,FALSE)","v":30},"Arizona Cardinals",{"$f":"VLOOKUP($AD35,'def data'!$A:$F,2,FALSE)","v":18},{"$f":"VLOOKUP($AD35,'def data'!$A:$F,3,FALSE)","v":32},{"$f":"VLOOKUP($AD35,'def data'!$A:$F,4,FALSE)","v":31},{"$f":"IFERROR(IF(Settings!$J$17=1,VLOOKUP(AD35,'full ppr adp'!C:K,9,FALSE),IF(Settings!$J$17=0,VLOOKUP(AD35,'standard adp'!C:J,8,FALSE),VLOOKUP(AD35,'half ppr adp'!C:J,8,FALSE))),VLOOKUP(AD35,'full ppr adp'!C:K,9,FALSE))","v":298}]
["K",null,null,null,null,null,null,"Ronald Jones II","TB",{"$f":"VLOOKUP(_xlfn.CONCAT(I36,H36),'rb data'!A:X,24,FALSE)","v":134.72436737000001},{"$f":"IFERROR(J36-LARGE($J$3:$J$100,'Position Expectations'!$B$4+1),J36-MIN($J$3:$J$100))","v":75.157842570000014},{"$f":"IFERROR(J36-LARGE($J$3:$J$100,Settings!$F$21*Settings!$D$23),J36-MIN($J$3:$J$100))+IF(Settings!$D$26>0,MAX(0,LARGE($J$3:$J$100,Settings!$F$21*Settings!$D$23)-LARGE(($Q$3:$Q$150,$J$3:$J$100),Settings!$F$21*(Settings!$D$23+Settings!$D$24+Settings!$D$26))),0)","v":-34.331294130000032},{"$f":"IFERROR((IFERROR(IF(Settings!$J$17=1,VLOOKUP(_xlfn.CONCAT(I36,H36),'full ppr adp'!$A:$K,11,FALSE),IF(Settings!$J$17=0,VLOOKUP(_xlfn.CONCAT(I36,H36),'standard adp'!$A:$J,10,FALSE),VLOOKUP(_xlfn.CONCAT(I36,H36),'half ppr adp'!$A:$J,10,FALSE))),VLOOKUP(_xlfn.CONCAT(I36,H36),'full ppr adp'!$A:$K,11,FALSE))),\"UND\")","v":79.333333333333329},null,"Diontae Johnson","PIT",{"$f":"VLOOKUP(_xlfn.CONCAT(P36,O36),'wr data'!A:X,24,FALSE)","v":176.01061920000001},{"$f":"IFERROR(Q36-LARGE($Q$3:$Q$150,'Position Expectations'!$B$5+1),Q36-MIN($Q$3:$Q$150))","v":49.450024699999972},{"$f":"IFERROR(Q36-LARGE($Q$3:$Q$150,Settings!$F$21*Settings!$D$24),Q36-MIN($Q$3:$Q$150))+IF(Settings!$D$26>0,MAX(0,LARGE($Q$3:$Q$150,Settings!$F$21*Settings!$D$24)-LARGE(($Q$3:$Q$150,$J$3:$J$100),Settings!$F$21*(Settings!$D$23+Settings!$D$24+Settings!$D$26))),0)","v":4.2623413000000028},{"$f":"IFERROR((IFERROR(IF(Settings!$J$17=1,VLOOKUP(_xlfn.CONCAT(P36,O36),'full ppr adp'!$A:$K,11,FALSE),IF(Settings!$J$17=0,VLOOKUP(_xlfn.CONCAT(P36,O36),'standard adp'!$A:$J,10,FALSE),VLOOKUP(_xlfn.CONCAT(P36,O36),'half ppr adp'!$A:$J,10,FALSE))),VLOOKUP(_xlfn.CONCAT(P36,O36),'full ppr adp'!$A:$K,11,FALSE))),\"UND\")","v":102.66666666666667},null,"David Njoku","CLE",{"$f":"VLOOKUP(_xlfn.CONCAT(W36,V36),'te data'!A:X,24,FALSE)","v":79.600178069999998},{"$f":"IFERROR(X36-LARGE($X$3:$X$54,'Position Expectations'!$B$6+1),X36-MIN($X$3:$X$54))","v":-42.99681953000001},{"$f":"IFERROR(X36-LARGE($X$3:$X$75,Settings!$F$21*Settings!$D$25),X36-MIN($X$3:$X$75))+IF(Settings!$D$26>0,MAX(0,LARGE($X$3:$X$75,Settings!$F$21*Settings!$D$25)-LARGE(($Q$3:$Q$150,$J$3:$J$100,$X$3:$X$75),Settings!$F$21*(Settings!$D$23+Settings!$D$24+Settings!$D$26))),0)","v":-53.825573429999992},{"$f":"IFERROR((IFERROR(IF(Settings!$J$17=1,VLOOKUP(_xlfn.CONCAT(W36,V36),'full ppr adp'!$A:$K,11,FALSE),IF(Settings!$J$17=0,VLOOKUP(_xlfn.CONCAT(W36,V36),'standard adp'!$A:$J,10,FALSE),VLOOKUP(_xlfn.CONCAT(W36,V36),'half ppr adp'!$A:$J,10,FALSE))),VLOOKUP(_xlfn.CONCAT(W36,V36),'full ppr adp'!$A:$K,11,FALSE))),\"UND\")","v":249.5},null,{"$f":"VLOOKUP(AD36,'def data'!A:F,6,FALSE)","v":31},"Miami Dolphins",{"$f":"VLOOKUP($AD36,'def data'!$A:$F,2,FALSE)","v":28},{"$f":"VLOOKUP($AD36,'def data'!$A:$F,3,FALSE)","v":19},{"$f":"VLOOKUP($AD36,'def data'!$A:$F,4,FALSE)","v":32},{"$f":"IFERROR(IF(Settings!$J$17=1,VLOOKUP(AD36,'full ppr adp'!C:K,9,FALSE),IF(Settings!$J$17=0,VLOOKUP(AD36,'standard adp'!C:J,8,FALSE),VLOOKUP(AD36,'half ppr adp'!C:J,8,FALSE))),VLOOKUP(AD36,'full ppr adp'!C:K,9,FALSE))","v":351}]
["Name","Team","Pts","VORP","VOSP","ADP",null,"Duke Johnson","HOU",{"$f":"VLOOKUP(_xlfn.CONCAT(I37,H37),'rb data'!A:X,24,FALSE)","v":133.3027008},{"$f":"IFERROR(J37-LARGE($J$3:$J$100,'Position Expectations'!$B$4+1),J37-MIN($J$3:$J$100))","v":73.736176},{"$f":"IFERROR(J37-LARGE($J$3:$J$100,Settings!$F$21*Settings!$D$23),J37-MIN($J$3:$J$100))+IF(Settings!$D$26>0,MAX(0,LARGE($J$3:$J$100,Settings!$F$21*Settings!$D$23)-LARGE(($Q$3:$Q$150,$J$3:$J$100),Settings!$F$21*(Settings!$D$23+Settings!$D$24+Settings!$D$26))),0)","v":-35.752960700000045},{"$f":"IFERROR((IFERROR(IF(Settings!$J$17=1,VLOOKUP(_xlfn.CONCAT(I37,H37),'full ppr adp'!$A:$K,11,FALSE),IF(Settings!$J$17=0,VLOOKUP(_xlfn.CONCAT(I37,H37),'standard adp'!$A:$J,10,FALSE),VLOOKUP(_xlfn.CONCAT(I37,H37),'half ppr adp'!$A:$J,10,FALSE))),VLOOKUP(_xlfn.CONCAT(I37,H37),'full ppr adp'!$A:$K,11,FALSE))),\"UND\")","v":132.33333333333334},null,"Marquise Brown","BAL",{"$f":"VLOOKUP(_xlfn.CONCAT(P37,O37),'wr data'!A:X,24,FALSE)","v":174.5061024},{"$f":"IFERROR(Q37-LARGE($Q$3:$Q$150,'Position Expectations'!$B$5+1),Q37-MIN($Q$3:$Q$150))","v":47.945507899999967},{"$f":"IFERROR(Q37-LARGE($Q$3:$Q$150,Settings!$F$21*Settings!$D$24),Q37-MIN($Q$3:$Q$150))+IF(Settings!$D$26>0,MAX(0,LARGE($Q$3:$Q$150,Settings!$F$21*Settings!$D$24)-LARGE(($Q$3:$Q$150,$J$3:$J$100),Settings!$F$21*(Settings!$D$23+Settings!$D$24+Settings!$D$26))),0)","v":2.7578244999999981},{"$f":"IFERROR((IFERROR(IF(Settings!$J$17=1,VLOOKUP(_xlfn.CONCAT(P37,O37),'full ppr adp'!$A:$K,11,FALSE),IF(Settings!$J$17=0,VLOOKUP(_xlfn.CONCAT(P37,O37),'standard adp'!$A:$J,10,FALSE),VLOOKUP(_xlfn.CONCAT(P37,O37),'half ppr adp'!$A:$J,10,FALSE))),VLOOKUP(_xlfn.CONCAT(P37,O37),'full ppr adp'!$A:$K,11,FALSE))),\"UND\")","v":73.333333333333329},null,"Vance McDonald","PIT",{"$f":"VLOOKUP(_xlfn.CONCAT(W37,V37),'te data'!A:X,24,FALSE)","v":75.625538000000006},{"$f":"IFERROR(X37-LARGE($X$3:$X$54,'Position Expectations'!$B$6+1),X37-MIN($X$3:$X$54))","v":-46.971459600000003},{"$f":"IFERROR(X37-LARGE($X$3:$X$75,Settings!$F$21*Settings!$D$25),X37-MIN($X$3:$X$75))+IF(Settings!$D$26>0,MAX(0,LARGE($X$3:$X$75,Settings!$F$21*Settings!$D$25)-LARGE(($Q$3:$Q$150,$J$3:$J$100,$X$3:$X$75),Settings!$F$21*(Settings!$D$23+Settings!$D$24+Settings!$D$26))),0)","v":-57.800213499999984},{"$f":"IFERROR((IFERROR(IF(Settings!$J$17=1,VLOOKUP(_xlfn.CONCAT(W37,V37),'full ppr adp'!$A:$K,11,FALSE),IF(Settings!$J$17=0,VLOOKUP(_xlfn.CONCAT(W37,V37),'standard adp'!$A:$J,10,FALSE),VLOOKUP(_xlfn.CONCAT(W37,V37),'half ppr adp'!$A:$J,10,FALSE))),VLOOKUP(_xlfn.CONCAT(W37,V37),'full ppr adp'!$A:$K,11,FALSE))),\"UND\")","v":264.5},null,{"$f":"VLOOKUP(AD37,'def data'!A:F,6,FALSE)","v":32},"Las Vegas Raiders",{"$f":"VLOOKUP($AD37,'def data'!$A:$F,2,FALSE)","v":32},{"$f":"VLOOKUP($AD37,'def data'!$A:$F,3,FALSE)","v":28},{"$f":"VLOOKUP($AD37,'def data'!$A:$F,4,FALSE)","v":30},{"$f":"IFERROR(IF(Settings!$J$17=1,VLOOKUP(AD37,'full ppr adp'!C:K,9,FALSE),IF(Settings!$J$17=0,VLOOKUP(AD37,'standard adp'!C:J,8,FALSE),VLOOKUP(AD37,'half ppr adp'!C:J,8,FALSE))),VLOOKUP(AD37,'full ppr adp'!C:K,9,FALSE))","v":239}]
["Harrison Butker","KC",{"$f":"VLOOKUP(_xlfn.CONCAT(B38,A38),'k data'!A:E,5,FALSE)","v":154.77000000000001},{"$f":"IFERROR(C38-LARGE($C$38:$C$69,'Position Expectations'!$B$7+1),C38-MIN($C$38:$C$69))","v":24.710000000000008},{"$f":"IFERROR(C38-LARGE($C$38:$C$75,Settings!$F$21*Settings!$D$27),C38-MIN($C$38:$C$75))","v":23.28},{"$f":"IFERROR(IF(Settings!$J$17=1,VLOOKUP(_xlfn.CONCAT(B38,A38),'full ppr adp'!$A:$K,11,FALSE),IF(Settings!$J$17=0,VLOOKUP(_xlfn.CONCAT(B38,A38),'standard adp'!$A:$J,10,FALSE),VLOOKUP(_xlfn.CONCAT(B38,A38),'half ppr adp'!$A:$J,10,FALSE))),VLOOKUP(_xlfn.CONCAT(B38,A38),'full ppr adp'!$A:$K,11,FALSE))","v":133.66666666666666},null,"Marlon Mack","IND",{"$f":"VLOOKUP(_xlfn.CONCAT(I38,H38),'rb data'!A:X,24,FALSE)","v":130.94339520000003},{"$f":"IFERROR(J38-LARGE($J$3:$J$100,'Position Expectations'!$B$4+1),J38-MIN($J$3:$J$100))","v":71.37687040000003},{"$f":"IFERROR(J38-LARGE($J$3:$J$100,Settings!$F$21*Settings!$D$23),J38-MIN($J$3:$J$100))+IF(Settings!$D$26>0,MAX(0,LARGE($J$3:$J$100,Settings!$F$21*Settings!$D$23)-LARGE(($Q$3:$Q$150,$J$3:$J$100),Settings!$F$21*(Settings!$D$23+Settings!$D$24+Settings!$D$26))),0)","v":-38.112266300000016},{"$f":"IFERROR((IFERROR(IF(Settings!$J$17=1,VLOOKUP(_xlfn.CONCAT(I38,H38),'full ppr adp'!$A:$K,11,FALSE),IF(Settings!$J$17=0,VLOOKUP(_xlfn.CONCAT(I38,H38),'standard adp'!$A:$J,10,FALSE),VLOOKUP(_xlfn.CONCAT(I38,H38),'half ppr adp'!$A:$J,10,FALSE))),VLOOKUP(_xlfn.CONCAT(I38,H38),'full ppr adp'!$A:$K,11,FALSE))),\"UND\")","v":107.66666666666667},null,"Jarvis Landry","CLE",{"$f":"VLOOKUP(_xlfn.CONCAT(P38,O38),'wr data'!A:X,24,FALSE)","v":174.46859696000001},{"$f":"IFERROR(Q38-LARGE($Q$3:$Q$150,'Position Expectations'!$B$5+1),Q38-MIN($Q$3:$Q$150))","v":47.908002459999977},{"$f":"IFERROR(Q38-LARGE($Q$3:$Q$150,Settings!$F$21*Settings!$D$24),Q38-MIN($Q$3:$Q$150))+IF(Settings!$D$26>0,MAX(0,LARGE($Q$3:$Q$150,Settings!$F$21*Settings!$D$24)-LARGE(($Q$3:$Q$150,$J$3:$J$100),Settings!$F$21*(Settings!$D$23+Settings!$D$24+Settings!$D$26))),0)","v":2.7203190600000084},{"$f":"IFERROR((IFERROR(IF(Settings!$J$17=1,VLOOKUP(_xlfn.CONCAT(P38,O38),'full ppr adp'!$A:$K,11,FALSE),IF(Settings!$J$17=0,VLOOKUP(_xlfn.CONCAT(P38,O38),'standard adp'!$A:$J,10,FALSE),VLOOKUP(_xlfn.CONCAT(P38,O38),'half ppr adp'!$A:$J,10,FALSE))),VLOOKUP(_xlfn.CONCAT(P38,O38),'full ppr adp'!$A:$K,11,FALSE))),\"UND\")","v":67.333333333333329},null,"Irv Smith Jr.","MIN",{"$f":"VLOOKUP(_xlfn.CONCAT(W38,V38),'te data'!A:X,24,FALSE)","v":75.289671999999996},{"$f":"IFERROR(X38-LARGE($X$3:$X$54,'Position Expectations'!$B$6+1),X38-MIN($X$3:$X$54))","v":-47.307325600000013},{"$f":"IFERROR(X38-LARGE($X$3:$X$75,Settings!$F$21*Settings!$D$25),X38-MIN($X$3:$X$75))+IF(Settings!$D$26>0,MAX(0,LARGE($X$3:$X$75,Settings!$F$21*Settings!$D$25)-LARGE(($Q$3:$Q$150,$J$3:$J$100,$X$3:$X$75),Settings!$F$21*(Settings!$D$23+Settings!$D$24+Settings!$D$26))),0)","v":-58.136079499999994},{"$f":"IFERROR((IFERROR(IF(Settings!$J$17=1,VLOOKUP(_xlfn.CONCAT(W38,V38),'full ppr adp'!$A:$K,11,FALSE),IF(Settings!$J$17=0,VLOOKUP(_xlfn.CONCAT(W38,V38),'standard adp'!$A:$J,10,FALSE),VLOOKUP(_xlfn.CONCAT(W38,V38),'half ppr adp'!$A:$J,10,FALSE))),VLOOKUP(_xlfn.CONCAT(W38,V38),'full ppr adp'!$A:$K,11,FALSE))),\"UND\")","v":205}]
["Wil Lutz","NO",{"$f":"VLOOKUP(_xlfn.CONCAT(B39,A39),'k data'!A:E,5,FALSE)","v":154.49},{"$f":"IFERROR(C39-LARGE($C$38:$C$69,'Position Expectations'!$B$7+1),C39-MIN($C$38:$C$69))","v":24.430000000000007},{"$f":"IFERROR(C39-LARGE($C$38:$C$75,Settings!$F$21*Settings!$D$27),C39-MIN($C$38:$C$75))","v":23},{"$f":"IFERROR(IF(Settings!$J$17=1,VLOOKUP(_xlfn.CONCAT(B39,A39),'full ppr adp'!$A:$K,11,FALSE),IF(Settings!$J$17=0,VLOOKUP(_xlfn.CONCAT(B39,A39),'standard adp'!$A:$J,10,FALSE),VLOOKUP(_xlfn.CONCAT(B39,A39),'half ppr adp'!$A:$J,10,FALSE))),VLOOKUP(_xlfn.CONCAT(B39,A39),'full ppr adp'!$A:$K,11,FALSE))","v":145.66666666666666},null,"Latavius Murray","NO",{"$f":"VLOOKUP(_xlfn.CONCAT(I39,H39),'rb data'!A:X,24,FALSE)","v":125.54201404},{"$f":"IFERROR(J39-LARGE($J$3:$J$100,'Position Expectations'!$B$4+1),J39-MIN($J$3:$J$100))","v":65.975489240000002},{"$f":"IFERROR(J39-LARGE($J$3:$J$100,Settings!$F$21*Settings!$D$23),J39-MIN($J$3:$J$100))+IF(Settings!$D$26>0,MAX(0,LARGE($J$3:$J$100,Settings!$F$21*Settings!$D$23)-LARGE(($Q$3:$Q$150,$J$3:$J$100),Settings!$F$21*(Settings!$D$23+Settings!$D$24+Settings!$D$26))),0)","v":-43.513647460000044},{"$f":"IFERROR((IFERROR(IF(Settings!$J$17=1,VLOOKUP(_xlfn.CONCAT(I39,H39),'full ppr adp'!$A:$K,11,FALSE),IF(Settings!$J$17=0,VLOOKUP(_xlfn.CONCAT(I39,H39),'standard adp'!$A:$J,10,FALSE),VLOOKUP(_xlfn.CONCAT(I39,H39),'half ppr adp'!$A:$J,10,FALSE))),VLOOKUP(_xlfn.CONCAT(I39,H39),'full ppr adp'!$A:$K,11,FALSE))),\"UND\")","v":108.66666666666667},null,"D.K. Metcalf","SEA",{"$f":"VLOOKUP(_xlfn.CONCAT(P39,O39),'wr data'!A:X,24,FALSE)","v":173.40852480000004},{"$f":"IFERROR(Q39-LARGE($Q$3:$Q$150,'Position Expectations'!$B$5+1),Q39-MIN($Q$3:$Q$150))","v":46.847930300000002},{"$f":"IFERROR(Q39-LARGE($Q$3:$Q$150,Settings!$F$21*Settings!$D$24),Q39-MIN($Q$3:$Q$150))+IF(Settings!$D$26>0,MAX(0,LARGE($Q$3:$Q$150,Settings!$F$21*Settings!$D$24)-LARGE(($Q$3:$Q$150,$J$3:$J$100),Settings!$F$21*(Settings!$D$23+Settings!$D$24+Settings!$D$26))),0)","v":1.6602469000000326},{"$f":"IFERROR((IFERROR(IF(Settings!$J$17=1,VLOOKUP(_xlfn.CONCAT(P39,O39),'full ppr adp'!$A:$K,11,FALSE),IF(Settings!$J$17=0,VLOOKUP(_xlfn.CONCAT(P39,O39),'standard adp'!$A:$J,10,FALSE),VLOOKUP(_xlfn.CONCAT(P39,O39),'half ppr adp'!$A:$J,10,FALSE))),VLOOKUP(_xlfn.CONCAT(P39,O39),'full ppr adp'!$A:$K,11,FALSE))),\"UND\")","v":53.333333333333336},null,"Dan Arnold","ARI",{"$f":"VLOOKUP(_xlfn.CONCAT(W39,V39),'te data'!A:X,24,FALSE)","v":69.273561599999994},{"$f":"IFERROR(X39-LARGE($X$3:$X$54,'Position Expectations'!$B$6+1),X39-MIN($X$3:$X$54))","v":-53.323436000000015},{"$f":"IFERROR(X39-LARGE($X$3:$X$75,Settings!$F$21*Settings!$D$25),X39-MIN($X$3:$X$75))+IF(Settings!$D$26>0,MAX(0,LARGE($X$3:$X$75,Settings!$F$21*Settings!$D$25)-LARGE(($Q$3:$Q$150,$J$3:$J$100,$X$3:$X$75),Settings!$F$21*(Settings!$D$23+Settings!$D$24+Settings!$D$26))),0)","v":-64.152189899999996},{"$f":"IFERROR((IFERROR(IF(Settings!$J$17=1,VLOOKUP(_xlfn.CONCAT(W39,V39),'full ppr adp'!$A:$K,11,FALSE),IF(Settings!$J$17=0,VLOOKUP(_xlfn.CONCAT(W39,V39),'standard adp'!$A:$J,10,FALSE),VLOOKUP(_xlfn.CONCAT(W39,V39),'half ppr adp'!$A:$J,10,FALSE))),VLOOKUP(_xlfn.CONCAT(W39,V39),'full ppr adp'!$A:$K,11,FALSE))),\"UND\")","v":307.5}]
["Justin Tucker","BAL",{"$f":"VLOOKUP(_xlfn.CONCAT(B40,A40),'k data'!A:E,5,FALSE)","v":148.63},{"$f":"IFERROR(C40-LARGE($C$38:$C$69,'Position Expectations'!$B$7+1),C40-MIN($C$38:$C$69))","v":18.569999999999993},{"$f":"IFERROR(C40-LARGE($C$38:$C$75,Settings!$F$21*Settings!$D$27),C40-MIN($C$38:$C$75))","v":17.139999999999986},{"$f":"IFERROR(IF(Settings!$J$17=1,VLOOKUP(_xlfn.CONCAT(B40,A40),'full ppr adp'!$A:$K,11,FALSE),IF(Settings!$J$17=0,VLOOKUP(_xlfn.CONCAT(B40,A40),'standard adp'!$A:$J,10,FALSE),VLOOKUP(_xlfn.CONCAT(B40,A40),'half ppr adp'!$A:$J,10,FALSE))),VLOOKUP(_xlfn.CONCAT(B40,A40),'full ppr adp'!$A:$K,11,FALSE))","v":131.66666666666666},null,"Matt Breida","MIA",{"$f":"VLOOKUP(_xlfn.CONCAT(I40,H40),'rb data'!A:X,24,FALSE)","v":124.81820400000001},{"$f":"IFERROR(J40-LARGE($J$3:$J$100,'Position Expectations'!$B$4+1),J40-MIN($J$3:$J$100))","v":65.251679200000012},{"$f":"IFERROR(J40-LARGE($J$3:$J$100,Settings!$F$21*Settings!$D$23),J40-MIN($J$3:$J$100))+IF(Settings!$D$26>0,MAX(0,LARGE($J$3:$J$100,Settings!$F$21*Settings!$D$23)-LARGE(($Q$3:$Q$150,$J$3:$J$100),Settings!$F$21*(Settings!$D$23+Settings!$D$24+Settings!$D$26))),0)","v":-44.237457500000033},{"$f":"IFERROR((IFERROR(IF(Settings!$J$17=1,VLOOKUP(_xlfn.CONCAT(I40,H40),'full ppr adp'!$A:$K,11,FALSE),IF(Settings!$J$17=0,VLOOKUP(_xlfn.CONCAT(I40,H40),'standard adp'!$A:$J,10,FALSE),VLOOKUP(_xlfn.CONCAT(I40,H40),'half ppr adp'!$A:$J,10,FALSE))),VLOOKUP(_xlfn.CONCAT(I40,H40),'full ppr adp'!$A:$K,11,FALSE))),\"UND\")","v":98.666666666666671},null,"Christian Kirk","ARI",{"$f":"VLOOKUP(_xlfn.CONCAT(P40,O40),'wr data'!A:X,24,FALSE)","v":171.74827790000001},{"$f":"IFERROR(Q40-LARGE($Q$3:$Q$150,'Position Expectations'!$B$5+1),Q40-MIN($Q$3:$Q$150))","v":45.187683399999969},{"$f":"IFERROR(Q40-LARGE($Q$3:$Q$150,Settings!$F$21*Settings!$D$24),Q40-MIN($Q$3:$Q$150))+IF(Settings!$D$26>0,MAX(0,LARGE($Q$3:$Q$150,Settings!$F$21*Settings!$D$24)-LARGE(($Q$3:$Q$150,$J$3:$J$100),Settings!$F$21*(Settings!$D$23+Settings!$D$24+Settings!$D$26))),0)","v":0},{"$f":"IFERROR((IFERROR(IF(Settings!$J$17=1,VLOOKUP(_xlfn.CONCAT(P40,O40),'full ppr adp'!$A:$K,11,FALSE),IF(Settings!$J$17=0,VLOOKUP(_xlfn.CONCAT(P40,O40),'standard adp'!$A:$J,10,FALSE),VLOOKUP(_xlfn.CONCAT(P40,O40),'half ppr adp'!$A:$J,10,FALSE))),VLOOKUP(_xlfn.CONCAT(P40,O40),'full ppr adp'!$A:$K,11,FALSE))),\"UND\")","v":97.333333333333329},null,"Trey Burton","IND",{"$f":"VLOOKUP(_xlfn.CONCAT(W40,V40),'te data'!A:X,24,FALSE)","v":68.993447999999987},{"$f":"IFERROR(X40-LARGE($X$3:$X$54,'Position Expectations'!$B$6+1),X40-MIN($X$3:$X$54))","v":-53.603549600000022},{"$f":"IFERROR(X40-LARGE($X$3:$X$75,Settings!$F$21*Settings!$D$25),X40-MIN($X$3:$X$75))+IF(Settings!$D$26>0,MAX(0,LARGE($X$3:$X$75,Settings!$F$21*Settings!$D$25)-LARGE(($Q$3:$Q$150,$J$3:$J$100,$X$3:$X$75),Settings!$F$21*(Settings!$D$23+Settings!$D$24+Settings!$D$26))),0)","v":-64.432303500000003},{"$f":"IFERROR((IFERROR(IF(Settings!$J$17=1,VLOOKUP(_xlfn.CONCAT(W40,V40),'full ppr adp'!$A:$K,11,FALSE),IF(Settings!$J$17=0,VLOOKUP(_xlfn.CONCAT(W40,V40),'standard adp'!$A:$J,10,FALSE),VLOOKUP(_xlfn.CONCAT(W40,V40),'half ppr adp'!$A:$J,10,FALSE))),VLOOKUP(_xlfn.CONCAT(W40,V40),'full ppr adp'!$A:$K,11,FALSE))),\"UND\")","v":"UND"}]
["Matt Gay","TB",{"$f":"VLOOKUP(_xlfn.CONCAT(B41,A41),'k data'!A:E,5,FALSE)","v":143.71},{"$f":"IFERROR(C41-LARGE($C$38:$C$69,'Position Expectations'!$B$7+1),C41-MIN($C$38:$C$69))","v":13.650000000000006},{"$f":"IFERROR(C41-LARGE($C$38:$C$75,Settings!$F$21*Settings!$D$27),C41-MIN($C$38:$C$75))","v":12.219999999999999},{"$f":"IFERROR(IF(Settings!$J$17=1,VLOOKUP(_xlfn.CONCAT(B41,A41),'full ppr adp'!$A:$K,11,FALSE),IF(Settings!$J$17=0,VLOOKUP(_xlfn.CONCAT(B41,A41),'standard adp'!$A:$J,10,FALSE),VLOOKUP(_xlfn.CONCAT(B41,A41),'half ppr adp'!$A:$J,10,FALSE))),VLOOKUP(_xlfn.CONCAT(B41,A41),'full ppr adp'!$A:$K,11,FALSE))","v":176},null,"Antonio Gibson","WAS",{"$f":"VLOOKUP(_xlfn.CONCAT(I41,H41),'rb data'!A:X,24,FALSE)","v":121.30924899999999},{"$f":"IFERROR(J41-LARGE($J$3:$J$100,'Position Expectations'!$B$4+1),J41-MIN($J$3:$J$100))","v":61.742724199999998},{"$f":"IFERROR(J41-LARGE($J$3:$J$100,Settings!$F$21*Settings!$D$23),J41-MIN($J$3:$J$100))+IF(Settings!$D$26>0,MAX(0,LARGE($J$3:$J$100,Settings!$F$21*Settings!$D$23)-LARGE(($Q$3:$Q$150,$J$3:$J$100),Settings!$F$21*(Settings!$D$23+Settings!$D$24+Settings!$D$26))),0)","v":-47.746412500000048},{"$f":"IFERROR((IFERROR(IF(Settings!$J$17=1,VLOOKUP(_xlfn.CONCAT(I41,H41),'full ppr adp'!$A:$K,11,FALSE),IF(Settings!$J$17=0,VLOOKUP(_xlfn.CONCAT(I41,H41),'standard adp'!$A:$J,10,FALSE),VLOOKUP(_xlfn.CONCAT(I41,H41),'half ppr adp'!$A:$J,10,FALSE))),VLOOKUP(_xlfn.CONCAT(I41,H41),'full ppr adp'!$A:$K,11,FALSE))),\"UND\")","v":141},null,"Anthony Miller","CHI",{"$f":"VLOOKUP(_xlfn.CONCAT(P41,O41),'wr data'!A:X,24,FALSE)","v":170.68435905000001},{"$f":"IFERROR(Q41-LARGE($Q$3:$Q$150,'Position Expectations'!$B$5+1),Q41-MIN($Q$3:$Q$150))","v":44.123764549999976},{"$f":"IFERROR(Q41-LARGE($Q$3:$Q$150,Settings!$F$21*Settings!$D$24),Q41-MIN($Q$3:$Q$150))+IF(Settings!$D$26>0,MAX(0,LARGE($Q$3:$Q$150,Settings!$F$21*Settings!$D$24)-LARGE(($Q$3:$Q$150,$J$3:$J$100),Settings!$F$21*(Settings!$D$23+Settings!$D$24+Settings!$D$26))),0)","v":-1.0639188499999932},{"$f":"IFERROR((IFERROR(IF(Settings!$J$17=1,VLOOKUP(_xlfn.CONCAT(P41,O41),'full ppr adp'!$A:$K,11,FALSE),IF(Settings!$J$17=0,VLOOKUP(_xlfn.CONCAT(P41,O41),'standard adp'!$A:$J,10,FALSE),VLOOKUP(_xlfn.CONCAT(P41,O41),'half ppr adp'!$A:$J,10,FALSE))),VLOOKUP(_xlfn.CONCAT(P41,O41),'full ppr adp'!$A:$K,11,FALSE))),\"UND\")","v":143.66666666666666},null,"Cole Kmet","CHI",{"$f":"VLOOKUP(_xlfn.CONCAT(W41,V41),'te data'!A:X,24,FALSE)","v":65.959510800000004},{"$f":"IFERROR(X41-LARGE($X$3:$X$54,'Position Expectations'!$B$6+1),X41-MIN($X$3:$X$54))","v":-56.637486800000005},{"$f":"IFERROR(X41-LARGE($X$3:$X$75,Settings!$F$21*Settings!$D$25),X41-MIN($X$3:$X$75))+IF(Settings!$D$26>0,MAX(0,LARGE($X$3:$X$75,Settings!$F$21*Settings!$D$25)-LARGE(($Q$3:$Q$150,$J$3:$J$100,$X$3:$X$75),Settings!$F$21*(Settings!$D$23+Settings!$D$24+Settings!$D$26))),0)","v":-67.466240699999986},{"$f":"IFERROR((IFERROR(IF(Settings!$J$17=1,VLOOKUP(_xlfn.CONCAT(W41,V41),'full ppr adp'!$A:$K,11,FALSE),IF(Settings!$J$17=0,VLOOKUP(_xlfn.CONCAT(W41,V41),'standard adp'!$A:$J,10,FALSE),VLOOKUP(_xlfn.CONCAT(W41,V41),'half ppr adp'!$A:$J,10,FALSE))),VLOOKUP(_xlfn.CONCAT(W41,V41),'full ppr adp'!$A:$K,11,FALSE))),\"UND\")","v":276}]
["Zane Gonzalez","ARI",{"$f":"VLOOKUP(_xlfn.CONCAT(B42,A42),'k data'!A:E,5,FALSE)","v":142.11000000000001},{"$f":"IFERROR(C42-LARGE($C$38:$C$69,'Position Expectations'!$B$7+1),C42-MIN($C$38:$C$69))","v":12.050000000000011},{"$f":"IFERROR(C42-LARGE($C$38:$C$75,Settings!$F$21*Settings!$D$27),C42-MIN($C$38:$C$75))","v":10.620000000000005},{"$f":"IFERROR(IF(Settings!$J$17=1,VLOOKUP(_xlfn.CONCAT(B42,A42),'full ppr adp'!$A:$K,11,FALSE),IF(Settings!$J$17=0,VLOOKUP(_xlfn.CONCAT(B42,A42),'standard adp'!$A:$J,10,FALSE),VLOOKUP(_xlfn.CONCAT(B42,A42),'half ppr adp'!$A:$J,10,FALSE))),VLOOKUP(_xlfn.CONCAT(B42,A42),'full ppr adp'!$A:$K,11,FALSE))","v":189.33333333333334},null,"Zack Moss","BUF",{"$f":"VLOOKUP(_xlfn.CONCAT(I42,H42),'rb data'!A:X,24,FALSE)","v":118.07055779999999},{"$f":"IFERROR(J42-LARGE($J$3:$J$100,'Position Expectations'!$B$4+1),J42-MIN($J$3:$J$100))","v":58.504032999999993},{"$f":"IFERROR(J42-LARGE($J$3:$J$100,Settings!$F$21*Settings!$D$23),J42-MIN($J$3:$J$100))+IF(Settings!$D$26>0,MAX(0,LARGE($J$3:$J$100,Settings!$F$21*Settings!$D$23)-LARGE(($Q$3:$Q$150,$J$3:$J$100),Settings!$F$21*(Settings!$D$23+Settings!$D$24+Settings!$D$26))),0)","v":-50.985103700000053},{"$f":"IFERROR((IFERROR(IF(Settings!$J$17=1,VLOOKUP(_xlfn.CONCAT(I42,H42),'full ppr adp'!$A:$K,11,FALSE),IF(Settings!$J$17=0,VLOOKUP(_xlfn.CONCAT(I42,H42),'standard adp'!$A:$J,10,FALSE),VLOOKUP(_xlfn.CONCAT(I42,H42),'half ppr adp'!$A:$J,10,FALSE))),VLOOKUP(_xlfn.CONCAT(I42,H42),'full ppr adp'!$A:$K,11,FALSE))),\"UND\")","v":116.66666666666667},null,"Chris Conley","JAC",{"$f":"VLOOKUP(_xlfn.CONCAT(P42,O42),'wr data'!A:X,24,FALSE)","v":167.97856799999997},{"$f":"IFERROR(Q42-LARGE($Q$3:$Q$150,'Position Expectations'!$B$5+1),Q42-MIN($Q$3:$Q$150))","v":41.417973499999931},{"$f":"IFERROR(Q42-LARGE($Q$3:$Q$150,Settings!$F$21*Settings!$D$24),Q42-MIN($Q$3:$Q$150))+IF(Settings!$D$26>0,MAX(0,LARGE($Q$3:$Q$150,Settings!$F$21*Settings!$D$24)-LARGE(($Q$3:$Q$150,$J$3:$J$100),Settings!$F$21*(Settings!$D$23+Settings!$D$24+Settings!$D$26))),0)","v":-3.7697099000000378},{"$f":"IFERROR((IFERROR(IF(Settings!$J$17=1,VLOOKUP(_xlfn.CONCAT(P42,O42),'full ppr adp'!$A:$K,11,FALSE),IF(Settings!$J$17=0,VLOOKUP(_xlfn.CONCAT(P42,O42),'standard adp'!$A:$J,10,FALSE),VLOOKUP(_xlfn.CONCAT(P42,O42),'half ppr adp'!$A:$J,10,FALSE))),VLOOKUP(_xlfn.CONCAT(P42,O42),'full ppr adp'!$A:$K,11,FALSE))),\"UND\")","v":274},null,"Jordan Akins","HOU",{"$f":"VLOOKUP(_xlfn.CONCAT(W42,V42),'te data'!A:X,24,FALSE)","v":63.325280000000006},{"$f":"IFERROR(X42-LARGE($X$3:$X$54,'Position Expectations'!$B$6+1),X42-MIN($X$3:$X$54))","v":-59.271717600000002},{"$f":"IFERROR(X42-LARGE($X$3:$X$75,Settings!$F$21*Settings!$D$25),X42-MIN($X$3:$X$75))+IF(Settings!$D$26>0,MAX(0,LARGE($X$3:$X$75,Settings!$F$21*Settings!$D$25)-LARGE(($Q$3:$Q$150,$J$3:$J$100,$X$3:$X$75),Settings!$F$21*(Settings!$D$23+Settings!$D$24+Settings!$D$26))),0)","v":-70.100471499999983},{"$f":"IFERROR((IFERROR(IF(Settings!$J$17=1,VLOOKUP(_xlfn.CONCAT(W42,V42),'full ppr adp'!$A:$K,11,FALSE),IF(Settings!$J$17=0,VLOOKUP(_xlfn.CONCAT(W42,V42),'standard adp'!$A:$J,10,FALSE),VLOOKUP(_xlfn.CONCAT(W42,V42),'half ppr adp'!$A:$J,10,FALSE))),VLOOKUP(_xlfn.CONCAT(W42,V42),'full ppr adp'!$A:$K,11,FALSE))),\"UND\")","v":"UND"}]
["Younghoe Koo","ATL",{"$f":"VLOOKUP(_xlfn.CONCAT(B43,A43),'k data'!A:E,5,FALSE)","v":139.51},{"$f":"IFERROR(C43-LARGE($C$38:$C$69,'Position Expectations'!$B$7+1),C43-MIN($C$38:$C$69))","v":9.4499999999999886},{"$f":"IFERROR(C43-LARGE($C$38:$C$75,Settings!$F$21*Settings!$D$27),C43-MIN($C$38:$C$75))","v":8.0199999999999818},{"$f":"IFERROR(IF(Settings!$J$17=1,VLOOKUP(_xlfn.CONCAT(B43,A43),'full ppr adp'!$A:$K,11,FALSE),IF(Settings!$J$17=0,VLOOKUP(_xlfn.CONCAT(B43,A43),'standard adp'!$A:$J,10,FALSE),VLOOKUP(_xlfn.CONCAT(B43,A43),'half ppr adp'!$A:$J,10,FALSE))),VLOOKUP(_xlfn.CONCAT(B43,A43),'full ppr adp'!$A:$K,11,FALSE))","v":224.66666666666666},null,"Chris Thompson","JAC",{"$f":"VLOOKUP(_xlfn.CONCAT(I43,H43),'rb data'!A:X,24,FALSE)","v":117.63924400000002},{"$f":"IFERROR(J43-LARGE($J$3:$J$100,'Position Expectations'!$B$4+1),J43-MIN($J$3:$J$100))","v":58.072719200000023},{"$f":"IFERROR(J43-LARGE($J$3:$J$100,Settings!$F$21*Settings!$D$23),J43-MIN($J$3:$J$100))+IF(Settings!$D$26>0,MAX(0,LARGE($J$3:$J$100,Settings!$F$21*Settings!$D$23)-LARGE(($Q$3:$Q$150,$J$3:$J$100),Settings!$F$21*(Settings!$D$23+Settings!$D$24+Settings!$D$26))),0)","v":-51.416417500000023},{"$f":"IFERROR((IFERROR(IF(Settings!$J$17=1,VLOOKUP(_xlfn.CONCAT(I43,H43),'full ppr adp'!$A:$K,11,FALSE),IF(Settings!$J$17=0,VLOOKUP(_xlfn.CONCAT(I43,H43),'standard adp'!$A:$J,10,FALSE),VLOOKUP(_xlfn.CONCAT(I43,H43),'half ppr adp'!$A:$J,10,FALSE))),VLOOKUP(_xlfn.CONCAT(I43,H43),'full ppr adp'!$A:$K,11,FALSE))),\"UND\")","v":205.66666666666666},null,"John Brown","BUF",{"$f":"VLOOKUP(_xlfn.CONCAT(P43,O43),'wr data'!A:X,24,FALSE)","v":166.94664689999999},{"$f":"IFERROR(Q43-LARGE($Q$3:$Q$150,'Position Expectations'!$B$5+1),Q43-MIN($Q$3:$Q$150))","v":40.386052399999954},{"$f":"IFERROR(Q43-LARGE($Q$3:$Q$150,Settings!$F$21*Settings!$D$24),Q43-MIN($Q$3:$Q$150))+IF(Settings!$D$26>0,MAX(0,LARGE($Q$3:$Q$150,Settings!$F$21*Settings!$D$24)-LARGE(($Q$3:$Q$150,$J$3:$J$100),Settings!$F$21*(Settings!$D$23+Settings!$D$24+Settings!$D$26))),0)","v":-4.8016310000000146},{"$f":"IFERROR((IFERROR(IF(Settings!$J$17=1,VLOOKUP(_xlfn.CONCAT(P43,O43),'full ppr adp'!$A:$K,11,FALSE),IF(Settings!$J$17=0,VLOOKUP(_xlfn.CONCAT(P43,O43),'standard adp'!$A:$J,10,FALSE),VLOOKUP(_xlfn.CONCAT(P43,O43),'half ppr adp'!$A:$J,10,FALSE))),VLOOKUP(_xlfn.CONCAT(P43,O43),'full ppr adp'!$A:$K,11,FALSE))),\"UND\")","v":105},null,"Ryan Griffin","NYJ",{"$f":"VLOOKUP(_xlfn.CONCAT(W43,V43),'te data'!A:X,24,FALSE)","v":58.614091340000002},{"$f":"IFERROR(X43-LARGE($X$3:$X$54,'Position Expectations'!$B$6+1),X43-MIN($X$3:$X$54))","v":-63.982906260000007},{"$f":"IFERROR(X43-LARGE($X$3:$X$75,Settings!$F$21*Settings!$D$25),X43-MIN($X$3:$X$75))+IF(Settings!$D$26>0,MAX(0,LARGE($X$3:$X$75,Settings!$F$21*Settings!$D$25)-LARGE(($Q$3:$Q$150,$J$3:$J$100,$X$3:$X$75),Settings!$F$21*(Settings!$D$23+Settings!$D$24+Settings!$D$26))),0)","v":-74.811660159999988},{"$f":"IFERROR((IFERROR(IF(Settings!$J$17=1,VLOOKUP(_xlfn.CONCAT(W43,V43),'full ppr adp'!$A:$K,11,FALSE),IF(Settings!$J$17=0,VLOOKUP(_xlfn.CONCAT(W43,V43),'standard adp'!$A:$J,10,FALSE),VLOOKUP(_xlfn.CONCAT(W43,V43),'half ppr adp'!$A:$J,10,FALSE))),VLOOKUP(_xlfn.CONCAT(W43,V43),'full ppr adp'!$A:$K,11,FALSE))),\"UND\")","v":405}]
["Brandon McManus","DEN",{"$f":"VLOOKUP(_xlfn.CONCAT(B44,A44),'k data'!A:E,5,FALSE)","v":138.97},{"$f":"IFERROR(C44-LARGE($C$38:$C$69,'Position Expectations'!$B$7+1),C44-MIN($C$38:$C$69))","v":8.9099999999999966},{"$f":"IFERROR(C44-LARGE($C$38:$C$75,Settings!$F$21*Settings!$D$27),C44-MIN($C$38:$C$75))","v":7.4799999999999898},{"$f":"IFERROR(IF(Settings!$J$17=1,VLOOKUP(_xlfn.CONCAT(B44,A44),'full ppr adp'!$A:$K,11,FALSE),IF(Settings!$J$17=0,VLOOKUP(_xlfn.CONCAT(B44,A44),'standard adp'!$A:$J,10,FALSE),VLOOKUP(_xlfn.CONCAT(B44,A44),'half ppr adp'!$A:$J,10,FALSE))),VLOOKUP(_xlfn.CONCAT(B44,A44),'full ppr adp'!$A:$K,11,FALSE))","v":251.5},null,"Tony Pollard","DAL",{"$f":"VLOOKUP(_xlfn.CONCAT(I44,H44),'rb data'!A:X,24,FALSE)","v":116.88547315000001},{"$f":"IFERROR(J44-LARGE($J$3:$J$100,'Position Expectations'!$B$4+1),J44-MIN($J$3:$J$100))","v":57.318948350000014},{"$f":"IFERROR(J44-LARGE($J$3:$J$100,Settings!$F$21*Settings!$D$23),J44-MIN($J$3:$J$100))+IF(Settings!$D$26>0,MAX(0,LARGE($J$3:$J$100,Settings!$F$21*Settings!$D$23)-LARGE(($Q$3:$Q$150,$J$3:$J$100),Settings!$F$21*(Settings!$D$23+Settings!$D$24+Settings!$D$26))),0)","v":-52.170188350000032},{"$f":"IFERROR((IFERROR(IF(Settings!$J$17=1,VLOOKUP(_xlfn.CONCAT(I44,H44),'full ppr adp'!$A:$K,11,FALSE),IF(Settings!$J$17=0,VLOOKUP(_xlfn.CONCAT(I44,H44),'standard adp'!$A:$J,10,FALSE),VLOOKUP(_xlfn.CONCAT(I44,H44),'half ppr adp'!$A:$J,10,FALSE))),VLOOKUP(_xlfn.CONCAT(I44,H44),'full ppr adp'!$A:$K,11,FALSE))),\"UND\")","v":137},null,"Brandin Cooks","HOU",{"$f":"VLOOKUP(_xlfn.CONCAT(P44,O44),'wr data'!A:X,24,FALSE)","v":166.72160400000001},{"$f":"IFERROR(Q44-LARGE($Q$3:$Q$150,'Position Expectations'!$B$5+1),Q44-MIN($Q$3:$Q$150))","v":40.161009499999977},{"$f":"IFERROR(Q44-LARGE($Q$3:$Q$150,Settings!$F$21*Settings!$D$24),Q44-MIN($Q$3:$Q$150))+IF(Settings!$D$26>0,MAX(0,LARGE($Q$3:$Q$150,Settings!$F$21*Settings!$D$24)-LARGE(($Q$3:$Q$150,$J$3:$J$100),Settings!$F$21*(Settings!$D$23+Settings!$D$24+Settings!$D$26))),0)","v":-5.0266738999999916},{"$f":"IFERROR((IFERROR(IF(Settings!$J$17=1,VLOOKUP(_xlfn.CONCAT(P44,O44),'full ppr adp'!$A:$K,11,FALSE),IF(Settings!$J$17=0,VLOOKUP(_xlfn.CONCAT(P44,O44),'standard adp'!$A:$J,10,FALSE),VLOOKUP(_xlfn.CONCAT(P44,O44),'half ppr adp'!$A:$J,10,FALSE))),VLOOKUP(_xlfn.CONCAT(P44,O44),'full ppr adp'!$A:$K,11,FALSE))),\"UND\")","v":86.333333333333329},null,"Nick Boyle","BAL",{"$f":"VLOOKUP(_xlfn.CONCAT(W44,V44),'te data'!A:X,24,FALSE)","v":58.558038000000003},{"$f":"IFERROR(X44-LARGE($X$3:$X$54,'Position Expectations'!$B$6+1),X44-MIN($X$3:$X$54))","v":-64.038959599999998},{"$f":"IFERROR(X44-LARGE($X$3:$X$75,Settings!$F$21*Settings!$D$25),X44-MIN($X$3:$X$75))+IF(Settings!$D$26>0,MAX(0,LARGE($X$3:$X$75,Settings!$F$21*Settings!$D$25)-LARGE(($Q$3:$Q$150,$J$3:$J$100,$X$3:$X$75),Settings!$F$21*(Settings!$D$23+Settings!$D$24+Settings!$D$26))),0)","v":-74.867713499999979},{"$f":"IFERROR((IFERROR(IF(Settings!$J$17=1,VLOOKUP(_xlfn.CONCAT(W44,V44),'full ppr adp'!$A:$K,11,FALSE),IF(Settings!$J$17=0,VLOOKUP(_xlfn.CONCAT(W44,V44),'standard adp'!$A:$J,10,FALSE),VLOOKUP(_xlfn.CONCAT(W44,V44),'half ppr adp'!$A:$J,10,FALSE))),VLOOKUP(_xlfn.CONCAT(W44,V44),'full ppr adp'!$A:$K,11,FALSE))),\"UND\")","v":276}]
["Josh Lambo","JAC",{"$f":"VLOOKUP(_xlfn.CONCAT(B45,A45),'k data'!A:E,5,FALSE)","v":137.9},{"$f":"IFERROR(C45-LARGE($C$38:$C$69,'Position Expectations'!$B$7+1),C45-MIN($C$38:$C$69))","v":7.8400000000000034},{"$f":"IFERROR(C45-LARGE($C$38:$C$75,Settings!$F$21*Settings!$D$27),C45-MIN($C$38:$C$75))","v":6.4099999999999966},{"$f":"IFERROR(IF(Settings!$J$17=1,VLOOKUP(_xlfn.CONCAT(B45,A45),'full ppr adp'!$A:$K,11,FALSE),IF(Settings!$J$17=0,VLOOKUP(_xlfn.CONCAT(B45,A45),'standard adp'!$A:$J,10,FALSE),VLOOKUP(_xlfn.CONCAT(B45,A45),'half ppr adp'!$A:$J,10,FALSE))),VLOOKUP(_xlfn.CONCAT(B45,A45),'full ppr adp'!$A:$K,11,FALSE))","v":256.33333333333331},null,"Boston Scott","PHI",{"$f":"VLOOKUP(_xlfn.CONCAT(I45,H45),'rb data'!A:X,24,FALSE)","v":114.38056070000002},{"$f":"IFERROR(J45-LARGE($J$3:$J$100,'Position Expectations'!$B$4+1),J45-MIN($J$3:$J$100))","v":54.814035900000022},{"$f":"IFERROR(J45-LARGE($J$3:$J$100,Settings!$F$21*Settings!$D$23),J45-MIN($J$3:$J$100))+IF(Settings!$D$26>0,MAX(0,LARGE($J$3:$J$100,Settings!$F$21*Settings!$D$23)-LARGE(($Q$3:$Q$150,$J$3:$J$100),Settings!$F$21*(Settings!$D$23+Settings!$D$24+Settings!$D$26))),0)","v":-54.675100800000024},{"$f":"IFERROR((IFERROR(IF(Settings!$J$17=1,VLOOKUP(_xlfn.CONCAT(I45,H45),'full ppr adp'!$A:$K,11,FALSE),IF(Settings!$J$17=0,VLOOKUP(_xlfn.CONCAT(I45,H45),'standard adp'!$A:$J,10,FALSE),VLOOKUP(_xlfn.CONCAT(I45,H45),'half ppr adp'!$A:$J,10,FALSE))),VLOOKUP(_xlfn.CONCAT(I45,H45),'full ppr adp'!$A:$K,11,FALSE))),\"UND\")","v":141.66666666666666},null,"Robby Anderson","CAR",{"$f":"VLOOKUP(_xlfn.CONCAT(P45,O45),'wr data'!A:X,24,FALSE)","v":165.67591864000005},{"$f":"IFERROR(Q45-LARGE($Q$3:$Q$150,'Position Expectations'!$B$5+1),Q45-MIN($Q$3:$Q$150))","v":39.115324140000013},{"$f":"IFERROR(Q45-LARGE($Q$3:$Q$150,Settings!$F$21*Settings!$D$24),Q45-MIN($Q$3:$Q$150))+IF(Settings!$D$26>0,MAX(0,LARGE($Q$3:$Q$150,Settings!$F$21*Settings!$D$24)-LARGE(($Q$3:$Q$150,$J$3:$J$100),Settings!$F$21*(Settings!$D$23+Settings!$D$24+Settings!$D$26))),0)","v":-6.0723592599999563},{"$f":"IFERROR((IFERROR(IF(Settings!$J$17=1,VLOOKUP(_xlfn.CONCAT(P45,O45),'full ppr adp'!$A:$K,11,FALSE),IF(Settings!$J$17=0,VLOOKUP(_xlfn.CONCAT(P45,O45),'standard adp'!$A:$J,10,FALSE),VLOOKUP(_xlfn.CONCAT(P45,O45),'half ppr adp'!$A:$J,10,FALSE))),VLOOKUP(_xlfn.CONCAT(P45,O45),'full ppr adp'!$A:$K,11,FALSE))),\"UND\")","v":128.66666666666666},null,"Will Dissly","SEA",{"$f":"VLOOKUP(_xlfn.CONCAT(W45,V45),'te data'!A:X,24,FALSE)","v":58.539208000000002},{"$f":"IFERROR(X45-LARGE($X$3:$X$54,'Position Expectations'!$B$6+1),X45-MIN($X$3:$X$54))","v":-64.057789600000007},{"$f":"IFERROR(X45-LARGE($X$3:$X$75,Settings!$F$21*Settings!$D$25),X45-MIN($X$3:$X$75))+IF(Settings!$D$26>0,MAX(0,LARGE($X$3:$X$75,Settings!$F$21*Settings!$D$25)-LARGE(($Q$3:$Q$150,$J$3:$J$100,$X$3:$X$75),Settings!$F$21*(Settings!$D$23+Settings!$D$24+Settings!$D$26))),0)","v":-74.886543499999988},{"$f":"IFERROR((IFERROR(IF(Settings!$J$17=1,VLOOKUP(_xlfn.CONCAT(W45,V45),'full ppr adp'!$A:$K,11,FALSE),IF(Settings!$J$17=0,VLOOKUP(_xlfn.CONCAT(W45,V45),'standard adp'!$A:$J,10,FALSE),VLOOKUP(_xlfn.CONCAT(W45,V45),'half ppr adp'!$A:$J,10,FALSE))),VLOOKUP(_xlfn.CONCAT(W45,V45),'full ppr adp'!$A:$K,11,FALSE))),\"UND\")","v":253.66666666666666}]
["Chris Boswell","PIT",{"$f":"VLOOKUP(_xlfn.CONCAT(B46,A46),'k data'!A:E,5,FALSE)","v":137.88999999999999},{"$f":"IFERROR(C46-LARGE($C$38:$C$69,'Position Expectations'!$B$7+1),C46-MIN($C$38:$C$69))","v":7.8299999999999841},{"$f":"IFERROR(C46-LARGE($C$38:$C$75,Settings!$F$21*Settings!$D$27),C46-MIN($C$38:$C$75))","v":6.3999999999999773},{"$f":"IFERROR(IF(Settings!$J$17=1,VLOOKUP(_xlfn.CONCAT(B46,A46),'full ppr adp'!$A:$K,11,FALSE),IF(Settings!$J$17=0,VLOOKUP(_xlfn.CONCAT(B46,A46),'standard adp'!$A:$J,10,FALSE),VLOOKUP(_xlfn.CONCAT(B46,A46),'half ppr adp'!$A:$J,10,FALSE))),VLOOKUP(_xlfn.CONCAT(B46,A46),'full ppr adp'!$A:$K,11,FALSE))","v":225},null,"Tevin Coleman","SF",{"$f":"VLOOKUP(_xlfn.CONCAT(I46,H46),'rb data'!A:X,24,FALSE)","v":110.647975434},{"$f":"IFERROR(J46-LARGE($J$3:$J$100,'Position Expectations'!$B$4+1),J46-MIN($J$3:$J$100))","v":51.081450634000007},{"$f":"IFERROR(J46-LARGE($J$3:$J$100,Settings!$F$21*Settings!$D$23),J46-MIN($J$3:$J$100))+IF(Settings!$D$26>0,MAX(0,LARGE($J$3:$J$100,Settings!$F$21*Settings!$D$23)-LARGE(($Q$3:$Q$150,$J$3:$J$100),Settings!$F$21*(Settings!$D$23+Settings!$D$24+Settings!$D$26))),0)","v":-58.407686066000039},{"$f":"IFERROR((IFERROR(IF(Settings!$J$17=1,VLOOKUP(_xlfn.CONCAT(I46,H46),'full ppr adp'!$A:$K,11,FALSE),IF(Settings!$J$17=0,VLOOKUP(_xlfn.CONCAT(I46,H46),'standard adp'!$A:$J,10,FALSE),VLOOKUP(_xlfn.CONCAT(I46,H46),'half ppr adp'!$A:$J,10,FALSE))),VLOOKUP(_xlfn.CONCAT(I46,H46),'full ppr adp'!$A:$K,11,FALSE))),\"UND\")","v":112.66666666666667},null,"Breshad Perriman","NYJ",{"$f":"VLOOKUP(_xlfn.CONCAT(P46,O46),'wr data'!A:X,24,FALSE)","v":165.11097200000003},{"$f":"IFERROR(Q46-LARGE($Q$3:$Q$150,'Position Expectations'!$B$5+1),Q46-MIN($Q$3:$Q$150))","v":38.550377499999996},{"$f":"IFERROR(Q46-LARGE($Q$3:$Q$150,Settings!$F$21*Settings!$D$24),Q46-MIN($Q$3:$Q$150))+IF(Settings!$D$26>0,MAX(0,LARGE($Q$3:$Q$150,Settings!$F$21*Settings!$D$24)-LARGE(($Q$3:$Q$150,$J$3:$J$100),Settings!$F$21*(Settings!$D$23+Settings!$D$24+Settings!$D$26))),0)","v":-6.6373058999999728},{"$f":"IFERROR((IFERROR(IF(Settings!$J$17=1,VLOOKUP(_xlfn.CONCAT(P46,O46),'full ppr adp'!$A:$K,11,FALSE),IF(Settings!$J$17=0,VLOOKUP(_xlfn.CONCAT(P46,O46),'standard adp'!$A:$J,10,FALSE),VLOOKUP(_xlfn.CONCAT(P46,O46),'half ppr adp'!$A:$J,10,FALSE))),VLOOKUP(_xlfn.CONCAT(P46,O46),'full ppr adp'!$A:$K,11,FALSE))),\"UND\")","v":160},null,"Anthony Firkser","TEN",{"$f":"VLOOKUP(_xlfn.CONCAT(W46,V46),'te data'!A:X,24,FALSE)","v":56.807260835000008},{"$f":"IFERROR(X46-LARGE($X$3:$X$54,'Position Expectations'!$B$6+1),X46-MIN($X$3:$X$54))","v":-65.789736765000001},{"$f":"IFERROR(X46-LARGE($X$3:$X$75,Settings!$F$21*Settings!$D$25),X46-MIN($X$3:$X$75))+IF(Settings!$D$26>0,MAX(0,LARGE($X$3:$X$75,Settings!$F$21*Settings!$D$25)-LARGE(($Q$3:$Q$150,$J$3:$J$100,$X$3:$X$75),Settings!$F$21*(Settings!$D$23+Settings!$D$24+Settings!$D$26))),0)","v":-76.618490664999982},{"$f":"IFERROR((IFERROR(IF(Settings!$J$17=1,VLOOKUP(_xlfn.CONCAT(W46,V46),'full ppr adp'!$A:$K,11,FALSE),IF(Settings!$J$17=0,VLOOKUP(_xlfn.CONCAT(W46,V46),'standard adp'!$A:$J,10,FALSE),VLOOKUP(_xlfn.CONCAT(W46,V46),'half ppr adp'!$A:$J,10,FALSE))),VLOOKUP(_xlfn.CONCAT(W46,V46),'full ppr adp'!$A:$K,11,FALSE))),\"UND\")","v":"UND"}]
["Matt Prater","DET",{"$f":"VLOOKUP(_xlfn.CONCAT(B47,A47),'k data'!A:E,5,FALSE)","v":136.91999999999999},{"$f":"IFERROR(C47-LARGE($C$38:$C$69,'Position Expectations'!$B$7+1),C47-MIN($C$38:$C$69))","v":6.8599999999999852},{"$f":"IFERROR(C47-LARGE($C$38:$C$75,Settings!$F$21*Settings!$D$27),C47-MIN($C$38:$C$75))","v":5.4299999999999784},{"$f":"IFERROR(IF(Settings!$J$17=1,VLOOKUP(_xlfn.CONCAT(B47,A47),'full ppr adp'!$A:$K,11,FALSE),IF(Settings!$J$17=0,VLOOKUP(_xlfn.CONCAT(B47,A47),'standard adp'!$A:$J,10,FALSE),VLOOKUP(_xlfn.CONCAT(B47,A47),'half ppr adp'!$A:$J,10,FALSE))),VLOOKUP(_xlfn.CONCAT(B47,A47),'full ppr adp'!$A:$K,11,FALSE))","v":193.33333333333334},null,"J.K. Dobbins","BAL",{"$f":"VLOOKUP(_xlfn.CONCAT(I47,H47),'rb data'!A:X,24,FALSE)","v":110.3314821},{"$f":"IFERROR(J47-LARGE($J$3:$J$100,'Position Expectations'!$B$4+1),J47-MIN($J$3:$J$100))","v":50.764957300000006},{"$f":"IFERROR(J47-LARGE($J$3:$J$100,Settings!$F$21*Settings!$D$23),J47-MIN($J$3:$J$100))+IF(Settings!$D$26>0,MAX(0,LARGE($J$3:$J$100,Settings!$F$21*Settings!$D$23)-LARGE(($Q$3:$Q$150,$J$3:$J$100),Settings!$F$21*(Settings!$D$23+Settings!$D$24+Settings!$D$26))),0)","v":-58.72417940000004},{"$f":"IFERROR((IFERROR(IF(Settings!$J$17=1,VLOOKUP(_xlfn.CONCAT(I47,H47),'full ppr adp'!$A:$K,11,FALSE),IF(Settings!$J$17=0,VLOOKUP(_xlfn.CONCAT(I47,H47),'standard adp'!$A:$J,10,FALSE),VLOOKUP(_xlfn.CONCAT(I47,H47),'half ppr adp'!$A:$J,10,FALSE))),VLOOKUP(_xlfn.CONCAT(I47,H47),'full ppr adp'!$A:$K,11,FALSE))),\"UND\")","v":91},null,"Sterling Shepard","NYG",{"$f":"VLOOKUP(_xlfn.CONCAT(P47,O47),'wr data'!A:X,24,FALSE)","v":164.0546817},{"$f":"IFERROR(Q47-LARGE($Q$3:$Q$150,'Position Expectations'!$B$5+1),Q47-MIN($Q$3:$Q$150))","v":37.494087199999967},{"$f":"IFERROR(Q47-LARGE($Q$3:$Q$150,Settings!$F$21*Settings!$D$24),Q47-MIN($Q$3:$Q$150))+IF(Settings!$D$26>0,MAX(0,LARGE($Q$3:$Q$150,Settings!$F$21*Settings!$D$24)-LARGE(($Q$3:$Q$150,$J$3:$J$100),Settings!$F$21*(Settings!$D$23+Settings!$D$24+Settings!$D$26))),0)","v":-7.6935962000000018},{"$f":"IFERROR((IFERROR(IF(Settings!$J$17=1,VLOOKUP(_xlfn.CONCAT(P47,O47),'full ppr adp'!$A:$K,11,FALSE),IF(Settings!$J$17=0,VLOOKUP(_xlfn.CONCAT(P47,O47),'standard adp'!$A:$J,10,FALSE),VLOOKUP(_xlfn.CONCAT(P47,O47),'half ppr adp'!$A:$J,10,FALSE))),VLOOKUP(_xlfn.CONCAT(P47,O47),'full ppr adp'!$A:$K,11,FALSE))),\"UND\")","v":104.33333333333333},null,"Cameron Brate","TB",{"$f":"VLOOKUP(_xlfn.CONCAT(W47,V47),'te data'!A:X,24,FALSE)","v":55.371193680000005},{"$f":"IFERROR(X47-LARGE($X$3:$X$54,'Position Expectations'!$B$6+1),X47-MIN($X$3:$X$54))","v":-67.225803920000004},{"$f":"IFERROR(X47-LARGE($X$3:$X$75,Settings!$F$21*Settings!$D$25),X47-MIN($X$3:$X$75))+IF(Settings!$D$26>0,MAX(0,LARGE($X$3:$X$75,Settings!$F$21*Settings!$D$25)-LARGE(($Q$3:$Q$150,$J$3:$J$100,$X$3:$X$75),Settings!$F$21*(Settings!$D$23+Settings!$D$24+Settings!$D$26))),0)","v":-78.054557819999985},{"$f":"IFERROR((IFERROR(IF(Settings!$J$17=1,VLOOKUP(_xlfn.CONCAT(W47,V47),'full ppr adp'!$A:$K,11,FALSE),IF(Settings!$J$17=0,VLOOKUP(_xlfn.CONCAT(W47,V47),'standard adp'!$A:$J,10,FALSE),VLOOKUP(_xlfn.CONCAT(W47,V47),'half ppr adp'!$A:$J,10,FALSE))),VLOOKUP(_xlfn.CONCAT(W47,V47),'full ppr adp'!$A:$K,11,FALSE))),\"UND\")","v":302.5}]
["Chase McLaughlin","IND",{"$f":"VLOOKUP(_xlfn.CONCAT(B48,A48),'k data'!A:E,5,FALSE)","v":133.34},{"$f":"IFERROR(C48-LARGE($C$38:$C$69,'Position Expectations'!$B$7+1),C48-MIN($C$38:$C$69))","v":3.2800000000000011},{"$f":"IFERROR(C48-LARGE($C$38:$C$75,Settings!$F$21*Settings!$D$27),C48-MIN($C$38:$C$75))","v":1.8499999999999943},{"$f":"IFERROR(IF(Settings!$J$17=1,VLOOKUP(_xlfn.CONCAT(B48,A48),'full ppr adp'!$A:$K,11,FALSE),IF(Settings!$J$17=0,VLOOKUP(_xlfn.CONCAT(B48,A48),'standard adp'!$A:$J,10,FALSE),VLOOKUP(_xlfn.CONCAT(B48,A48),'half ppr adp'!$A:$J,10,FALSE))),VLOOKUP(_xlfn.CONCAT(B48,A48),'full ppr adp'!$A:$K,11,FALSE))","v":283},null,"Darrell Henderson","LAR",{"$f":"VLOOKUP(_xlfn.CONCAT(I48,H48),'rb data'!A:X,24,FALSE)","v":108.12810716},{"$f":"IFERROR(J48-LARGE($J$3:$J$100,'Position Expectations'!$B$4+1),J48-MIN($J$3:$J$100))","v":48.561582360000003},{"$f":"IFERROR(J48-LARGE($J$3:$J$100,Settings!$F$21*Settings!$D$23),J48-MIN($J$3:$J$100))+IF(Settings!$D$26>0,MAX(0,LARGE($J$3:$J$100,Settings!$F$21*Settings!$D$23)-LARGE(($Q$3:$Q$150,$J$3:$J$100),Settings!$F$21*(Settings!$D$23+Settings!$D$24+Settings!$D$26))),0)","v":-60.927554340000043},{"$f":"IFERROR((IFERROR(IF(Settings!$J$17=1,VLOOKUP(_xlfn.CONCAT(I48,H48),'full ppr adp'!$A:$K,11,FALSE),IF(Settings!$J$17=0,VLOOKUP(_xlfn.CONCAT(I48,H48),'standard adp'!$A:$J,10,FALSE),VLOOKUP(_xlfn.CONCAT(I48,H48),'half ppr adp'!$A:$J,10,FALSE))),VLOOKUP(_xlfn.CONCAT(I48,H48),'full ppr adp'!$A:$K,11,FALSE))),\"UND\")","v":121.33333333333333},null,"Darius Slayton","NYG",{"$f":"VLOOKUP(_xlfn.CONCAT(P48,O48),'wr data'!A:X,24,FALSE)","v":161.94565710000001},{"$f":"IFERROR(Q48-LARGE($Q$3:$Q$150,'Position Expectations'!$B$5+1),Q48-MIN($Q$3:$Q$150))","v":35.385062599999969},{"$f":"IFERROR(Q48-LARGE($Q$3:$Q$150,Settings!$F$21*Settings!$D$24),Q48-MIN($Q$3:$Q$150))+IF(Settings!$D$26>0,MAX(0,LARGE($Q$3:$Q$150,Settings!$F$21*Settings!$D$24)-LARGE(($Q$3:$Q$150,$J$3:$J$100),Settings!$F$21*(Settings!$D$23+Settings!$D$24+Settings!$D$26))),0)","v":-9.8026207999999997},{"$f":"IFERROR((IFERROR(IF(Settings!$J$17=1,VLOOKUP(_xlfn.CONCAT(P48,O48),'full ppr adp'!$A:$K,11,FALSE),IF(Settings!$J$17=0,VLOOKUP(_xlfn.CONCAT(P48,O48),'standard adp'!$A:$J,10,FALSE),VLOOKUP(_xlfn.CONCAT(P48,O48),'half ppr adp'!$A:$J,10,FALSE))),VLOOKUP(_xlfn.CONCAT(P48,O48),'full ppr adp'!$A:$K,11,FALSE))),\"UND\")","v":114.66666666666667},null,"Maxx Williams","ARI",{"$f":"VLOOKUP(_xlfn.CONCAT(W48,V48),'te data'!A:X,24,FALSE)","v":54.935285600000007},{"$f":"IFERROR(X48-LARGE($X$3:$X$54,'Position Expectations'!$B$6+1),X48-MIN($X$3:$X$54))","v":-67.661711999999994},{"$f":"IFERROR(X48-LARGE($X$3:$X$75,Settings!$F$21*Settings!$D$25),X48-MIN($X$3:$X$75))+IF(Settings!$D$26>0,MAX(0,LARGE($X$3:$X$75,Settings!$F$21*Settings!$D$25)-LARGE(($Q$3:$Q$150,$J$3:$J$100,$X$3:$X$75),Settings!$F$21*(Settings!$D$23+Settings!$D$24+Settings!$D$26))),0)","v":-78.490465899999975},{"$f":"IFERROR((IFERROR(IF(Settings!$J$17=1,VLOOKUP(_xlfn.CONCAT(W48,V48),'full ppr adp'!$A:$K,11,FALSE),IF(Settings!$J$17=0,VLOOKUP(_xlfn.CONCAT(W48,V48),'standard adp'!$A:$J,10,FALSE),VLOOKUP(_xlfn.CONCAT(W48,V48),'half ppr adp'!$A:$J,10,FALSE))),VLOOKUP(_xlfn.CONCAT(W48,V48),'full ppr adp'!$A:$K,11,FALSE))),\"UND\")","v":"UND"}]
["Randy Bullock","CIN",{"$f":"VLOOKUP(_xlfn.CONCAT(B49,A49),'k data'!A:E,5,FALSE)","v":131.49},{"$f":"IFERROR(C49-LARGE($C$38:$C$69,'Position Expectations'!$B$7+1),C49-MIN($C$38:$C$69))","v":1.4300000000000068},{"$f":"IFERROR(C49-LARGE($C$38:$C$75,Settings!$F$21*Settings!$D$27),C49-MIN($C$38:$C$75))","v":0},{"$f":"IFERROR(IF(Settings!$J$17=1,VLOOKUP(_xlfn.CONCAT(B49,A49),'full ppr adp'!$A:$K,11,FALSE),IF(Settings!$J$17=0,VLOOKUP(_xlfn.CONCAT(B49,A49),'standard adp'!$A:$J,10,FALSE),VLOOKUP(_xlfn.CONCAT(B49,A49),'half ppr adp'!$A:$J,10,FALSE))),VLOOKUP(_xlfn.CONCAT(B49,A49),'full ppr adp'!$A:$K,11,FALSE))","v":289},null,"Jordan Howard","MIA",{"$f":"VLOOKUP(_xlfn.CONCAT(I49,H49),'rb data'!A:X,24,FALSE)","v":104.97750400000002},{"$f":"IFERROR(J49-LARGE($J$3:$J$100,'Position Expectations'!$B$4+1),J49-MIN($J$3:$J$100))","v":45.410979200000028},{"$f":"IFERROR(J49-LARGE($J$3:$J$100,Settings!$F$21*Settings!$D$23),J49-MIN($J$3:$J$100))+IF(Settings!$D$26>0,MAX(0,LARGE($J$3:$J$100,Settings!$F$21*Settings!$D$23)-LARGE(($Q$3:$Q$150,$J$3:$J$100),Settings!$F$21*(Settings!$D$23+Settings!$D$24+Settings!$D$26))),0)","v":-64.078157500000017},{"$f":"IFERROR((IFERROR(IF(Settings!$J$17=1,VLOOKUP(_xlfn.CONCAT(I49,H49),'full ppr adp'!$A:$K,11,FALSE),IF(Settings!$J$17=0,VLOOKUP(_xlfn.CONCAT(I49,H49),'standard adp'!$A:$J,10,FALSE),VLOOKUP(_xlfn.CONCAT(I49,H49),'half ppr adp'!$A:$J,10,FALSE))),VLOOKUP(_xlfn.CONCAT(I49,H49),'full ppr adp'!$A:$K,11,FALSE))),\"UND\")","v":92.666666666666671},null,"Preston Williams","MIA",{"$f":"VLOOKUP(_xlfn.CONCAT(P49,O49),'wr data'!A:X,24,FALSE)","v":160.49556510000002},{"$f":"IFERROR(Q49-LARGE($Q$3:$Q$150,'Position Expectations'!$B$5+1),Q49-MIN($Q$3:$Q$150))","v":33.934970599999986},{"$f":"IFERROR(Q49-LARGE($Q$3:$Q$150,Settings!$F$21*Settings!$D$24),Q49-MIN($Q$3:$Q$150))+IF(Settings!$D$26>0,MAX(0,LARGE($Q$3:$Q$150,Settings!$F$21*Settings!$D$24)-LARGE(($Q$3:$Q$150,$J$3:$J$100),Settings!$F$21*(Settings!$D$23+Settings!$D$24+Settings!$D$26))),0)","v":-11.252712799999983},{"$f":"IFERROR((IFERROR(IF(Settings!$J$17=1,VLOOKUP(_xlfn.CONCAT(P49,O49),'full ppr adp'!$A:$K,11,FALSE),IF(Settings!$J$17=0,VLOOKUP(_xlfn.CONCAT(P49,O49),'standard adp'!$A:$J,10,FALSE),VLOOKUP(_xlfn.CONCAT(P49,O49),'half ppr adp'!$A:$J,10,FALSE))),VLOOKUP(_xlfn.CONCAT(P49,O49),'full ppr adp'!$A:$K,11,FALSE))),\"UND\")","v":128},null,"Jeremy Sprinkle","WAS",{"$f":"VLOOKUP(_xlfn.CONCAT(W49,V49),'te data'!A:X,24,FALSE)","v":46.930573799999998},{"$f":"IFERROR(X49-LARGE($X$3:$X$54,'Position Expectations'!$B$6+1),X49-MIN($X$3:$X$54))","v":-75.666423800000018},{"$f":"IFERROR(X49-LARGE($X$3:$X$75,Settings!$F$21*Settings!$D$25),X49-MIN($X$3:$X$75))+IF(Settings!$D$26>0,MAX(0,LARGE($X$3:$X$75,Settings!$F$21*Settings!$D$25)-LARGE(($Q$3:$Q$150,$J$3:$J$100,$X$3:$X$75),Settings!$F$21*(Settings!$D$23+Settings!$D$24+Settings!$D$26))),0)","v":-86.495177699999999},{"$f":"IFERROR((IFERROR(IF(Settings!$J$17=1,VLOOKUP(_xlfn.CONCAT(W49,V49),'full ppr adp'!$A:$K,11,FALSE),IF(Settings!$J$17=0,VLOOKUP(_xlfn.CONCAT(W49,V49),'standard adp'!$A:$J,10,FALSE),VLOOKUP(_xlfn.CONCAT(W49,V49),'half ppr adp'!$A:$J,10,FALSE))),VLOOKUP(_xlfn.CONCAT(W49,V49),'full ppr adp'!$A:$K,11,FALSE))),\"UND\")","v":355}]
["Greg Zuerlein","DAL",{"$f":"VLOOKUP(_xlfn.CONCAT(B50,A50),'k data'!A:E,5,FALSE)","v":130.06},{"$f":"IFERROR(C50-LARGE($C$38:$C$69,'Position Expectations'!$B$7+1),C50-MIN($C$38:$C$69))","v":0},{"$f":"IFERROR(C50-LARGE($C$38:$C$75,Settings!$F$21*Settings!$D$27),C50-MIN($C$38:$C$75))","v":-1.4300000000000068},{"$f":"IFERROR(IF(Settings!$J$17=1,VLOOKUP(_xlfn.CONCAT(B50,A50),'full ppr adp'!$A:$K,11,FALSE),IF(Settings!$J$17=0,VLOOKUP(_xlfn.CONCAT(B50,A50),'standard adp'!$A:$J,10,FALSE),VLOOKUP(_xlfn.CONCAT(B50,A50),'half ppr adp'!$A:$J,10,FALSE))),VLOOKUP(_xlfn.CONCAT(B50,A50),'full ppr adp'!$A:$K,11,FALSE))","v":160.66666666666666},null,"Ryquell Armstead","JAC",{"$f":"VLOOKUP(_xlfn.CONCAT(I50,H50),'rb data'!A:X,24,FALSE)","v":103.45009091},{"$f":"IFERROR(J50-LARGE($J$3:$J$100,'Position Expectations'!$B$4+1),J50-MIN($J$3:$J$100))","v":43.883566110000004},{"$f":"IFERROR(J50-LARGE($J$3:$J$100,Settings!$F$21*Settings!$D$23),J50-MIN($J$3:$J$100))+IF(Settings!$D$26>0,MAX(0,LARGE($J$3:$J$100,Settings!$F$21*Settings!$D$23)-LARGE(($Q$3:$Q$150,$J$3:$J$100),Settings!$F$21*(Settings!$D$23+Settings!$D$24+Settings!$D$26))),0)","v":-65.605570590000042},{"$f":"IFERROR((IFERROR(IF(Settings!$J$17=1,VLOOKUP(_xlfn.CONCAT(I50,H50),'full ppr adp'!$A:$K,11,FALSE),IF(Settings!$J$17=0,VLOOKUP(_xlfn.CONCAT(I50,H50),'standard adp'!$A:$J,10,FALSE),VLOOKUP(_xlfn.CONCAT(I50,H50),'half ppr adp'!$A:$J,10,FALSE))),VLOOKUP(_xlfn.CONCAT(I50,H50),'full ppr adp'!$A:$K,11,FALSE))),\"UND\")","v":142.33333333333334},null,"DeSean Jackson","PHI",{"$f":"VLOOKUP(_xlfn.CONCAT(P50,O50),'wr data'!A:X,24,FALSE)","v":157.18460780000001},{"$f":"IFERROR(Q50-LARGE($Q$3:$Q$150,'Position Expectations'!$B$5+1),Q50-MIN($Q$3:$Q$150))","v":30.624013299999973},{"$f":"IFERROR(Q50-LARGE($Q$3:$Q$150,Settings!$F$21*Settings!$D$24),Q50-MIN($Q$3:$Q$150))+IF(Settings!$D$26>0,MAX(0,LARGE($Q$3:$Q$150,Settings!$F$21*Settings!$D$24)-LARGE(($Q$3:$Q$150,$J$3:$J$100),Settings!$F$21*(Settings!$D$23+Settings!$D$24+Settings!$D$26))),0)","v":-14.563670099999996},{"$f":"IFERROR((IFERROR(IF(Settings!$J$17=1,VLOOKUP(_xlfn.CONCAT(P50,O50),'full ppr adp'!$A:$K,11,FALSE),IF(Settings!$J$17=0,VLOOKUP(_xlfn.CONCAT(P50,O50),'standard adp'!$A:$J,10,FALSE),VLOOKUP(_xlfn.CONCAT(P50,O50),'half ppr adp'!$A:$J,10,FALSE))),VLOOKUP(_xlfn.CONCAT(P50,O50),'full ppr adp'!$A:$K,11,FALSE))),\"UND\")","v":151.66666666666666},null,"Jordan Reed","SF",{"$f":"VLOOKUP(_xlfn.CONCAT(W50,V50),'te data'!A:X,24,FALSE)","v":46.743752959999995},{"$f":"IFERROR(X50-LARGE($X$3:$X$54,'Position Expectations'!$B$6+1),X50-MIN($X$3:$X$54))","v":-75.853244640000014},{"$f":"IFERROR(X50-LARGE($X$3:$X$75,Settings!$F$21*Settings!$D$25),X50-MIN($X$3:$X$75))+IF(Settings!$D$26>0,MAX(0,LARGE($X$3:$X$75,Settings!$F$21*Settings!$D$25)-LARGE(($Q$3:$Q$150,$J$3:$J$100,$X$3:$X$75),Settings!$F$21*(Settings!$D$23+Settings!$D$24+Settings!$D$26))),0)","v":-86.681998539999995},{"$f":"IFERROR((IFERROR(IF(Settings!$J$17=1,VLOOKUP(_xlfn.CONCAT(W50,V50),'full ppr adp'!$A:$K,11,FALSE),IF(Settings!$J$17=0,VLOOKUP(_xlfn.CONCAT(W50,V50),'standard adp'!$A:$J,10,FALSE),VLOOKUP(_xlfn.CONCAT(W50,V50),'half ppr adp'!$A:$J,10,FALSE))),VLOOKUP(_xlfn.CONCAT(W50,V50),'full ppr adp'!$A:$K,11,FALSE))),\"UND\")","v":262}]
["Joey Slye","CAR",{"$f":"VLOOKUP(_xlfn.CONCAT(B51,A51),'k data'!A:E,5,FALSE)","v":129.26},{"$f":"IFERROR(C51-LARGE($C$38:$C$69,'Position Expectations'!$B$7+1),C51-MIN($C$38:$C$69))","v":-0.80000000000001137},{"$f":"IFERROR(C51-LARGE($C$38:$C$75,Settings!$F$21*Settings!$D$27),C51-MIN($C$38:$C$75))","v":-2.2300000000000182},{"$f":"IFERROR(IF(Settings!$J$17=1,VLOOKUP(_xlfn.CONCAT(B51,A51),'full ppr adp'!$A:$K,11,FALSE),IF(Settings!$J$17=0,VLOOKUP(_xlfn.CONCAT(B51,A51),'standard adp'!$A:$J,10,FALSE),VLOOKUP(_xlfn.CONCAT(B51,A51),'half ppr adp'!$A:$J,10,FALSE))),VLOOKUP(_xlfn.CONCAT(B51,A51),'full ppr adp'!$A:$K,11,FALSE))","v":259.5},null,"Adrian Peterson","WAS",{"$f":"VLOOKUP(_xlfn.CONCAT(I51,H51),'rb data'!A:X,24,FALSE)","v":102.3369804},{"$f":"IFERROR(J51-LARGE($J$3:$J$100,'Position Expectations'!$B$4+1),J51-MIN($J$3:$J$100))","v":42.770455600000005},{"$f":"IFERROR(J51-LARGE($J$3:$J$100,Settings!$F$21*Settings!$D$23),J51-MIN($J$3:$J$100))+IF(Settings!$D$26>0,MAX(0,LARGE($J$3:$J$100,Settings!$F$21*Settings!$D$23)-LARGE(($Q$3:$Q$150,$J$3:$J$100),Settings!$F$21*(Settings!$D$23+Settings!$D$24+Settings!$D$26))),0)","v":-66.71868110000004},{"$f":"IFERROR((IFERROR(IF(Settings!$J$17=1,VLOOKUP(_xlfn.CONCAT(I51,H51),'full ppr adp'!$A:$K,11,FALSE),IF(Settings!$J$17=0,VLOOKUP(_xlfn.CONCAT(I51,H51),'standard adp'!$A:$J,10,FALSE),VLOOKUP(_xlfn.CONCAT(I51,H51),'half ppr adp'!$A:$J,10,FALSE))),VLOOKUP(_xlfn.CONCAT(I51,H51),'full ppr adp'!$A:$K,11,FALSE))),\"UND\")","v":150},null,"Golden Tate","NYG",{"$f":"VLOOKUP(_xlfn.CONCAT(P51,O51),'wr data'!A:X,24,FALSE)","v":156.6435415},{"$f":"IFERROR(Q51-LARGE($Q$3:$Q$150,'Position Expectations'!$B$5+1),Q51-MIN($Q$3:$Q$150))","v":30.082946999999962},{"$f":"IFERROR(Q51-LARGE($Q$3:$Q$150,Settings!$F$21*Settings!$D$24),Q51-MIN($Q$3:$Q$150))+IF(Settings!$D$26>0,MAX(0,LARGE($Q$3:$Q$150,Settings!$F$21*Settings!$D$24)-LARGE(($Q$3:$Q$150,$J$3:$J$100),Settings!$F$21*(Settings!$D$23+Settings!$D$24+Settings!$D$26))),0)","v":-15.104736400000007},{"$f":"IFERROR((IFERROR(IF(Settings!$J$17=1,VLOOKUP(_xlfn.CONCAT(P51,O51),'full ppr adp'!$A:$K,11,FALSE),IF(Settings!$J$17=0,VLOOKUP(_xlfn.CONCAT(P51,O51),'standard adp'!$A:$J,10,FALSE),VLOOKUP(_xlfn.CONCAT(P51,O51),'half ppr adp'!$A:$J,10,FALSE))),VLOOKUP(_xlfn.CONCAT(P51,O51),'full ppr adp'!$A:$K,11,FALSE))),\"UND\")","v":132.66666666666666},null,"Jesse James","DET",{"$f":"VLOOKUP(_xlfn.CONCAT(W51,V51),'te data'!A:X,24,FALSE)","v":46.099093600000003},{"$f":"IFERROR(X51-LARGE($X$3:$X$54,'Position Expectations'!$B$6+1),X51-MIN($X$3:$X$54))","v":-76.497904000000005},{"$f":"IFERROR(X51-LARGE($X$3:$X$75,Settings!$F$21*Settings!$D$25),X51-MIN($X$3:$X$75))+IF(Settings!$D$26>0,MAX(0,LARGE($X$3:$X$75,Settings!$F$21*Settings!$D$25)-LARGE(($Q$3:$Q$150,$J$3:$J$100,$X$3:$X$75),Settings!$F$21*(Settings!$D$23+Settings!$D$24+Settings!$D$26))),0)","v":-87.326657899999987},{"$f":"IFERROR((IFERROR(IF(Settings!$J$17=1,VLOOKUP(_xlfn.CONCAT(W51,V51),'full ppr adp'!$A:$K,11,FALSE),IF(Settings!$J$17=0,VLOOKUP(_xlfn.CONCAT(W51,V51),'standard adp'!$A:$J,10,FALSE),VLOOKUP(_xlfn.CONCAT(W51,V51),'half ppr adp'!$A:$J,10,FALSE))),VLOOKUP(_xlfn.CONCAT(W51,V51),'full ppr adp'!$A:$K,11,FALSE))),\"UND\")","v":344}]
["Dan Bailey","MIN",{"$f":"VLOOKUP(_xlfn.CONCAT(B52,A52),'k data'!A:E,5,FALSE)","v":128.77000000000001},{"$f":"IFERROR(C52-LARGE($C$38:$C$69,'Position Expectations'!$B$7+1),C52-MIN($C$38:$C$69))","v":-1.289999999999992},{"$f":"IFERROR(C52-LARGE($C$38:$C$75,Settings!$F$21*Settings!$D$27),C52-MIN($C$38:$C$75))","v":-2.7199999999999989},{"$f":"IFERROR(IF(Settings!$J$17=1,VLOOKUP(_xlfn.CONCAT(B52,A52),'full ppr adp'!$A:$K,11,FALSE),IF(Settings!$J$17=0,VLOOKUP(_xlfn.CONCAT(B52,A52),'standard adp'!$A:$J,10,FALSE),VLOOKUP(_xlfn.CONCAT(B52,A52),'half ppr adp'!$A:$J,10,FALSE))),VLOOKUP(_xlfn.CONCAT(B52,A52),'full ppr adp'!$A:$K,11,FALSE))","v":232.33333333333334},null,"Nyheim Hines","IND",{"$f":"VLOOKUP(_xlfn.CONCAT(I52,H52),'rb data'!A:X,24,FALSE)","v":97.014394800000005},{"$f":"IFERROR(J52-LARGE($J$3:$J$100,'Position Expectations'!$B$4+1),J52-MIN($J$3:$J$100))","v":37.447870000000009},{"$f":"IFERROR(J52-LARGE($J$3:$J$100,Settings!$F$21*Settings!$D$23),J52-MIN($J$3:$J$100))+IF(Settings!$D$26>0,MAX(0,LARGE($J$3:$J$100,Settings!$F$21*Settings!$D$23)-LARGE(($Q$3:$Q$150,$J$3:$J$100),Settings!$F$21*(Settings!$D$23+Settings!$D$24+Settings!$D$26))),0)","v":-72.041266700000037},{"$f":"IFERROR((IFERROR(IF(Settings!$J$17=1,VLOOKUP(_xlfn.CONCAT(I52,H52),'full ppr adp'!$A:$K,11,FALSE),IF(Settings!$J$17=0,VLOOKUP(_xlfn.CONCAT(I52,H52),'standard adp'!$A:$J,10,FALSE),VLOOKUP(_xlfn.CONCAT(I52,H52),'half ppr adp'!$A:$J,10,FALSE))),VLOOKUP(_xlfn.CONCAT(I52,H52),'full ppr adp'!$A:$K,11,FALSE))),\"UND\")","v":148.66666666666666},null,"Emmanuel Sanders","NO",{"$f":"VLOOKUP(_xlfn.CONCAT(P52,O52),'wr data'!A:X,24,FALSE)","v":155.55532138999999},{"$f":"IFERROR(Q52-LARGE($Q$3:$Q$150,'Position Expectations'!$B$5+1),Q52-MIN($Q$3:$Q$150))","v":28.994726889999953},{"$f":"IFERROR(Q52-LARGE($Q$3:$Q$150,Settings!$F$21*Settings!$D$24),Q52-MIN($Q$3:$Q$150))+IF(Settings!$D$26>0,MAX(0,LARGE($Q$3:$Q$150,Settings!$F$21*Settings!$D$24)-LARGE(($Q$3:$Q$150,$J$3:$J$100),Settings!$F$21*(Settings!$D$23+Settings!$D$24+Settings!$D$26))),0)","v":-16.192956510000016},{"$f":"IFERROR((IFERROR(IF(Settings!$J$17=1,VLOOKUP(_xlfn.CONCAT(P52,O52),'full ppr adp'!$A:$K,11,FALSE),IF(Settings!$J$17=0,VLOOKUP(_xlfn.CONCAT(P52,O52),'standard adp'!$A:$J,10,FALSE),VLOOKUP(_xlfn.CONCAT(P52,O52),'half ppr adp'!$A:$J,10,FALSE))),VLOOKUP(_xlfn.CONCAT(P52,O52),'full ppr adp'!$A:$K,11,FALSE))),\"UND\")","v":107.33333333333333},null,"Logan Thomas","WAS",{"$f":"VLOOKUP(_xlfn.CONCAT(W52,V52),'te data'!A:X,24,FALSE)","v":43.544751599999998},{"$f":"IFERROR(X52-LARGE($X$3:$X$54,'Position Expectations'!$B$6+1),X52-MIN($X$3:$X$54))","v":-79.052246000000011},{"$f":"IFERROR(X52-LARGE($X$3:$X$75,Settings!$F$21*Settings!$D$25),X52-MIN($X$3:$X$75))+IF(Settings!$D$26>0,MAX(0,LARGE($X$3:$X$75,Settings!$F$21*Settings!$D$25)-LARGE(($Q$3:$Q$150,$J$3:$J$100,$X$3:$X$75),Settings!$F$21*(Settings!$D$23+Settings!$D$24+Settings!$D$26))),0)","v":-89.880999899999992},{"$f":"IFERROR((IFERROR(IF(Settings!$J$17=1,VLOOKUP(_xlfn.CONCAT(W52,V52),'full ppr adp'!$A:$K,11,FALSE),IF(Settings!$J$17=0,VLOOKUP(_xlfn.CONCAT(W52,V52),'standard adp'!$A:$J,10,FALSE),VLOOKUP(_xlfn.CONCAT(W52,V52),'half ppr adp'!$A:$J,10,FALSE))),VLOOKUP(_xlfn.CONCAT(W52,V52),'full ppr adp'!$A:$K,11,FALSE))),\"UND\")","v":338}]
["Jason Sanders","MIA",{"$f":"VLOOKUP(_xlfn.CONCAT(B53,A53),'k data'!A:E,5,FALSE)","v":128.25},{"$f":"IFERROR(C53-LARGE($C$38:$C$69,'Position Expectations'!$B$7+1),C53-MIN($C$38:$C$69))","v":-1.8100000000000023},{"$f":"IFERROR(C53-LARGE($C$38:$C$75,Settings!$F$21*Settings!$D$27),C53-MIN($C$38:$C$75))","v":-3.2400000000000091},{"$f":"IFERROR(IF(Settings!$J$17=1,VLOOKUP(_xlfn.CONCAT(B53,A53),'full ppr adp'!$A:$K,11,FALSE),IF(Settings!$J$17=0,VLOOKUP(_xlfn.CONCAT(B53,A53),'standard adp'!$A:$J,10,FALSE),VLOOKUP(_xlfn.CONCAT(B53,A53),'half ppr adp'!$A:$J,10,FALSE))),VLOOKUP(_xlfn.CONCAT(B53,A53),'full ppr adp'!$A:$K,11,FALSE))","v":283.5},null,"Chase Edmonds","ARI",{"$f":"VLOOKUP(_xlfn.CONCAT(I53,H53),'rb data'!A:X,24,FALSE)","v":94.515904000000006},{"$f":"IFERROR(J53-LARGE($J$3:$J$100,'Position Expectations'!$B$4+1),J53-MIN($J$3:$J$100))","v":34.94937920000001},{"$f":"IFERROR(J53-LARGE($J$3:$J$100,Settings!$F$21*Settings!$D$23),J53-MIN($J$3:$J$100))+IF(Settings!$D$26>0,MAX(0,LARGE($J$3:$J$100,Settings!$F$21*Settings!$D$23)-LARGE(($Q$3:$Q$150,$J$3:$J$100),Settings!$F$21*(Settings!$D$23+Settings!$D$24+Settings!$D$26))),0)","v":-74.539757500000036},{"$f":"IFERROR((IFERROR(IF(Settings!$J$17=1,VLOOKUP(_xlfn.CONCAT(I53,H53),'full ppr adp'!$A:$K,11,FALSE),IF(Settings!$J$17=0,VLOOKUP(_xlfn.CONCAT(I53,H53),'standard adp'!$A:$J,10,FALSE),VLOOKUP(_xlfn.CONCAT(I53,H53),'half ppr adp'!$A:$J,10,FALSE))),VLOOKUP(_xlfn.CONCAT(I53,H53),'full ppr adp'!$A:$K,11,FALSE))),\"UND\")","v":156},null,"Mike Williams","LAC",{"$f":"VLOOKUP(_xlfn.CONCAT(P53,O53),'wr data'!A:X,24,FALSE)","v":155.22933328000002},{"$f":"IFERROR(Q53-LARGE($Q$3:$Q$150,'Position Expectations'!$B$5+1),Q53-MIN($Q$3:$Q$150))","v":28.668738779999984},{"$f":"IFERROR(Q53-LARGE($Q$3:$Q$150,Settings!$F$21*Settings!$D$24),Q53-MIN($Q$3:$Q$150))+IF(Settings!$D$26>0,MAX(0,LARGE($Q$3:$Q$150,Settings!$F$21*Settings!$D$24)-LARGE(($Q$3:$Q$150,$J$3:$J$100),Settings!$F$21*(Settings!$D$23+Settings!$D$24+Settings!$D$26))),0)","v":-16.518944619999985},{"$f":"IFERROR((IFERROR(IF(Settings!$J$17=1,VLOOKUP(_xlfn.CONCAT(P53,O53),'full ppr adp'!$A:$K,11,FALSE),IF(Settings!$J$17=0,VLOOKUP(_xlfn.CONCAT(P53,O53),'standard adp'!$A:$J,10,FALSE),VLOOKUP(_xlfn.CONCAT(P53,O53),'half ppr adp'!$A:$J,10,FALSE))),VLOOKUP(_xlfn.CONCAT(P53,O53),'full ppr adp'!$A:$K,11,FALSE))),\"UND\")","v":141},null,"Josh Hill","NO",{"$f":"VLOOKUP(_xlfn.CONCAT(W53,V53),'te data'!A:X,24,FALSE)","v":41.972930591999997},{"$f":"IFERROR(X53-LARGE($X$3:$X$54,'Position Expectations'!$B$6+1),X53-MIN($X$3:$X$54))","v":-80.624067008000011},{"$f":"IFERROR(X53-LARGE($X$3:$X$75,Settings!$F$21*Settings!$D$25),X53-MIN($X$3:$X$75))+IF(Settings!$D$26>0,MAX(0,LARGE($X$3:$X$75,Settings!$F$21*Settings!$D$25)-LARGE(($Q$3:$Q$150,$J$3:$J$100,$X$3:$X$75),Settings!$F$21*(Settings!$D$23+Settings!$D$24+Settings!$D$26))),0)","v":-91.452820907999993},{"$f":"IFERROR((IFERROR(IF(Settings!$J$17=1,VLOOKUP(_xlfn.CONCAT(W53,V53),'full ppr adp'!$A:$K,11,FALSE),IF(Settings!$J$17=0,VLOOKUP(_xlfn.CONCAT(W53,V53),'standard adp'!$A:$J,10,FALSE),VLOOKUP(_xlfn.CONCAT(W53,V53),'half ppr adp'!$A:$J,10,FALSE))),VLOOKUP(_xlfn.CONCAT(W53,V53),'full ppr adp'!$A:$K,11,FALSE))),\"UND\")","v":304}]
["Robbie Gould","SF",{"$f":"VLOOKUP(_xlfn.CONCAT(B54,A54),'k data'!A:E,5,FALSE)","v":126.78},{"$f":"IFERROR(C54-LARGE($C$38:$C$69,'Position Expectations'!$B$7+1),C54-MIN($C$38:$C$69))","v":-3.2800000000000011},{"$f":"IFERROR(C54-LARGE($C$38:$C$75,Settings!$F$21*Settings!$D$27),C54-MIN($C$38:$C$75))","v":-4.710000000000008},{"$f":"IFERROR(IF(Settings!$J$17=1,VLOOKUP(_xlfn.CONCAT(B54,A54),'full ppr adp'!$A:$K,11,FALSE),IF(Settings!$J$17=0,VLOOKUP(_xlfn.CONCAT(B54,A54),'standard adp'!$A:$J,10,FALSE),VLOOKUP(_xlfn.CONCAT(B54,A54),'half ppr adp'!$A:$J,10,FALSE))),VLOOKUP(_xlfn.CONCAT(B54,A54),'full ppr adp'!$A:$K,11,FALSE))","v":174.33333333333334},null,"Alexander Mattison","MIN",{"$f":"VLOOKUP(_xlfn.CONCAT(I54,H54),'rb data'!A:X,24,FALSE)","v":88.106824099999997},{"$f":"IFERROR(J54-LARGE($J$3:$J$100,'Position Expectations'!$B$4+1),J54-MIN($J$3:$J$100))","v":28.540299300000001},{"$f":"IFERROR(J54-LARGE($J$3:$J$100,Settings!$F$21*Settings!$D$23),J54-MIN($J$3:$J$100))+IF(Settings!$D$26>0,MAX(0,LARGE($J$3:$J$100,Settings!$F$21*Settings!$D$23)-LARGE(($Q$3:$Q$150,$J$3:$J$100),Settings!$F$21*(Settings!$D$23+Settings!$D$24+Settings!$D$26))),0)","v":-80.948837400000045},{"$f":"IFERROR((IFERROR(IF(Settings!$J$17=1,VLOOKUP(_xlfn.CONCAT(I54,H54),'full ppr adp'!$A:$K,11,FALSE),IF(Settings!$J$17=0,VLOOKUP(_xlfn.CONCAT(I54,H54),'standard adp'!$A:$J,10,FALSE),VLOOKUP(_xlfn.CONCAT(I54,H54),'half ppr adp'!$A:$J,10,FALSE))),VLOOKUP(_xlfn.CONCAT(I54,H54),'full ppr adp'!$A:$K,11,FALSE))),\"UND\")","v":126.66666666666667},null,"Deebo Samuel","SF",{"$f":"VLOOKUP(_xlfn.CONCAT(P54,O54),'wr data'!A:X,24,FALSE)","v":154.13016356},{"$f":"IFERROR(Q54-LARGE($Q$3:$Q$150,'Position Expectations'!$B$5+1),Q54-MIN($Q$3:$Q$150))","v":27.569569059999964},{"$f":"IFERROR(Q54-LARGE($Q$3:$Q$150,Settings!$F$21*Settings!$D$24),Q54-MIN($Q$3:$Q$150))+IF(Settings!$D$26>0,MAX(0,LARGE($Q$3:$Q$150,Settings!$F$21*Settings!$D$24)-LARGE(($Q$3:$Q$150,$J$3:$J$100),Settings!$F$21*(Settings!$D$23+Settings!$D$24+Settings!$D$26))),0)","v":-17.618114340000005},{"$f":"IFERROR((IFERROR(IF(Settings!$J$17=1,VLOOKUP(_xlfn.CONCAT(P54,O54),'full ppr adp'!$A:$K,11,FALSE),IF(Settings!$J$17=0,VLOOKUP(_xlfn.CONCAT(P54,O54),'standard adp'!$A:$J,10,FALSE),VLOOKUP(_xlfn.CONCAT(P54,O54),'half ppr adp'!$A:$J,10,FALSE))),VLOOKUP(_xlfn.CONCAT(P54,O54),'full ppr adp'!$A:$K,11,FALSE))),\"UND\")","v":87.666666666666671},null,"Jacob Hollister","SEA",{"$f":"VLOOKUP(_xlfn.CONCAT(W54,V54),'te data'!A:X,24,FALSE)","v":40.435282800000003},{"$f":"IFERROR(X54-LARGE($X$3:$X$54,'Position Expectations'!$B$6+1),X54-MIN($X$3:$X$54))","v":-82.161714799999999},{"$f":"IFERROR(X54-LARGE($X$3:$X$75,Settings!$F$21*Settings!$D$25),X54-MIN($X$3:$X$75))+IF(Settings!$D$26>0,MAX(0,LARGE($X$3:$X$75,Settings!$F$21*Settings!$D$25)-LARGE(($Q$3:$Q$150,$J$3:$J$100,$X$3:$X$75),Settings!$F$21*(Settings!$D$23+Settings!$D$24+Settings!$D$26))),0)","v":-92.99046869999998},{"$f":"IFERROR((IFERROR(IF(Settings!$J$17=1,VLOOKUP(_xlfn.CONCAT(W54,V54),'full ppr adp'!$A:$K,11,FALSE),IF(Settings!$J$17=0,VLOOKUP(_xlfn.CONCAT(W54,V54),'standard adp'!$A:$J,10,FALSE),VLOOKUP(_xlfn.CONCAT(W54,V54),'half ppr adp'!$A:$J,10,FALSE))),VLOOKUP(_xlfn.CONCAT(W54,V54),'full ppr adp'!$A:$K,11,FALSE))),\"UND\")","v":313}]
["Michael Badgley","LAC",{"$f":"VLOOKUP(_xlfn.CONCAT(B55,A55),'k data'!A:E,5,FALSE)","v":124.08},{"$f":"IFERROR(C55-LARGE($C$38:$C$69,'Position Expectations'!$B$7+1),C55-MIN($C$38:$C$69))","v":-5.980000000000004},{"$f":"IFERROR(C55-LARGE($C$38:$C$75,Settings!$F$21*Settings!$D$27),C55-MIN($C$38:$C$75))","v":-7.4100000000000108},{"$f":"IFERROR(IF(Settings!$J$17=1,VLOOKUP(_xlfn.CONCAT(B55,A55),'full ppr adp'!$A:$K,11,FALSE),IF(Settings!$J$17=0,VLOOKUP(_xlfn.CONCAT(B55,A55),'standard adp'!$A:$J,10,FALSE),VLOOKUP(_xlfn.CONCAT(B55,A55),'half ppr adp'!$A:$J,10,FALSE))),VLOOKUP(_xlfn.CONCAT(B55,A55),'full ppr adp'!$A:$K,11,FALSE))","v":242},null,"Giovani Bernard","CIN",{"$f":"VLOOKUP(_xlfn.CONCAT(I55,H55),'rb data'!A:X,24,FALSE)","v":84.910907480000006},{"$f":"IFERROR(J55-LARGE($J$3:$J$100,'Position Expectations'!$B$4+1),J55-MIN($J$3:$J$100))","v":25.34438268000001},{"$f":"IFERROR(J55-LARGE($J$3:$J$100,Settings!$F$21*Settings!$D$23),J55-MIN($J$3:$J$100))+IF(Settings!$D$26>0,MAX(0,LARGE($J$3:$J$100,Settings!$F$21*Settings!$D$23)-LARGE(($Q$3:$Q$150,$J$3:$J$100),Settings!$F$21*(Settings!$D$23+Settings!$D$24+Settings!$D$26))),0)","v":-84.144754020000036},{"$f":"IFERROR((IFERROR(IF(Settings!$J$17=1,VLOOKUP(_xlfn.CONCAT(I55,H55),'full ppr adp'!$A:$K,11,FALSE),IF(Settings!$J$17=0,VLOOKUP(_xlfn.CONCAT(I55,H55),'standard adp'!$A:$J,10,FALSE),VLOOKUP(_xlfn.CONCAT(I55,H55),'half ppr adp'!$A:$J,10,FALSE))),VLOOKUP(_xlfn.CONCAT(I55,H55),'full ppr adp'!$A:$K,11,FALSE))),\"UND\")","v":220},null,"Curtis Samuel","CAR",{"$f":"VLOOKUP(_xlfn.CONCAT(P55,O55),'wr data'!A:X,24,FALSE)","v":152.58873240000003},{"$f":"IFERROR(Q55-LARGE($Q$3:$Q$150,'Position Expectations'!$B$5+1),Q55-MIN($Q$3:$Q$150))","v":26.02813789999999},{"$f":"IFERROR(Q55-LARGE($Q$3:$Q$150,Settings!$F$21*Settings!$D$24),Q55-MIN($Q$3:$Q$150))+IF(Settings!$D$26>0,MAX(0,LARGE($Q$3:$Q$150,Settings!$F$21*Settings!$D$24)-LARGE(($Q$3:$Q$150,$J$3:$J$100),Settings!$F$21*(Settings!$D$23+Settings!$D$24+Settings!$D$26))),0)","v":-19.159545499999979},{"$f":"IFERROR((IFERROR(IF(Settings!$J$17=1,VLOOKUP(_xlfn.CONCAT(P55,O55),'full ppr adp'!$A:$K,11,FALSE),IF(Settings!$J$17=0,VLOOKUP(_xlfn.CONCAT(P55,O55),'standard adp'!$A:$J,10,FALSE),VLOOKUP(_xlfn.CONCAT(P55,O55),'half ppr adp'!$A:$J,10,FALSE))),VLOOKUP(_xlfn.CONCAT(P55,O55),'full ppr adp'!$A:$K,11,FALSE))),\"UND\")","v":152}]
["Nick Folk","NE",{"$f":"VLOOKUP(_xlfn.CONCAT(B56,A56),'k data'!A:E,5,FALSE)","v":122.21},{"$f":"IFERROR(C56-LARGE($C$38:$C$69,'Position Expectations'!$B$7+1),C56-MIN($C$38:$C$69))","v":-7.8500000000000085},{"$f":"IFERROR(C56-LARGE($C$38:$C$75,Settings!$F$21*Settings!$D$27),C56-MIN($C$38:$C$75))","v":-9.2800000000000153},{"$f":"IFERROR(IF(Settings!$J$17=1,VLOOKUP(_xlfn.CONCAT(B56,A56),'full ppr adp'!$A:$K,11,FALSE),IF(Settings!$J$17=0,VLOOKUP(_xlfn.CONCAT(B56,A56),'standard adp'!$A:$J,10,FALSE),VLOOKUP(_xlfn.CONCAT(B56,A56),'half ppr adp'!$A:$J,10,FALSE))),VLOOKUP(_xlfn.CONCAT(B56,A56),'full ppr adp'!$A:$K,11,FALSE))","v":267},null,"Darrel Williams","KC",{"$f":"VLOOKUP(_xlfn.CONCAT(I56,H56),'rb data'!A:X,24,FALSE)","v":84.218428399999993},{"$f":"IFERROR(J56-LARGE($J$3:$J$100,'Position Expectations'!$B$4+1),J56-MIN($J$3:$J$100))","v":24.651903599999997},{"$f":"IFERROR(J56-LARGE($J$3:$J$100,Settings!$F$21*Settings!$D$23),J56-MIN($J$3:$J$100))+IF(Settings!$D$26>0,MAX(0,LARGE($J$3:$J$100,Settings!$F$21*Settings!$D$23)-LARGE(($Q$3:$Q$150,$J$3:$J$100),Settings!$F$21*(Settings!$D$23+Settings!$D$24+Settings!$D$26))),0)","v":-84.837233100000049},{"$f":"IFERROR((IFERROR(IF(Settings!$J$17=1,VLOOKUP(_xlfn.CONCAT(I56,H56),'full ppr adp'!$A:$K,11,FALSE),IF(Settings!$J$17=0,VLOOKUP(_xlfn.CONCAT(I56,H56),'standard adp'!$A:$J,10,FALSE),VLOOKUP(_xlfn.CONCAT(I56,H56),'half ppr adp'!$A:$J,10,FALSE))),VLOOKUP(_xlfn.CONCAT(I56,H56),'full ppr adp'!$A:$K,11,FALSE))),\"UND\")","v":278.66666666666669},null,"Henry Ruggs III","LV",{"$f":"VLOOKUP(_xlfn.CONCAT(P56,O56),'wr data'!A:X,24,FALSE)","v":150.82710560000001},{"$f":"IFERROR(Q56-LARGE($Q$3:$Q$150,'Position Expectations'!$B$5+1),Q56-MIN($Q$3:$Q$150))","v":24.266511099999974},{"$f":"IFERROR(Q56-LARGE($Q$3:$Q$150,Settings!$F$21*Settings!$D$24),Q56-MIN($Q$3:$Q$150))+IF(Settings!$D$26>0,MAX(0,LARGE($Q$3:$Q$150,Settings!$F$21*Settings!$D$24)-LARGE(($Q$3:$Q$150,$J$3:$J$100),Settings!$F$21*(Settings!$D$23+Settings!$D$24+Settings!$D$26))),0)","v":-20.921172299999995},{"$f":"IFERROR((IFERROR(IF(Settings!$J$17=1,VLOOKUP(_xlfn.CONCAT(P56,O56),'full ppr adp'!$A:$K,11,FALSE),IF(Settings!$J$17=0,VLOOKUP(_xlfn.CONCAT(P56,O56),'standard adp'!$A:$J,10,FALSE),VLOOKUP(_xlfn.CONCAT(P56,O56),'half ppr adp'!$A:$J,10,FALSE))),VLOOKUP(_xlfn.CONCAT(P56,O56),'full ppr adp'!$A:$K,11,FALSE))),\"UND\")","v":119}]
["Sam Sloman","LAR",{"$f":"VLOOKUP(_xlfn.CONCAT(B57,A57),'k data'!A:E,5,FALSE)","v":120.65},{"$f":"IFERROR(C57-LARGE($C$38:$C$69,'Position Expectations'!$B$7+1),C57-MIN($C$38:$C$69))","v":-9.4099999999999966},{"$f":"IFERROR(C57-LARGE($C$38:$C$75,Settings!$F$21*Settings!$D$27),C57-MIN($C$38:$C$75))","v":-10.840000000000003},{"$f":"IFERROR(IF(Settings!$J$17=1,VLOOKUP(_xlfn.CONCAT(B57,A57),'full ppr adp'!$A:$K,11,FALSE),IF(Settings!$J$17=0,VLOOKUP(_xlfn.CONCAT(B57,A57),'standard adp'!$A:$J,10,FALSE),VLOOKUP(_xlfn.CONCAT(B57,A57),'half ppr adp'!$A:$J,10,FALSE))),VLOOKUP(_xlfn.CONCAT(B57,A57),'full ppr adp'!$A:$K,11,FALSE))","v":317},null,"Darrynton Evans","TEN",{"$f":"VLOOKUP(_xlfn.CONCAT(I57,H57),'rb data'!A:X,24,FALSE)","v":84.094874099999984},{"$f":"IFERROR(J57-LARGE($J$3:$J$100,'Position Expectations'!$B$4+1),J57-MIN($J$3:$J$100))","v":24.528349299999988},{"$f":"IFERROR(J57-LARGE($J$3:$J$100,Settings!$F$21*Settings!$D$23),J57-MIN($J$3:$J$100))+IF(Settings!$D$26>0,MAX(0,LARGE($J$3:$J$100,Settings!$F$21*Settings!$D$23)-LARGE(($Q$3:$Q$150,$J$3:$J$100),Settings!$F$21*(Settings!$D$23+Settings!$D$24+Settings!$D$26))),0)","v":-84.960787400000058},{"$f":"IFERROR((IFERROR(IF(Settings!$J$17=1,VLOOKUP(_xlfn.CONCAT(I57,H57),'full ppr adp'!$A:$K,11,FALSE),IF(Settings!$J$17=0,VLOOKUP(_xlfn.CONCAT(I57,H57),'standard adp'!$A:$J,10,FALSE),VLOOKUP(_xlfn.CONCAT(I57,H57),'half ppr adp'!$A:$J,10,FALSE))),VLOOKUP(_xlfn.CONCAT(I57,H57),'full ppr adp'!$A:$K,11,FALSE))),\"UND\")","v":193},null,"CeeDee Lamb","DAL",{"$f":"VLOOKUP(_xlfn.CONCAT(P57,O57),'wr data'!A:X,24,FALSE)","v":150.4300758},{"$f":"IFERROR(Q57-LARGE($Q$3:$Q$150,'Position Expectations'!$B$5+1),Q57-MIN($Q$3:$Q$150))","v":23.869481299999961},{"$f":"IFERROR(Q57-LARGE($Q$3:$Q$150,Settings!$F$21*Settings!$D$24),Q57-MIN($Q$3:$Q$150))+IF(Settings!$D$26>0,MAX(0,LARGE($Q$3:$Q$150,Settings!$F$21*Settings!$D$24)-LARGE(($Q$3:$Q$150,$J$3:$J$100),Settings!$F$21*(Settings!$D$23+Settings!$D$24+Settings!$D$26))),0)","v":-21.318202100000008},{"$f":"IFERROR((IFERROR(IF(Settings!$J$17=1,VLOOKUP(_xlfn.CONCAT(P57,O57),'full ppr adp'!$A:$K,11,FALSE),IF(Settings!$J$17=0,VLOOKUP(_xlfn.CONCAT(P57,O57),'standard adp'!$A:$J,10,FALSE),VLOOKUP(_xlfn.CONCAT(P57,O57),'half ppr adp'!$A:$J,10,FALSE))),VLOOKUP(_xlfn.CONCAT(P57,O57),'full ppr adp'!$A:$K,11,FALSE))),\"UND\")","v":110}]
["Mason Crosby","GB",{"$f":"VLOOKUP(_xlfn.CONCAT(B58,A58),'k data'!A:E,5,FALSE)","v":119.6},{"$f":"IFERROR(C58-LARGE($C$38:$C$69,'Position Expectations'!$B$7+1),C58-MIN($C$38:$C$69))","v":-10.460000000000008},{"$f":"IFERROR(C58-LARGE($C$38:$C$75,Settings!$F$21*Settings!$D$27),C58-MIN($C$38:$C$75))","v":-11.890000000000015},{"$f":"IFERROR(IF(Settings!$J$17=1,VLOOKUP(_xlfn.CONCAT(B58,A58),'full ppr adp'!$A:$K,11,FALSE),IF(Settings!$J$17=0,VLOOKUP(_xlfn.CONCAT(B58,A58),'standard adp'!$A:$J,10,FALSE),VLOOKUP(_xlfn.CONCAT(B58,A58),'half ppr adp'!$A:$J,10,FALSE))),VLOOKUP(_xlfn.CONCAT(B58,A58),'full ppr adp'!$A:$K,11,FALSE))","v":226.66666666666666},null,"Jerick McKinnon","SF",{"$f":"VLOOKUP(_xlfn.CONCAT(I58,H58),'rb data'!A:X,24,FALSE)","v":82.337887416000001},{"$f":"IFERROR(J58-LARGE($J$3:$J$100,'Position Expectations'!$B$4+1),J58-MIN($J$3:$J$100))","v":22.771362616000005},{"$f":"IFERROR(J58-LARGE($J$3:$J$100,Settings!$F$21*Settings!$D$23),J58-MIN($J$3:$J$100))+IF(Settings!$D$26>0,MAX(0,LARGE($J$3:$J$100,Settings!$F$21*Settings!$D$23)-LARGE(($Q$3:$Q$150,$J$3:$J$100),Settings!$F$21*(Settings!$D$23+Settings!$D$24+Settings!$D$26))),0)","v":-86.717774084000041},{"$f":"IFERROR((IFERROR(IF(Settings!$J$17=1,VLOOKUP(_xlfn.CONCAT(I58,H58),'full ppr adp'!$A:$K,11,FALSE),IF(Settings!$J$17=0,VLOOKUP(_xlfn.CONCAT(I58,H58),'standard adp'!$A:$J,10,FALSE),VLOOKUP(_xlfn.CONCAT(I58,H58),'half ppr adp'!$A:$J,10,FALSE))),VLOOKUP(_xlfn.CONCAT(I58,H58),'full ppr adp'!$A:$K,11,FALSE))),\"UND\")","v":230},null,"Cole Beasley","BUF",{"$f":"VLOOKUP(_xlfn.CONCAT(P58,O58),'wr data'!A:X,24,FALSE)","v":141.58153350000001},{"$f":"IFERROR(Q58-LARGE($Q$3:$Q$150,'Position Expectations'!$B$5+1),Q58-MIN($Q$3:$Q$150))","v":15.02093899999997},{"$f":"IFERROR(Q58-LARGE($Q$3:$Q$150,Settings!$F$21*Settings!$D$24),Q58-MIN($Q$3:$Q$150))+IF(Settings!$D$26>0,MAX(0,LARGE($Q$3:$Q$150,Settings!$F$21*Settings!$D$24)-LARGE(($Q$3:$Q$150,$J$3:$J$100),Settings!$F$21*(Settings!$D$23+Settings!$D$24+Settings!$D$26))),0)","v":-30.166744399999999},{"$f":"IFERROR((IFERROR(IF(Settings!$J$17=1,VLOOKUP(_xlfn.CONCAT(P58,O58),'full ppr adp'!$A:$K,11,FALSE),IF(Settings!$J$17=0,VLOOKUP(_xlfn.CONCAT(P58,O58),'standard adp'!$A:$J,10,FALSE),VLOOKUP(_xlfn.CONCAT(P58,O58),'half ppr adp'!$A:$J,10,FALSE))),VLOOKUP(_xlfn.CONCAT(P58,O58),'full ppr adp'!$A:$K,11,FALSE))),\"UND\")","v":216.66666666666666}]
["Tyler Bass","BUF",{"$f":"VLOOKUP(_xlfn.CONCAT(B59,A59),'k data'!A:E,5,FALSE)","v":115},{"$f":"IFERROR(C59-LARGE($C$38:$C$69,'Position Expectations'!$B$7+1),C59-MIN($C$38:$C$69))","v":-15.060000000000002},{"$f":"IFERROR(C59-LARGE($C$38:$C$75,Settings!$F$21*Settings!$D$27),C59-MIN($C$38:$C$75))","v":-16.490000000000009},{"$f":"IFERROR(IF(Settings!$J$17=1,VLOOKUP(_xlfn.CONCAT(B59,A59),'full ppr adp'!$A:$K,11,FALSE),IF(Settings!$J$17=0,VLOOKUP(_xlfn.CONCAT(B59,A59),'standard adp'!$A:$J,10,FALSE),VLOOKUP(_xlfn.CONCAT(B59,A59),'half ppr adp'!$A:$J,10,FALSE))),VLOOKUP(_xlfn.CONCAT(B59,A59),'full ppr adp'!$A:$K,11,FALSE))","v":298.5},null,"Sony Michel","NE",{"$f":"VLOOKUP(_xlfn.CONCAT(I59,H59),'rb data'!A:X,24,FALSE)","v":82.163224560000003},{"$f":"IFERROR(J59-LARGE($J$3:$J$100,'Position Expectations'!$B$4+1),J59-MIN($J$3:$J$100))","v":22.596699760000007},{"$f":"IFERROR(J59-LARGE($J$3:$J$100,Settings!$F$21*Settings!$D$23),J59-MIN($J$3:$J$100))+IF(Settings!$D$26>0,MAX(0,LARGE($J$3:$J$100,Settings!$F$21*Settings!$D$23)-LARGE(($Q$3:$Q$150,$J$3:$J$100),Settings!$F$21*(Settings!$D$23+Settings!$D$24+Settings!$D$26))),0)","v":-86.892436940000039},{"$f":"IFERROR((IFERROR(IF(Settings!$J$17=1,VLOOKUP(_xlfn.CONCAT(I59,H59),'full ppr adp'!$A:$K,11,FALSE),IF(Settings!$J$17=0,VLOOKUP(_xlfn.CONCAT(I59,H59),'standard adp'!$A:$J,10,FALSE),VLOOKUP(_xlfn.CONCAT(I59,H59),'half ppr adp'!$A:$J,10,FALSE))),VLOOKUP(_xlfn.CONCAT(I59,H59),'full ppr adp'!$A:$K,11,FALSE))),\"UND\")","v":122.66666666666667},null,"Allen Lazard","GB",{"$f":"VLOOKUP(_xlfn.CONCAT(P59,O59),'wr data'!A:X,24,FALSE)","v":140.2085376},{"$f":"IFERROR(Q59-LARGE($Q$3:$Q$150,'Position Expectations'!$B$5+1),Q59-MIN($Q$3:$Q$150))","v":13.647943099999964},{"$f":"IFERROR(Q59-LARGE($Q$3:$Q$150,Settings!$F$21*Settings!$D$24),Q59-MIN($Q$3:$Q$150))+IF(Settings!$D$26>0,MAX(0,LARGE($Q$3:$Q$150,Settings!$F$21*Settings!$D$24)-LARGE(($Q$3:$Q$150,$J$3:$J$100),Settings!$F$21*(Settings!$D$23+Settings!$D$24+Settings!$D$26))),0)","v":-31.539740300000005},{"$f":"IFERROR((IFERROR(IF(Settings!$J$17=1,VLOOKUP(_xlfn.CONCAT(P59,O59),'full ppr adp'!$A:$K,11,FALSE),IF(Settings!$J$17=0,VLOOKUP(_xlfn.CONCAT(P59,O59),'standard adp'!$A:$J,10,FALSE),VLOOKUP(_xlfn.CONCAT(P59,O59),'half ppr adp'!$A:$J,10,FALSE))),VLOOKUP(_xlfn.CONCAT(P59,O59),'full ppr adp'!$A:$K,11,FALSE))),\"UND\")","v":174.33333333333334}]
["Austin Seibert","CLE",{"$f":"VLOOKUP(_xlfn.CONCAT(B60,A60),'k data'!A:E,5,FALSE)","v":112.25},{"$f":"IFERROR(C60-LARGE($C$38:$C$69,'Position Expectations'!$B$7+1),C60-MIN($C$38:$C$69))","v":-17.810000000000002},{"$f":"IFERROR(C60-LARGE($C$38:$C$75,Settings!$F$21*Settings!$D$27),C60-MIN($C$38:$C$75))","v":-19.240000000000009},{"$f":"IFERROR(IF(Settings!$J$17=1,VLOOKUP(_xlfn.CONCAT(B60,A60),'full ppr adp'!$A:$K,11,FALSE),IF(Settings!$J$17=0,VLOOKUP(_xlfn.CONCAT(B60,A60),'standard adp'!$A:$J,10,FALSE),VLOOKUP(_xlfn.CONCAT(B60,A60),'half ppr adp'!$A:$J,10,FALSE))),VLOOKUP(_xlfn.CONCAT(B60,A60),'full ppr adp'!$A:$K,11,FALSE))","v":264},null,"Jamaal Williams","GB",{"$f":"VLOOKUP(_xlfn.CONCAT(I60,H60),'rb data'!A:X,24,FALSE)","v":81.025356999999985},{"$f":"IFERROR(J60-LARGE($J$3:$J$100,'Position Expectations'!$B$4+1),J60-MIN($J$3:$J$100))","v":21.458832199999989},{"$f":"IFERROR(J60-LARGE($J$3:$J$100,Settings!$F$21*Settings!$D$23),J60-MIN($J$3:$J$100))+IF(Settings!$D$26>0,MAX(0,LARGE($J$3:$J$100,Settings!$F$21*Settings!$D$23)-LARGE(($Q$3:$Q$150,$J$3:$J$100),Settings!$F$21*(Settings!$D$23+Settings!$D$24+Settings!$D$26))),0)","v":-88.030304500000057},{"$f":"IFERROR((IFERROR(IF(Settings!$J$17=1,VLOOKUP(_xlfn.CONCAT(I60,H60),'full ppr adp'!$A:$K,11,FALSE),IF(Settings!$J$17=0,VLOOKUP(_xlfn.CONCAT(I60,H60),'standard adp'!$A:$J,10,FALSE),VLOOKUP(_xlfn.CONCAT(I60,H60),'half ppr adp'!$A:$J,10,FALSE))),VLOOKUP(_xlfn.CONCAT(I60,H60),'full ppr adp'!$A:$K,11,FALSE))),\"UND\")","v":171},null,"Sammy Watkins","KC",{"$f":"VLOOKUP(_xlfn.CONCAT(P60,O60),'wr data'!A:X,24,FALSE)","v":137.13593280000001},{"$f":"IFERROR(Q60-LARGE($Q$3:$Q$150,'Position Expectations'!$B$5+1),Q60-MIN($Q$3:$Q$150))","v":10.57533829999997},{"$f":"IFERROR(Q60-LARGE($Q$3:$Q$150,Settings!$F$21*Settings!$D$24),Q60-MIN($Q$3:$Q$150))+IF(Settings!$D$26>0,MAX(0,LARGE($Q$3:$Q$150,Settings!$F$21*Settings!$D$24)-LARGE(($Q$3:$Q$150,$J$3:$J$100),Settings!$F$21*(Settings!$D$23+Settings!$D$24+Settings!$D$26))),0)","v":-34.612345099999999},{"$f":"IFERROR((IFERROR(IF(Settings!$J$17=1,VLOOKUP(_xlfn.CONCAT(P60,O60),'full ppr adp'!$A:$K,11,FALSE),IF(Settings!$J$17=0,VLOOKUP(_xlfn.CONCAT(P60,O60),'standard adp'!$A:$J,10,FALSE),VLOOKUP(_xlfn.CONCAT(P60,O60),'half ppr adp'!$A:$J,10,FALSE))),VLOOKUP(_xlfn.CONCAT(P60,O60),'full ppr adp'!$A:$K,11,FALSE))),\"UND\")","v":158.66666666666666}]
["Dustin Hopkins","WAS",{"$f":"VLOOKUP(_xlfn.CONCAT(B61,A61),'k data'!A:E,5,FALSE)","v":111.8},{"$f":"IFERROR(C61-LARGE($C$38:$C$69,'Position Expectations'!$B$7+1),C61-MIN($C$38:$C$69))","v":-18.260000000000005},{"$f":"IFERROR(C61-LARGE($C$38:$C$75,Settings!$F$21*Settings!$D$27),C61-MIN($C$38:$C$75))","v":-19.690000000000012},{"$f":"IFERROR(IF(Settings!$J$17=1,VLOOKUP(_xlfn.CONCAT(B61,A61),'full ppr adp'!$A:$K,11,FALSE),IF(Settings!$J$17=0,VLOOKUP(_xlfn.CONCAT(B61,A61),'standard adp'!$A:$J,10,FALSE),VLOOKUP(_xlfn.CONCAT(B61,A61),'half ppr adp'!$A:$J,10,FALSE))),VLOOKUP(_xlfn.CONCAT(B61,A61),'full ppr adp'!$A:$K,11,FALSE))","v":278},null,"Jalen Richard","LV",{"$f":"VLOOKUP(_xlfn.CONCAT(I61,H61),'rb data'!A:X,24,FALSE)","v":80.801221599999991},{"$f":"IFERROR(J61-LARGE($J$3:$J$100,'Position Expectations'!$B$4+1),J61-MIN($J$3:$J$100))","v":21.234696799999995},{"$f":"IFERROR(J61-LARGE($J$3:$J$100,Settings!$F$21*Settings!$D$23),J61-MIN($J$3:$J$100))+IF(Settings!$D$26>0,MAX(0,LARGE($J$3:$J$100,Settings!$F$21*Settings!$D$23)-LARGE(($Q$3:$Q$150,$J$3:$J$100),Settings!$F$21*(Settings!$D$23+Settings!$D$24+Settings!$D$26))),0)","v":-88.254439900000051},{"$f":"IFERROR((IFERROR(IF(Settings!$J$17=1,VLOOKUP(_xlfn.CONCAT(I61,H61),'full ppr adp'!$A:$K,11,FALSE),IF(Settings!$J$17=0,VLOOKUP(_xlfn.CONCAT(I61,H61),'standard adp'!$A:$J,10,FALSE),VLOOKUP(_xlfn.CONCAT(I61,H61),'half ppr adp'!$A:$J,10,FALSE))),VLOOKUP(_xlfn.CONCAT(I61,H61),'full ppr adp'!$A:$K,11,FALSE))),\"UND\")","v":229.5},null,"N'Keal Harry","NE",{"$f":"VLOOKUP(_xlfn.CONCAT(P61,O61),'wr data'!A:X,24,FALSE)","v":136.24473456000001},{"$f":"IFERROR(Q61-LARGE($Q$3:$Q$150,'Position Expectations'!$B$5+1),Q61-MIN($Q$3:$Q$150))","v":9.6841400599999758},{"$f":"IFERROR(Q61-LARGE($Q$3:$Q$150,Settings!$F$21*Settings!$D$24),Q61-MIN($Q$3:$Q$150))+IF(Settings!$D$26>0,MAX(0,LARGE($Q$3:$Q$150,Settings!$F$21*Settings!$D$24)-LARGE(($Q$3:$Q$150,$J$3:$J$100),Settings!$F$21*(Settings!$D$23+Settings!$D$24+Settings!$D$26))),0)","v":-35.503543339999993},{"$f":"IFERROR((IFERROR(IF(Settings!$J$17=1,VLOOKUP(_xlfn.CONCAT(P61,O61),'full ppr adp'!$A:$K,11,FALSE),IF(Settings!$J$17=0,VLOOKUP(_xlfn.CONCAT(P61,O61),'standard adp'!$A:$J,10,FALSE),VLOOKUP(_xlfn.CONCAT(P61,O61),'half ppr adp'!$A:$J,10,FALSE))),VLOOKUP(_xlfn.CONCAT(P61,O61),'full ppr adp'!$A:$K,11,FALSE))),\"UND\")","v":181.66666666666666}]
["Jason Myers","SEA",{"$f":"VLOOKUP(_xlfn.CONCAT(B62,A62),'k data'!A:E,5,FALSE)","v":111.06},{"$f":"IFERROR(C62-LARGE($C$38:$C$69,'Position Expectations'!$B$7+1),C62-MIN($C$38:$C$69))","v":-19},{"$f":"IFERROR(C62-LARGE($C$38:$C$75,Settings!$F$21*Settings!$D$27),C62-MIN($C$38:$C$75))","v":-20.430000000000007},{"$f":"IFERROR(IF(Settings!$J$17=1,VLOOKUP(_xlfn.CONCAT(B62,A62),'full ppr adp'!$A:$K,11,FALSE),IF(Settings!$J$17=0,VLOOKUP(_xlfn.CONCAT(B62,A62),'standard adp'!$A:$J,10,FALSE),VLOOKUP(_xlfn.CONCAT(B62,A62),'half ppr adp'!$A:$J,10,FALSE))),VLOOKUP(_xlfn.CONCAT(B62,A62),'full ppr adp'!$A:$K,11,FALSE))","v":255.5},null,"Ito Smith","ATL",{"$f":"VLOOKUP(_xlfn.CONCAT(I62,H62),'rb data'!A:X,24,FALSE)","v":79.047651600000009},{"$f":"IFERROR(J62-LARGE($J$3:$J$100,'Position Expectations'!$B$4+1),J62-MIN($J$3:$J$100))","v":19.481126800000013},{"$f":"IFERROR(J62-LARGE($J$3:$J$100,Settings!$F$21*Settings!$D$23),J62-MIN($J$3:$J$100))+IF(Settings!$D$26>0,MAX(0,LARGE($J$3:$J$100,Settings!$F$21*Settings!$D$23)-LARGE(($Q$3:$Q$150,$J$3:$J$100),Settings!$F$21*(Settings!$D$23+Settings!$D$24+Settings!$D$26))),0)","v":-90.008009900000033},{"$f":"IFERROR((IFERROR(IF(Settings!$J$17=1,VLOOKUP(_xlfn.CONCAT(I62,H62),'full ppr adp'!$A:$K,11,FALSE),IF(Settings!$J$17=0,VLOOKUP(_xlfn.CONCAT(I62,H62),'standard adp'!$A:$J,10,FALSE),VLOOKUP(_xlfn.CONCAT(I62,H62),'half ppr adp'!$A:$J,10,FALSE))),VLOOKUP(_xlfn.CONCAT(I62,H62),'full ppr adp'!$A:$K,11,FALSE))),\"UND\")","v":240.5},null,"Jalen Reagor","PHI",{"$f":"VLOOKUP(_xlfn.CONCAT(P62,O62),'wr data'!A:X,24,FALSE)","v":133.79532790000002},{"$f":"IFERROR(Q62-LARGE($Q$3:$Q$150,'Position Expectations'!$B$5+1),Q62-MIN($Q$3:$Q$150))","v":7.2347333999999819},{"$f":"IFERROR(Q62-LARGE($Q$3:$Q$150,Settings!$F$21*Settings!$D$24),Q62-MIN($Q$3:$Q$150))+IF(Settings!$D$26>0,MAX(0,LARGE($Q$3:$Q$150,Settings!$F$21*Settings!$D$24)-LARGE(($Q$3:$Q$150,$J$3:$J$100),Settings!$F$21*(Settings!$D$23+Settings!$D$24+Settings!$D$26))),0)","v":-37.952949999999987},{"$f":"IFERROR((IFERROR(IF(Settings!$J$17=1,VLOOKUP(_xlfn.CONCAT(P62,O62),'full ppr adp'!$A:$K,11,FALSE),IF(Settings!$J$17=0,VLOOKUP(_xlfn.CONCAT(P62,O62),'standard adp'!$A:$J,10,FALSE),VLOOKUP(_xlfn.CONCAT(P62,O62),'half ppr adp'!$A:$J,10,FALSE))),VLOOKUP(_xlfn.CONCAT(P62,O62),'full ppr adp'!$A:$K,11,FALSE))),\"UND\")","v":150}]
["Sam Ficken","NYJ",{"$f":"VLOOKUP(_xlfn.CONCAT(B63,A63),'k data'!A:E,5,FALSE)","v":110.03},{"$f":"IFERROR(C63-LARGE($C$38:$C$69,'Position Expectations'!$B$7+1),C63-MIN($C$38:$C$69))","v":-20.03},{"$f":"IFERROR(C63-LARGE($C$38:$C$75,Settings!$F$21*Settings!$D$27),C63-MIN($C$38:$C$75))","v":-21.460000000000008},{"$f":"IFERROR(IF(Settings!$J$17=1,VLOOKUP(_xlfn.CONCAT(B63,A63),'full ppr adp'!$A:$K,11,FALSE),IF(Settings!$J$17=0,VLOOKUP(_xlfn.CONCAT(B63,A63),'standard adp'!$A:$J,10,FALSE),VLOOKUP(_xlfn.CONCAT(B63,A63),'half ppr adp'!$A:$J,10,FALSE))),VLOOKUP(_xlfn.CONCAT(B63,A63),'full ppr adp'!$A:$K,11,FALSE))","v":298},null,"Justin Jackson","LAC",{"$f":"VLOOKUP(_xlfn.CONCAT(I63,H63),'rb data'!A:X,24,FALSE)","v":75.787964640000013},{"$f":"IFERROR(J63-LARGE($J$3:$J$100,'Position Expectations'!$B$4+1),J63-MIN($J$3:$J$100))","v":16.221439840000016},{"$f":"IFERROR(J63-LARGE($J$3:$J$100,Settings!$F$21*Settings!$D$23),J63-MIN($J$3:$J$100))+IF(Settings!$D$26>0,MAX(0,LARGE($J$3:$J$100,Settings!$F$21*Settings!$D$23)-LARGE(($Q$3:$Q$150,$J$3:$J$100),Settings!$F$21*(Settings!$D$23+Settings!$D$24+Settings!$D$26))),0)","v":-93.267696860000029},{"$f":"IFERROR((IFERROR(IF(Settings!$J$17=1,VLOOKUP(_xlfn.CONCAT(I63,H63),'full ppr adp'!$A:$K,11,FALSE),IF(Settings!$J$17=0,VLOOKUP(_xlfn.CONCAT(I63,H63),'standard adp'!$A:$J,10,FALSE),VLOOKUP(_xlfn.CONCAT(I63,H63),'half ppr adp'!$A:$J,10,FALSE))),VLOOKUP(_xlfn.CONCAT(I63,H63),'full ppr adp'!$A:$K,11,FALSE))),\"UND\")","v":162.66666666666666},null,"Steven Sims","WAS",{"$f":"VLOOKUP(_xlfn.CONCAT(P63,O63),'wr data'!A:X,24,FALSE)","v":132.34618},{"$f":"IFERROR(Q63-LARGE($Q$3:$Q$150,'Position Expectations'!$B$5+1),Q63-MIN($Q$3:$Q$150))","v":5.7855854999999679},{"$f":"IFERROR(Q63-LARGE($Q$3:$Q$150,Settings!$F$21*Settings!$D$24),Q63-MIN($Q$3:$Q$150))+IF(Settings!$D$26>0,MAX(0,LARGE($Q$3:$Q$150,Settings!$F$21*Settings!$D$24)-LARGE(($Q$3:$Q$150,$J$3:$J$100),Settings!$F$21*(Settings!$D$23+Settings!$D$24+Settings!$D$26))),0)","v":-39.402097900000001},{"$f":"IFERROR((IFERROR(IF(Settings!$J$17=1,VLOOKUP(_xlfn.CONCAT(P63,O63),'full ppr adp'!$A:$K,11,FALSE),IF(Settings!$J$17=0,VLOOKUP(_xlfn.CONCAT(P63,O63),'standard adp'!$A:$J,10,FALSE),VLOOKUP(_xlfn.CONCAT(P63,O63),'half ppr adp'!$A:$J,10,FALSE))),VLOOKUP(_xlfn.CONCAT(P63,O63),'full ppr adp'!$A:$K,11,FALSE))),\"UND\")","v":281.5}]
["Jake Elliott","PHI",{"$f":"VLOOKUP(_xlfn.CONCAT(B64,A64),'k data'!A:E,5,FALSE)","v":106.64},{"$f":"IFERROR(C64-LARGE($C$38:$C$69,'Position Expectations'!$B$7+1),C64-MIN($C$38:$C$69))","v":-23.42},{"$f":"IFERROR(C64-LARGE($C$38:$C$75,Settings!$F$21*Settings!$D$27),C64-MIN($C$38:$C$75))","v":-24.850000000000009},{"$f":"IFERROR(IF(Settings!$J$17=1,VLOOKUP(_xlfn.CONCAT(B64,A64),'full ppr adp'!$A:$K,11,FALSE),IF(Settings!$J$17=0,VLOOKUP(_xlfn.CONCAT(B64,A64),'standard adp'!$A:$J,10,FALSE),VLOOKUP(_xlfn.CONCAT(B64,A64),'half ppr adp'!$A:$J,10,FALSE))),VLOOKUP(_xlfn.CONCAT(B64,A64),'full ppr adp'!$A:$K,11,FALSE))","v":225.33333333333334},null,"Joshua Kelley","LAC",{"$f":"VLOOKUP(_xlfn.CONCAT(I64,H64),'rb data'!A:X,24,FALSE)","v":74.360455200000018},{"$f":"IFERROR(J64-LARGE($J$3:$J$100,'Position Expectations'!$B$4+1),J64-MIN($J$3:$J$100))","v":14.793930400000022},{"$f":"IFERROR(J64-LARGE($J$3:$J$100,Settings!$F$21*Settings!$D$23),J64-MIN($J$3:$J$100))+IF(Settings!$D$26>0,MAX(0,LARGE($J$3:$J$100,Settings!$F$21*Settings!$D$23)-LARGE(($Q$3:$Q$150,$J$3:$J$100),Settings!$F$21*(Settings!$D$23+Settings!$D$24+Settings!$D$26))),0)","v":-94.695206300000024},{"$f":"IFERROR((IFERROR(IF(Settings!$J$17=1,VLOOKUP(_xlfn.CONCAT(I64,H64),'full ppr adp'!$A:$K,11,FALSE),IF(Settings!$J$17=0,VLOOKUP(_xlfn.CONCAT(I64,H64),'standard adp'!$A:$J,10,FALSE),VLOOKUP(_xlfn.CONCAT(I64,H64),'half ppr adp'!$A:$J,10,FALSE))),VLOOKUP(_xlfn.CONCAT(I64,H64),'full ppr adp'!$A:$K,11,FALSE))),\"UND\")","v":208},null,"Jerry Jeudy","DEN",{"$f":"VLOOKUP(_xlfn.CONCAT(P64,O64),'wr data'!A:X,24,FALSE)","v":132.26272159999999},{"$f":"IFERROR(Q64-LARGE($Q$3:$Q$150,'Position Expectations'!$B$5+1),Q64-MIN($Q$3:$Q$150))","v":5.7021270999999558},{"$f":"IFERROR(Q64-LARGE($Q$3:$Q$150,Settings!$F$21*Settings!$D$24),Q64-MIN($Q$3:$Q$150))+IF(Settings!$D$26>0,MAX(0,LARGE($Q$3:$Q$150,Settings!$F$21*Settings!$D$24)-LARGE(($Q$3:$Q$150,$J$3:$J$100),Settings!$F$21*(Settings!$D$23+Settings!$D$24+Settings!$D$26))),0)","v":-39.485556300000013},{"$f":"IFERROR((IFERROR(IF(Settings!$J$17=1,VLOOKUP(_xlfn.CONCAT(P64,O64),'full ppr adp'!$A:$K,11,FALSE),IF(Settings!$J$17=0,VLOOKUP(_xlfn.CONCAT(P64,O64),'standard adp'!$A:$J,10,FALSE),VLOOKUP(_xlfn.CONCAT(P64,O64),'half ppr adp'!$A:$J,10,FALSE))),VLOOKUP(_xlfn.CONCAT(P64,O64),'full ppr adp'!$A:$K,11,FALSE))),\"UND\")","v":114.66666666666667}]
["Eddy Pineiro","CHI",{"$f":"VLOOKUP(_xlfn.CONCAT(B65,A65),'k data'!A:E,5,FALSE)","v":101.14},{"$f":"IFERROR(C65-LARGE($C$38:$C$69,'Position Expectations'!$B$7+1),C65-MIN($C$38:$C$69))","v":-28.92},{"$f":"IFERROR(C65-LARGE($C$38:$C$75,Settings!$F$21*Settings!$D$27),C65-MIN($C$38:$C$75))","v":-30.350000000000009},{"$f":"IFERROR(IF(Settings!$J$17=1,VLOOKUP(_xlfn.CONCAT(B65,A65),'full ppr adp'!$A:$K,11,FALSE),IF(Settings!$J$17=0,VLOOKUP(_xlfn.CONCAT(B65,A65),'standard adp'!$A:$J,10,FALSE),VLOOKUP(_xlfn.CONCAT(B65,A65),'half ppr adp'!$A:$J,10,FALSE))),VLOOKUP(_xlfn.CONCAT(B65,A65),'full ppr adp'!$A:$K,11,FALSE))","v":296},null,"AJ Dillon","GB",{"$f":"VLOOKUP(_xlfn.CONCAT(I65,H65),'rb data'!A:X,24,FALSE)","v":67.148400199999998},{"$f":"IFERROR(J65-LARGE($J$3:$J$100,'Position Expectations'!$B$4+1),J65-MIN($J$3:$J$100))","v":7.5818754000000013},{"$f":"IFERROR(J65-LARGE($J$3:$J$100,Settings!$F$21*Settings!$D$23),J65-MIN($J$3:$J$100))+IF(Settings!$D$26>0,MAX(0,LARGE($J$3:$J$100,Settings!$F$21*Settings!$D$23)-LARGE(($Q$3:$Q$150,$J$3:$J$100),Settings!$F$21*(Settings!$D$23+Settings!$D$24+Settings!$D$26))),0)","v":-101.90726130000004},{"$f":"IFERROR((IFERROR(IF(Settings!$J$17=1,VLOOKUP(_xlfn.CONCAT(I65,H65),'full ppr adp'!$A:$K,11,FALSE),IF(Settings!$J$17=0,VLOOKUP(_xlfn.CONCAT(I65,H65),'standard adp'!$A:$J,10,FALSE),VLOOKUP(_xlfn.CONCAT(I65,H65),'half ppr adp'!$A:$J,10,FALSE))),VLOOKUP(_xlfn.CONCAT(I65,H65),'full ppr adp'!$A:$K,11,FALSE))),\"UND\")","v":175.33333333333334},null,"Michael Pittman Jr.","IND",{"$f":"VLOOKUP(_xlfn.CONCAT(P65,O65),'wr data'!A:X,24,FALSE)","v":130.21832230000001},{"$f":"IFERROR(Q65-LARGE($Q$3:$Q$150,'Position Expectations'!$B$5+1),Q65-MIN($Q$3:$Q$150))","v":3.6577277999999751},{"$f":"IFERROR(Q65-LARGE($Q$3:$Q$150,Settings!$F$21*Settings!$D$24),Q65-MIN($Q$3:$Q$150))+IF(Settings!$D$26>0,MAX(0,LARGE($Q$3:$Q$150,Settings!$F$21*Settings!$D$24)-LARGE(($Q$3:$Q$150,$J$3:$J$100),Settings!$F$21*(Settings!$D$23+Settings!$D$24+Settings!$D$26))),0)","v":-41.529955599999994},{"$f":"IFERROR((IFERROR(IF(Settings!$J$17=1,VLOOKUP(_xlfn.CONCAT(P65,O65),'full ppr adp'!$A:$K,11,FALSE),IF(Settings!$J$17=0,VLOOKUP(_xlfn.CONCAT(P65,O65),'standard adp'!$A:$J,10,FALSE),VLOOKUP(_xlfn.CONCAT(P65,O65),'half ppr adp'!$A:$J,10,FALSE))),VLOOKUP(_xlfn.CONCAT(P65,O65),'full ppr adp'!$A:$K,11,FALSE))),\"UND\")","v":167.66666666666666}]
["Ka'imi Fairbairn","HOU",{"$f":"VLOOKUP(_xlfn.CONCAT(B66,A66),'k data'!A:E,5,FALSE)","v":99.73},{"$f":"IFERROR(C66-LARGE($C$38:$C$69,'Position Expectations'!$B$7+1),C66-MIN($C$38:$C$69))","v":-30.33},{"$f":"IFERROR(C66-LARGE($C$38:$C$75,Settings!$F$21*Settings!$D$27),C66-MIN($C$38:$C$75))","v":-31.760000000000005},{"$f":"IFERROR(IF(Settings!$J$17=1,VLOOKUP(_xlfn.CONCAT(B66,A66),'full ppr adp'!$A:$K,11,FALSE),IF(Settings!$J$17=0,VLOOKUP(_xlfn.CONCAT(B66,A66),'standard adp'!$A:$J,10,FALSE),VLOOKUP(_xlfn.CONCAT(B66,A66),'half ppr adp'!$A:$J,10,FALSE))),VLOOKUP(_xlfn.CONCAT(B66,A66),'full ppr adp'!$A:$K,11,FALSE))","v":227.33333333333334},null,"Damien Harris","NE",{"$f":"VLOOKUP(_xlfn.CONCAT(I66,H66),'rb data'!A:X,24,FALSE)","v":62.589927599999996},{"$f":"IFERROR(J66-LARGE($J$3:$J$100,'Position Expectations'!$B$4+1),J66-MIN($J$3:$J$100))","v":3.0234027999999995},{"$f":"IFERROR(J66-LARGE($J$3:$J$100,Settings!$F$21*Settings!$D$23),J66-MIN($J$3:$J$100))+IF(Settings!$D$26>0,MAX(0,LARGE($J$3:$J$100,Settings!$F$21*Settings!$D$23)-LARGE(($Q$3:$Q$150,$J$3:$J$100),Settings!$F$21*(Settings!$D$23+Settings!$D$24+Settings!$D$26))),0)","v":-106.46573390000005},{"$f":"IFERROR((IFERROR(IF(Settings!$J$17=1,VLOOKUP(_xlfn.CONCAT(I66,H66),'full ppr adp'!$A:$K,11,FALSE),IF(Settings!$J$17=0,VLOOKUP(_xlfn.CONCAT(I66,H66),'standard adp'!$A:$J,10,FALSE),VLOOKUP(_xlfn.CONCAT(I66,H66),'half ppr adp'!$A:$J,10,FALSE))),VLOOKUP(_xlfn.CONCAT(I66,H66),'full ppr adp'!$A:$K,11,FALSE))),\"UND\")","v":180},null,"Hunter Renfrow","LV",{"$f":"VLOOKUP(_xlfn.CONCAT(P66,O66),'wr data'!A:X,24,FALSE)","v":128.87008560000001},{"$f":"IFERROR(Q66-LARGE($Q$3:$Q$150,'Position Expectations'!$B$5+1),Q66-MIN($Q$3:$Q$150))","v":2.309491099999974},{"$f":"IFERROR(Q66-LARGE($Q$3:$Q$150,Settings!$F$21*Settings!$D$24),Q66-MIN($Q$3:$Q$150))+IF(Settings!$D$26>0,MAX(0,LARGE($Q$3:$Q$150,Settings!$F$21*Settings!$D$24)-LARGE(($Q$3:$Q$150,$J$3:$J$100),Settings!$F$21*(Settings!$D$23+Settings!$D$24+Settings!$D$26))),0)","v":-42.878192299999995},{"$f":"IFERROR((IFERROR(IF(Settings!$J$17=1,VLOOKUP(_xlfn.CONCAT(P66,O66),'full ppr adp'!$A:$K,11,FALSE),IF(Settings!$J$17=0,VLOOKUP(_xlfn.CONCAT(P66,O66),'standard adp'!$A:$J,10,FALSE),VLOOKUP(_xlfn.CONCAT(P66,O66),'half ppr adp'!$A:$J,10,FALSE))),VLOOKUP(_xlfn.CONCAT(P66,O66),'full ppr adp'!$A:$K,11,FALSE))),\"UND\")","v":165}]
["Graham Gano","NYG",{"$f":"VLOOKUP(_xlfn.CONCAT(B67,A67),'k data'!A:E,5,FALSE)","v":98.96},{"$f":"IFERROR(C67-LARGE($C$38:$C$69,'Position Expectations'!$B$7+1),C67-MIN($C$38:$C$69))","v":-31.100000000000009},{"$f":"IFERROR(C67-LARGE($C$38:$C$75,Settings!$F$21*Settings!$D$27),C67-MIN($C$38:$C$75))","v":-32.530000000000015},{"$f":"IFERROR(IF(Settings!$J$17=1,VLOOKUP(_xlfn.CONCAT(B67,A67),'full ppr adp'!$A:$K,11,FALSE),IF(Settings!$J$17=0,VLOOKUP(_xlfn.CONCAT(B67,A67),'standard adp'!$A:$J,10,FALSE),VLOOKUP(_xlfn.CONCAT(B67,A67),'half ppr adp'!$A:$J,10,FALSE))),VLOOKUP(_xlfn.CONCAT(B67,A67),'full ppr adp'!$A:$K,11,FALSE))","v":281},null,"Frank Gore","NYJ",{"$f":"VLOOKUP(_xlfn.CONCAT(I67,H67),'rb data'!A:X,24,FALSE)","v":62.237198400000011},{"$f":"IFERROR(J67-LARGE($J$3:$J$100,'Position Expectations'!$B$4+1),J67-MIN($J$3:$J$100))","v":2.6706736000000149},{"$f":"IFERROR(J67-LARGE($J$3:$J$100,Settings!$F$21*Settings!$D$23),J67-MIN($J$3:$J$100))+IF(Settings!$D$26>0,MAX(0,LARGE($J$3:$J$100,Settings!$F$21*Settings!$D$23)-LARGE(($Q$3:$Q$150,$J$3:$J$100),Settings!$F$21*(Settings!$D$23+Settings!$D$24+Settings!$D$26))),0)","v":-106.81846310000003},{"$f":"IFERROR((IFERROR(IF(Settings!$J$17=1,VLOOKUP(_xlfn.CONCAT(I67,H67),'full ppr adp'!$A:$K,11,FALSE),IF(Settings!$J$17=0,VLOOKUP(_xlfn.CONCAT(I67,H67),'standard adp'!$A:$J,10,FALSE),VLOOKUP(_xlfn.CONCAT(I67,H67),'half ppr adp'!$A:$J,10,FALSE))),VLOOKUP(_xlfn.CONCAT(I67,H67),'full ppr adp'!$A:$K,11,FALSE))),\"UND\")","v":248},null,"Mecole Hardman","KC",{"$f":"VLOOKUP(_xlfn.CONCAT(P67,O67),'wr data'!A:X,24,FALSE)","v":126.56059450000004},{"$f":"IFERROR(Q67-LARGE($Q$3:$Q$150,'Position Expectations'!$B$5+1),Q67-MIN($Q$3:$Q$150))","v":0},{"$f":"IFERROR(Q67-LARGE($Q$3:$Q$150,Settings!$F$21*Settings!$D$24),Q67-MIN($Q$3:$Q$150))+IF(Settings!$D$26>0,MAX(0,LARGE($Q$3:$Q$150,Settings!$F$21*Settings!$D$24)-LARGE(($Q$3:$Q$150,$J$3:$J$100),Settings!$F$21*(Settings!$D$23+Settings!$D$24+Settings!$D$26))),0)","v":-45.187683399999969},{"$f":"IFERROR((IFERROR(IF(Settings!$J$17=1,VLOOKUP(_xlfn.CONCAT(P67,O67),'full ppr adp'!$A:$K,11,FALSE),IF(Settings!$J$17=0,VLOOKUP(_xlfn.CONCAT(P67,O67),'standard adp'!$A:$J,10,FALSE),VLOOKUP(_xlfn.CONCAT(P67,O67),'half ppr adp'!$A:$J,10,FALSE))),VLOOKUP(_xlfn.CONCAT(P67,O67),'full ppr adp'!$A:$K,11,FALSE))),\"UND\")","v":135.66666666666666}]
["Daniel Carlson","LV",{"$f":"VLOOKUP(_xlfn.CONCAT(B68,A68),'k data'!A:E,5,FALSE)","v":95.94},{"$f":"IFERROR(C68-LARGE($C$38:$C$69,'Position Expectations'!$B$7+1),C68-MIN($C$38:$C$69))","v":-34.120000000000005},{"$f":"IFERROR(C68-LARGE($C$38:$C$75,Settings!$F$21*Settings!$D$27),C68-MIN($C$38:$C$75))","v":-35.550000000000011},{"$f":"IFERROR(IF(Settings!$J$17=1,VLOOKUP(_xlfn.CONCAT(B68,A68),'full ppr adp'!$A:$K,11,FALSE),IF(Settings!$J$17=0,VLOOKUP(_xlfn.CONCAT(B68,A68),'standard adp'!$A:$J,10,FALSE),VLOOKUP(_xlfn.CONCAT(B68,A68),'half ppr adp'!$A:$J,10,FALSE))),VLOOKUP(_xlfn.CONCAT(B68,A68),'full ppr adp'!$A:$K,11,FALSE))","v":301.5},null,"Devine Ozigbo","JAC",{"$f":"VLOOKUP(_xlfn.CONCAT(I68,H68),'rb data'!A:X,24,FALSE)","v":61.3568359},{"$f":"IFERROR(J68-LARGE($J$3:$J$100,'Position Expectations'!$B$4+1),J68-MIN($J$3:$J$100))","v":1.7903111000000038},{"$f":"IFERROR(J68-LARGE($J$3:$J$100,Settings!$F$21*Settings!$D$23),J68-MIN($J$3:$J$100))+IF(Settings!$D$26>0,MAX(0,LARGE($J$3:$J$100,Settings!$F$21*Settings!$D$23)-LARGE(($Q$3:$Q$150,$J$3:$J$100),Settings!$F$21*(Settings!$D$23+Settings!$D$24+Settings!$D$26))),0)","v":-107.69882560000005},{"$f":"IFERROR((IFERROR(IF(Settings!$J$17=1,VLOOKUP(_xlfn.CONCAT(I68,H68),'full ppr adp'!$A:$K,11,FALSE),IF(Settings!$J$17=0,VLOOKUP(_xlfn.CONCAT(I68,H68),'standard adp'!$A:$J,10,FALSE),VLOOKUP(_xlfn.CONCAT(I68,H68),'half ppr adp'!$A:$J,10,FALSE))),VLOOKUP(_xlfn.CONCAT(I68,H68),'full ppr adp'!$A:$K,11,FALSE))),\"UND\")","v":293.5},null,"Justin Jefferson","MIN",{"$f":"VLOOKUP(_xlfn.CONCAT(P68,O68),'wr data'!A:X,24,FALSE)","v":126.30120510000002},{"$f":"IFERROR(Q68-LARGE($Q$3:$Q$150,'Position Expectations'!$B$5+1),Q68-MIN($Q$3:$Q$150))","v":-0.25938940000001764},{"$f":"IFERROR(Q68-LARGE($Q$3:$Q$150,Settings!$F$21*Settings!$D$24),Q68-MIN($Q$3:$Q$150))+IF(Settings!$D$26>0,MAX(0,LARGE($Q$3:$Q$150,Settings!$F$21*Settings!$D$24)-LARGE(($Q$3:$Q$150,$J$3:$J$100),Settings!$F$21*(Settings!$D$23+Settings!$D$24+Settings!$D$26))),0)","v":-45.447072799999987},{"$f":"IFERROR((IFERROR(IF(Settings!$J$17=1,VLOOKUP(_xlfn.CONCAT(P68,O68),'full ppr adp'!$A:$K,11,FALSE),IF(Settings!$J$17=0,VLOOKUP(_xlfn.CONCAT(P68,O68),'standard adp'!$A:$J,10,FALSE),VLOOKUP(_xlfn.CONCAT(P68,O68),'half ppr adp'!$A:$J,10,FALSE))),VLOOKUP(_xlfn.CONCAT(P68,O68),'full ppr adp'!$A:$K,11,FALSE))),\"UND\")","v":117.66666666666667}]
["Greg Joseph","TEN",{"$f":"VLOOKUP(_xlfn.CONCAT(B69,A69),'k data'!A:E,5,FALSE)","v":80.22},{"$f":"IFERROR(C69-LARGE($C$38:$C$69,'Position Expectations'!$B$7+1),C69-MIN($C$38:$C$69))","v":-49.84},{"$f":"IFERROR(C69-LARGE($C$38:$C$75,Settings!$F$21*Settings!$D$27),C69-MIN($C$38:$C$75))","v":-51.27000000000001},{"$f":"IFERROR(IF(Settings!$J$17=1,VLOOKUP(_xlfn.CONCAT(B69,A69),'full ppr adp'!$A:$K,11,FALSE),IF(Settings!$J$17=0,VLOOKUP(_xlfn.CONCAT(B69,A69),'standard adp'!$A:$J,10,FALSE),VLOOKUP(_xlfn.CONCAT(B69,A69),'half ppr adp'!$A:$J,10,FALSE))),VLOOKUP(_xlfn.CONCAT(B69,A69),'full ppr adp'!$A:$K,11,FALSE))","v":280},null,"Rex Burkhead","NE",{"$f":"VLOOKUP(_xlfn.CONCAT(I69,H69),'rb data'!A:X,24,FALSE)","v":59.566524799999996},{"$f":"IFERROR(J69-LARGE($J$3:$J$100,'Position Expectations'!$B$4+1),J69-MIN($J$3:$J$100))","v":0},{"$f":"IFERROR(J69-LARGE($J$3:$J$100,Settings!$F$21*Settings!$D$23),J69-MIN($J$3:$J$100))+IF(Settings!$D$26>0,MAX(0,LARGE($J$3:$J$100,Settings!$F$21*Settings!$D$23)-LARGE(($Q$3:$Q$150,$J$3:$J$100),Settings!$F$21*(Settings!$D$23+Settings!$D$24+Settings!$D$26))),0)","v":-109.48913670000005},{"$f":"IFERROR((IFERROR(IF(Settings!$J$17=1,VLOOKUP(_xlfn.CONCAT(I69,H69),'full ppr adp'!$A:$K,11,FALSE),IF(Settings!$J$17=0,VLOOKUP(_xlfn.CONCAT(I69,H69),'standard adp'!$A:$J,10,FALSE),VLOOKUP(_xlfn.CONCAT(I69,H69),'half ppr adp'!$A:$J,10,FALSE))),VLOOKUP(_xlfn.CONCAT(I69,H69),'full ppr adp'!$A:$K,11,FALSE))),\"UND\")","v":288},null,"Larry Fitzgerald","ARI",{"$f":"VLOOKUP(_xlfn.CONCAT(P69,O69),'wr data'!A:X,24,FALSE)","v":123.078048},{"$f":"IFERROR(Q69-LARGE($Q$3:$Q$150,'Position Expectations'!$B$5+1),Q69-MIN($Q$3:$Q$150))","v":-3.4825465000000406},{"$f":"IFERROR(Q69-LARGE($Q$3:$Q$150,Settings!$F$21*Settings!$D$24),Q69-MIN($Q$3:$Q$150))+IF(Settings!$D$26>0,MAX(0,LARGE($Q$3:$Q$150,Settings!$F$21*Settings!$D$24)-LARGE(($Q$3:$Q$150,$J$3:$J$100),Settings!$F$21*(Settings!$D$23+Settings!$D$24+Settings!$D$26))),0)","v":-48.67022990000001},{"$f":"IFERROR((IFERROR(IF(Settings!$J$17=1,VLOOKUP(_xlfn.CONCAT(P69,O69),'full ppr adp'!$A:$K,11,FALSE),IF(Settings!$J$17=0,VLOOKUP(_xlfn.CONCAT(P69,O69),'standard adp'!$A:$J,10,FALSE),VLOOKUP(_xlfn.CONCAT(P69,O69),'half ppr adp'!$A:$J,10,FALSE))),VLOOKUP(_xlfn.CONCAT(P69,O69),'full ppr adp'!$A:$K,11,FALSE))),\"UND\")","v":181.66666666666666}]
[null,null,null,null,null,null,null,"Lamar Miller","NE",{"$f":"VLOOKUP(_xlfn.CONCAT(I70,H70),'rb data'!A:X,24,FALSE)","v":58.999044399999995},{"$f":"IFERROR(J70-LARGE($J$3:$J$100,'Position Expectations'!$B$4+1),J70-MIN($J$3:$J$100))","v":-0.56748040000000088},{"$f":"IFERROR(J70-LARGE($J$3:$J$100,Settings!$F$21*Settings!$D$23),J70-MIN($J$3:$J$100))+IF(Settings!$D$26>0,MAX(0,LARGE($J$3:$J$100,Settings!$F$21*Settings!$D$23)-LARGE(($Q$3:$Q$150,$J$3:$J$100),Settings!$F$21*(Settings!$D$23+Settings!$D$24+Settings!$D$26))),0)","v":-110.05661710000004},{"$f":"IFERROR((IFERROR(IF(Settings!$J$17=1,VLOOKUP(_xlfn.CONCAT(I70,H70),'full ppr adp'!$A:$K,11,FALSE),IF(Settings!$J$17=0,VLOOKUP(_xlfn.CONCAT(I70,H70),'standard adp'!$A:$J,10,FALSE),VLOOKUP(_xlfn.CONCAT(I70,H70),'half ppr adp'!$A:$J,10,FALSE))),VLOOKUP(_xlfn.CONCAT(I70,H70),'full ppr adp'!$A:$K,11,FALSE))),\"UND\")","v":199.5},null,"Corey Davis","TEN",{"$f":"VLOOKUP(_xlfn.CONCAT(P70,O70),'wr data'!A:X,24,FALSE)","v":120.73659049999998},{"$f":"IFERROR(Q70-LARGE($Q$3:$Q$150,'Position Expectations'!$B$5+1),Q70-MIN($Q$3:$Q$150))","v":-5.824004000000059},{"$f":"IFERROR(Q70-LARGE($Q$3:$Q$150,Settings!$F$21*Settings!$D$24),Q70-MIN($Q$3:$Q$150))+IF(Settings!$D$26>0,MAX(0,LARGE($Q$3:$Q$150,Settings!$F$21*Settings!$D$24)-LARGE(($Q$3:$Q$150,$J$3:$J$100),Settings!$F$21*(Settings!$D$23+Settings!$D$24+Settings!$D$26))),0)","v":-51.011687400000028},{"$f":"IFERROR((IFERROR(IF(Settings!$J$17=1,VLOOKUP(_xlfn.CONCAT(P70,O70),'full ppr adp'!$A:$K,11,FALSE),IF(Settings!$J$17=0,VLOOKUP(_xlfn.CONCAT(P70,O70),'standard adp'!$A:$J,10,FALSE),VLOOKUP(_xlfn.CONCAT(P70,O70),'half ppr adp'!$A:$J,10,FALSE))),VLOOKUP(_xlfn.CONCAT(P70,O70),'full ppr adp'!$A:$K,11,FALSE))),\"UND\")","v":200}]
[null,null,null,null,null,null,null,"Malcolm Brown","LAR",{"$f":"VLOOKUP(_xlfn.CONCAT(I71,H71),'rb data'!A:X,24,FALSE)","v":58.949449119999997},{"$f":"IFERROR(J71-LARGE($J$3:$J$100,'Position Expectations'!$B$4+1),J71-MIN($J$3:$J$100))","v":-0.61707567999999924},{"$f":"IFERROR(J71-LARGE($J$3:$J$100,Settings!$F$21*Settings!$D$23),J71-MIN($J$3:$J$100))+IF(Settings!$D$26>0,MAX(0,LARGE($J$3:$J$100,Settings!$F$21*Settings!$D$23)-LARGE(($Q$3:$Q$150,$J$3:$J$100),Settings!$F$21*(Settings!$D$23+Settings!$D$24+Settings!$D$26))),0)","v":-110.10621238000004},{"$f":"IFERROR((IFERROR(IF(Settings!$J$17=1,VLOOKUP(_xlfn.CONCAT(I71,H71),'full ppr adp'!$A:$K,11,FALSE),IF(Settings!$J$17=0,VLOOKUP(_xlfn.CONCAT(I71,H71),'standard adp'!$A:$J,10,FALSE),VLOOKUP(_xlfn.CONCAT(I71,H71),'half ppr adp'!$A:$J,10,FALSE))),VLOOKUP(_xlfn.CONCAT(I71,H71),'full ppr adp'!$A:$K,11,FALSE))),\"UND\")","v":218},null,"Bryan Edwards","LV",{"$f":"VLOOKUP(_xlfn.CONCAT(P71,O71),'wr data'!A:X,24,FALSE)","v":118.56131169999999},{"$f":"IFERROR(Q71-LARGE($Q$3:$Q$150,'Position Expectations'!$B$5+1),Q71-MIN($Q$3:$Q$150))","v":-7.9992828000000458},{"$f":"IFERROR(Q71-LARGE($Q$3:$Q$150,Settings!$F$21*Settings!$D$24),Q71-MIN($Q$3:$Q$150))+IF(Settings!$D$26>0,MAX(0,LARGE($Q$3:$Q$150,Settings!$F$21*Settings!$D$24)-LARGE(($Q$3:$Q$150,$J$3:$J$100),Settings!$F$21*(Settings!$D$23+Settings!$D$24+Settings!$D$26))),0)","v":-53.186966200000015},{"$f":"IFERROR((IFERROR(IF(Settings!$J$17=1,VLOOKUP(_xlfn.CONCAT(P71,O71),'full ppr adp'!$A:$K,11,FALSE),IF(Settings!$J$17=0,VLOOKUP(_xlfn.CONCAT(P71,O71),'standard adp'!$A:$J,10,FALSE),VLOOKUP(_xlfn.CONCAT(P71,O71),'half ppr adp'!$A:$J,10,FALSE))),VLOOKUP(_xlfn.CONCAT(P71,O71),'full ppr adp'!$A:$K,11,FALSE))),\"UND\")","v":219}]
[null,null,null,null,null,null,null,"Brian Hill","ATL",{"$f":"VLOOKUP(_xlfn.CONCAT(I72,H72),'rb data'!A:X,24,FALSE)","v":58.805920800000003},{"$f":"IFERROR(J72-LARGE($J$3:$J$100,'Position Expectations'!$B$4+1),J72-MIN($J$3:$J$100))","v":-0.76060399999999362},{"$f":"IFERROR(J72-LARGE($J$3:$J$100,Settings!$F$21*Settings!$D$23),J72-MIN($J$3:$J$100))+IF(Settings!$D$26>0,MAX(0,LARGE($J$3:$J$100,Settings!$F$21*Settings!$D$23)-LARGE(($Q$3:$Q$150,$J$3:$J$100),Settings!$F$21*(Settings!$D$23+Settings!$D$24+Settings!$D$26))),0)","v":-110.24974070000005},{"$f":"IFERROR((IFERROR(IF(Settings!$J$17=1,VLOOKUP(_xlfn.CONCAT(I72,H72),'full ppr adp'!$A:$K,11,FALSE),IF(Settings!$J$17=0,VLOOKUP(_xlfn.CONCAT(I72,H72),'standard adp'!$A:$J,10,FALSE),VLOOKUP(_xlfn.CONCAT(I72,H72),'half ppr adp'!$A:$J,10,FALSE))),VLOOKUP(_xlfn.CONCAT(I72,H72),'full ppr adp'!$A:$K,11,FALSE))),\"UND\")","v":234},null,"Brandon Aiyuk","SF",{"$f":"VLOOKUP(_xlfn.CONCAT(P72,O72),'wr data'!A:X,24,FALSE)","v":117.97637499999999},{"$f":"IFERROR(Q72-LARGE($Q$3:$Q$150,'Position Expectations'!$B$5+1),Q72-MIN($Q$3:$Q$150))","v":-8.5842195000000459},{"$f":"IFERROR(Q72-LARGE($Q$3:$Q$150,Settings!$F$21*Settings!$D$24),Q72-MIN($Q$3:$Q$150))+IF(Settings!$D$26>0,MAX(0,LARGE($Q$3:$Q$150,Settings!$F$21*Settings!$D$24)-LARGE(($Q$3:$Q$150,$J$3:$J$100),Settings!$F$21*(Settings!$D$23+Settings!$D$24+Settings!$D$26))),0)","v":-53.771902900000015},{"$f":"IFERROR((IFERROR(IF(Settings!$J$17=1,VLOOKUP(_xlfn.CONCAT(P72,O72),'full ppr adp'!$A:$K,11,FALSE),IF(Settings!$J$17=0,VLOOKUP(_xlfn.CONCAT(P72,O72),'standard adp'!$A:$J,10,FALSE),VLOOKUP(_xlfn.CONCAT(P72,O72),'half ppr adp'!$A:$J,10,FALSE))),VLOOKUP(_xlfn.CONCAT(P72,O72),'full ppr adp'!$A:$K,11,FALSE))),\"UND\")","v":174.33333333333334}]
[null,null,null,null,null,null,null,"Rashaad Penny","SEA",{"$f":"VLOOKUP(_xlfn.CONCAT(I73,H73),'rb data'!A:X,24,FALSE)","v":58.194881679999995},{"$f":"IFERROR(J73-LARGE($J$3:$J$100,'Position Expectations'!$B$4+1),J73-MIN($J$3:$J$100))","v":-1.3716431200000017},{"$f":"IFERROR(J73-LARGE($J$3:$J$100,Settings!$F$21*Settings!$D$23),J73-MIN($J$3:$J$100))+IF(Settings!$D$26>0,MAX(0,LARGE($J$3:$J$100,Settings!$F$21*Settings!$D$23)-LARGE(($Q$3:$Q$150,$J$3:$J$100),Settings!$F$21*(Settings!$D$23+Settings!$D$24+Settings!$D$26))),0)","v":-110.86077982000005},{"$f":"IFERROR((IFERROR(IF(Settings!$J$17=1,VLOOKUP(_xlfn.CONCAT(I73,H73),'full ppr adp'!$A:$K,11,FALSE),IF(Settings!$J$17=0,VLOOKUP(_xlfn.CONCAT(I73,H73),'standard adp'!$A:$J,10,FALSE),VLOOKUP(_xlfn.CONCAT(I73,H73),'half ppr adp'!$A:$J,10,FALSE))),VLOOKUP(_xlfn.CONCAT(I73,H73),'full ppr adp'!$A:$K,11,FALSE))),\"UND\")","v":181},null,"Danny Amendola","DET",{"$f":"VLOOKUP(_xlfn.CONCAT(P73,O73),'wr data'!A:X,24,FALSE)","v":117.25539078000001},{"$f":"IFERROR(Q73-LARGE($Q$3:$Q$150,'Position Expectations'!$B$5+1),Q73-MIN($Q$3:$Q$150))","v":-9.3052037200000228},{"$f":"IFERROR(Q73-LARGE($Q$3:$Q$150,Settings!$F$21*Settings!$D$24),Q73-MIN($Q$3:$Q$150))+IF(Settings!$D$26>0,MAX(0,LARGE($Q$3:$Q$150,Settings!$F$21*Settings!$D$24)-LARGE(($Q$3:$Q$150,$J$3:$J$100),Settings!$F$21*(Settings!$D$23+Settings!$D$24+Settings!$D$26))),0)","v":-54.492887119999992},{"$f":"IFERROR((IFERROR(IF(Settings!$J$17=1,VLOOKUP(_xlfn.CONCAT(P73,O73),'full ppr adp'!$A:$K,11,FALSE),IF(Settings!$J$17=0,VLOOKUP(_xlfn.CONCAT(P73,O73),'standard adp'!$A:$J,10,FALSE),VLOOKUP(_xlfn.CONCAT(P73,O73),'half ppr adp'!$A:$J,10,FALSE))),VLOOKUP(_xlfn.CONCAT(P73,O73),'full ppr adp'!$A:$K,11,FALSE))),\"UND\")","v":248}]
[null,null,null,null,null,null,null,"Dion Lewis","NYG",{"$f":"VLOOKUP(_xlfn.CONCAT(I74,H74),'rb data'!A:X,24,FALSE)","v":56.423340799999998},{"$f":"IFERROR(J74-LARGE($J$3:$J$100,'Position Expectations'!$B$4+1),J74-MIN($J$3:$J$100))","v":-3.143183999999998},{"$f":"IFERROR(J74-LARGE($J$3:$J$100,Settings!$F$21*Settings!$D$23),J74-MIN($J$3:$J$100))+IF(Settings!$D$26>0,MAX(0,LARGE($J$3:$J$100,Settings!$F$21*Settings!$D$23)-LARGE(($Q$3:$Q$150,$J$3:$J$100),Settings!$F$21*(Settings!$D$23+Settings!$D$24+Settings!$D$26))),0)","v":-112.63232070000004},{"$f":"IFERROR((IFERROR(IF(Settings!$J$17=1,VLOOKUP(_xlfn.CONCAT(I74,H74),'full ppr adp'!$A:$K,11,FALSE),IF(Settings!$J$17=0,VLOOKUP(_xlfn.CONCAT(I74,H74),'standard adp'!$A:$J,10,FALSE),VLOOKUP(_xlfn.CONCAT(I74,H74),'half ppr adp'!$A:$J,10,FALSE))),VLOOKUP(_xlfn.CONCAT(I74,H74),'full ppr adp'!$A:$K,11,FALSE))),\"UND\")","v":224.5},null,"John Ross","CIN",{"$f":"VLOOKUP(_xlfn.CONCAT(P74,O74),'wr data'!A:X,24,FALSE)","v":111.17481705},{"$f":"IFERROR(Q74-LARGE($Q$3:$Q$150,'Position Expectations'!$B$5+1),Q74-MIN($Q$3:$Q$150))","v":-15.385777450000035},{"$f":"IFERROR(Q74-LARGE($Q$3:$Q$150,Settings!$F$21*Settings!$D$24),Q74-MIN($Q$3:$Q$150))+IF(Settings!$D$26>0,MAX(0,LARGE($Q$3:$Q$150,Settings!$F$21*Settings!$D$24)-LARGE(($Q$3:$Q$150,$J$3:$J$100),Settings!$F$21*(Settings!$D$23+Settings!$D$24+Settings!$D$26))),0)","v":-60.573460850000004},{"$f":"IFERROR((IFERROR(IF(Settings!$J$17=1,VLOOKUP(_xlfn.CONCAT(P74,O74),'full ppr adp'!$A:$K,11,FALSE),IF(Settings!$J$17=0,VLOOKUP(_xlfn.CONCAT(P74,O74),'standard adp'!$A:$J,10,FALSE),VLOOKUP(_xlfn.CONCAT(P74,O74),'half ppr adp'!$A:$J,10,FALSE))),VLOOKUP(_xlfn.CONCAT(P74,O74),'full ppr adp'!$A:$K,11,FALSE))),\"UND\")","v":182}]
[null,null,null,null,null,null,null,"Bryce Love","WAS",{"$f":"VLOOKUP(_xlfn.CONCAT(I75,H75),'rb data'!A:X,24,FALSE)","v":55.122933800000006},{"$f":"IFERROR(J75-LARGE($J$3:$J$100,'Position Expectations'!$B$4+1),J75-MIN($J$3:$J$100))","v":-4.4435909999999907},{"$f":"IFERROR(J75-LARGE($J$3:$J$100,Settings!$F$21*Settings!$D$23),J75-MIN($J$3:$J$100))+IF(Settings!$D$26>0,MAX(0,LARGE($J$3:$J$100,Settings!$F$21*Settings!$D$23)-LARGE(($Q$3:$Q$150,$J$3:$J$100),Settings!$F$21*(Settings!$D$23+Settings!$D$24+Settings!$D$26))),0)","v":-113.93272770000004},{"$f":"IFERROR((IFERROR(IF(Settings!$J$17=1,VLOOKUP(_xlfn.CONCAT(I75,H75),'full ppr adp'!$A:$K,11,FALSE),IF(Settings!$J$17=0,VLOOKUP(_xlfn.CONCAT(I75,H75),'standard adp'!$A:$J,10,FALSE),VLOOKUP(_xlfn.CONCAT(I75,H75),'half ppr adp'!$A:$J,10,FALSE))),VLOOKUP(_xlfn.CONCAT(I75,H75),'full ppr adp'!$A:$K,11,FALSE))),\"UND\")","v":262},null,"Josh Reynolds","LAR",{"$f":"VLOOKUP(_xlfn.CONCAT(P75,O75),'wr data'!A:X,24,FALSE)","v":110.85438528000002},{"$f":"IFERROR(Q75-LARGE($Q$3:$Q$150,'Position Expectations'!$B$5+1),Q75-MIN($Q$3:$Q$150))","v":-15.706209220000019},{"$f":"IFERROR(Q75-LARGE($Q$3:$Q$150,Settings!$F$21*Settings!$D$24),Q75-MIN($Q$3:$Q$150))+IF(Settings!$D$26>0,MAX(0,LARGE($Q$3:$Q$150,Settings!$F$21*Settings!$D$24)-LARGE(($Q$3:$Q$150,$J$3:$J$100),Settings!$F$21*(Settings!$D$23+Settings!$D$24+Settings!$D$26))),0)","v":-60.893892619999988},{"$f":"IFERROR((IFERROR(IF(Settings!$J$17=1,VLOOKUP(_xlfn.CONCAT(P75,O75),'full ppr adp'!$A:$K,11,FALSE),IF(Settings!$J$17=0,VLOOKUP(_xlfn.CONCAT(P75,O75),'standard adp'!$A:$J,10,FALSE),VLOOKUP(_xlfn.CONCAT(P75,O75),'half ppr adp'!$A:$J,10,FALSE))),VLOOKUP(_xlfn.CONCAT(P75,O75),'full ppr adp'!$A:$K,11,FALSE))),\"UND\")","v":257}]
[null,null,null,null,null,null,null,"Benny Snell Jr.","PIT",{"$f":"VLOOKUP(_xlfn.CONCAT(I76,H76),'rb data'!A:X,24,FALSE)","v":51.601636800000001},{"$f":"IFERROR(J76-LARGE($J$3:$J$100,'Position Expectations'!$B$4+1),J76-MIN($J$3:$J$100))","v":-7.9648879999999949},{"$f":"IFERROR(J76-LARGE($J$3:$J$100,Settings!$F$21*Settings!$D$23),J76-MIN($J$3:$J$100))+IF(Settings!$D$26>0,MAX(0,LARGE($J$3:$J$100,Settings!$F$21*Settings!$D$23)-LARGE(($Q$3:$Q$150,$J$3:$J$100),Settings!$F$21*(Settings!$D$23+Settings!$D$24+Settings!$D$26))),0)","v":-117.45402470000005},{"$f":"IFERROR((IFERROR(IF(Settings!$J$17=1,VLOOKUP(_xlfn.CONCAT(I76,H76),'full ppr adp'!$A:$K,11,FALSE),IF(Settings!$J$17=0,VLOOKUP(_xlfn.CONCAT(I76,H76),'standard adp'!$A:$J,10,FALSE),VLOOKUP(_xlfn.CONCAT(I76,H76),'half ppr adp'!$A:$J,10,FALSE))),VLOOKUP(_xlfn.CONCAT(I76,H76),'full ppr adp'!$A:$K,11,FALSE))),\"UND\")","v":228.66666666666666},null,"Randall Cobb","HOU",{"$f":"VLOOKUP(_xlfn.CONCAT(P76,O76),'wr data'!A:X,24,FALSE)","v":107.76940550000002},{"$f":"IFERROR(Q76-LARGE($Q$3:$Q$150,'Position Expectations'!$B$5+1),Q76-MIN($Q$3:$Q$150))","v":-18.791189000000017},{"$f":"IFERROR(Q76-LARGE($Q$3:$Q$150,Settings!$F$21*Settings!$D$24),Q76-MIN($Q$3:$Q$150))+IF(Settings!$D$26>0,MAX(0,LARGE($Q$3:$Q$150,Settings!$F$21*Settings!$D$24)-LARGE(($Q$3:$Q$150,$J$3:$J$100),Settings!$F$21*(Settings!$D$23+Settings!$D$24+Settings!$D$26))),0)","v":-63.978872399999986},{"$f":"IFERROR((IFERROR(IF(Settings!$J$17=1,VLOOKUP(_xlfn.CONCAT(P76,O76),'full ppr adp'!$A:$K,11,FALSE),IF(Settings!$J$17=0,VLOOKUP(_xlfn.CONCAT(P76,O76),'standard adp'!$A:$J,10,FALSE),VLOOKUP(_xlfn.CONCAT(P76,O76),'half ppr adp'!$A:$J,10,FALSE))),VLOOKUP(_xlfn.CONCAT(P76,O76),'full ppr adp'!$A:$K,11,FALSE))),\"UND\")","v":208.33333333333334}]
[null,null,null,null,null,null,null,"Anthony McFarland Jr.","PIT",{"$f":"VLOOKUP(_xlfn.CONCAT(I77,H77),'rb data'!A:X,24,FALSE)","v":50.459935900000005},{"$f":"IFERROR(J77-LARGE($J$3:$J$100,'Position Expectations'!$B$4+1),J77-MIN($J$3:$J$100))","v":-9.1065888999999913},{"$f":"IFERROR(J77-LARGE($J$3:$J$100,Settings!$F$21*Settings!$D$23),J77-MIN($J$3:$J$100))+IF(Settings!$D$26>0,MAX(0,LARGE($J$3:$J$100,Settings!$F$21*Settings!$D$23)-LARGE(($Q$3:$Q$150,$J$3:$J$100),Settings!$F$21*(Settings!$D$23+Settings!$D$24+Settings!$D$26))),0)","v":-118.59572560000004},{"$f":"IFERROR((IFERROR(IF(Settings!$J$17=1,VLOOKUP(_xlfn.CONCAT(I77,H77),'full ppr adp'!$A:$K,11,FALSE),IF(Settings!$J$17=0,VLOOKUP(_xlfn.CONCAT(I77,H77),'standard adp'!$A:$J,10,FALSE),VLOOKUP(_xlfn.CONCAT(I77,H77),'half ppr adp'!$A:$J,10,FALSE))),VLOOKUP(_xlfn.CONCAT(I77,H77),'full ppr adp'!$A:$K,11,FALSE))),\"UND\")","v":206},null,"James Washington","PIT",{"$f":"VLOOKUP(_xlfn.CONCAT(P77,O77),'wr data'!A:X,24,FALSE)","v":103.24616191999999},{"$f":"IFERROR(Q77-LARGE($Q$3:$Q$150,'Position Expectations'!$B$5+1),Q77-MIN($Q$3:$Q$150))","v":-23.314432580000044},{"$f":"IFERROR(Q77-LARGE($Q$3:$Q$150,Settings!$F$21*Settings!$D$24),Q77-MIN($Q$3:$Q$150))+IF(Settings!$D$26>0,MAX(0,LARGE($Q$3:$Q$150,Settings!$F$21*Settings!$D$24)-LARGE(($Q$3:$Q$150,$J$3:$J$100),Settings!$F$21*(Settings!$D$23+Settings!$D$24+Settings!$D$26))),0)","v":-68.502115980000013},{"$f":"IFERROR((IFERROR(IF(Settings!$J$17=1,VLOOKUP(_xlfn.CONCAT(P77,O77),'full ppr adp'!$A:$K,11,FALSE),IF(Settings!$J$17=0,VLOOKUP(_xlfn.CONCAT(P77,O77),'standard adp'!$A:$J,10,FALSE),VLOOKUP(_xlfn.CONCAT(P77,O77),'half ppr adp'!$A:$J,10,FALSE))),VLOOKUP(_xlfn.CONCAT(P77,O77),'full ppr adp'!$A:$K,11,FALSE))),\"UND\")","v":216}]
[null,null,null,null,null,null,null,"Kyle Juszczyk","SF",{"$f":"VLOOKUP(_xlfn.CONCAT(I78,H78),'rb data'!A:X,24,FALSE)","v":49.191722175000002},{"$f":"IFERROR(J78-LARGE($J$3:$J$100,'Position Expectations'!$B$4+1),J78-MIN($J$3:$J$100))","v":-10.374802624999994},{"$f":"IFERROR(J78-LARGE($J$3:$J$100,Settings!$F$21*Settings!$D$23),J78-MIN($J$3:$J$100))+IF(Settings!$D$26>0,MAX(0,LARGE($J$3:$J$100,Settings!$F$21*Settings!$D$23)-LARGE(($Q$3:$Q$150,$J$3:$J$100),Settings!$F$21*(Settings!$D$23+Settings!$D$24+Settings!$D$26))),0)","v":-119.86393932500005},{"$f":"IFERROR((IFERROR(IF(Settings!$J$17=1,VLOOKUP(_xlfn.CONCAT(I78,H78),'full ppr adp'!$A:$K,11,FALSE),IF(Settings!$J$17=0,VLOOKUP(_xlfn.CONCAT(I78,H78),'standard adp'!$A:$J,10,FALSE),VLOOKUP(_xlfn.CONCAT(I78,H78),'half ppr adp'!$A:$J,10,FALSE))),VLOOKUP(_xlfn.CONCAT(I78,H78),'full ppr adp'!$A:$K,11,FALSE))),\"UND\")","v":325},null,"Dede Westbrook","JAC",{"$f":"VLOOKUP(_xlfn.CONCAT(P78,O78),'wr data'!A:X,24,FALSE)","v":102.70337583999999},{"$f":"IFERROR(Q78-LARGE($Q$3:$Q$150,'Position Expectations'!$B$5+1),Q78-MIN($Q$3:$Q$150))","v":-23.857218660000044},{"$f":"IFERROR(Q78-LARGE($Q$3:$Q$150,Settings!$F$21*Settings!$D$24),Q78-MIN($Q$3:$Q$150))+IF(Settings!$D$26>0,MAX(0,LARGE($Q$3:$Q$150,Settings!$F$21*Settings!$D$24)-LARGE(($Q$3:$Q$150,$J$3:$J$100),Settings!$F$21*(Settings!$D$23+Settings!$D$24+Settings!$D$26))),0)","v":-69.044902060000013},{"$f":"IFERROR((IFERROR(IF(Settings!$J$17=1,VLOOKUP(_xlfn.CONCAT(P78,O78),'full ppr adp'!$A:$K,11,FALSE),IF(Settings!$J$17=0,VLOOKUP(_xlfn.CONCAT(P78,O78),'standard adp'!$A:$J,10,FALSE),VLOOKUP(_xlfn.CONCAT(P78,O78),'half ppr adp'!$A:$J,10,FALSE))),VLOOKUP(_xlfn.CONCAT(P78,O78),'full ppr adp'!$A:$K,11,FALSE))),\"UND\")","v":189}]
[null,null,null,null,null,null,null,"Lynn Bowden Jr.","LV",{"$f":"VLOOKUP(_xlfn.CONCAT(I79,H79),'rb data'!A:X,24,FALSE)","v":48.842111200000005},{"$f":"IFERROR(J79-LARGE($J$3:$J$100,'Position Expectations'!$B$4+1),J79-MIN($J$3:$J$100))","v":-10.724413599999991},{"$f":"IFERROR(J79-LARGE($J$3:$J$100,Settings!$F$21*Settings!$D$23),J79-MIN($J$3:$J$100))+IF(Settings!$D$26>0,MAX(0,LARGE($J$3:$J$100,Settings!$F$21*Settings!$D$23)-LARGE(($Q$3:$Q$150,$J$3:$J$100),Settings!$F$21*(Settings!$D$23+Settings!$D$24+Settings!$D$26))),0)","v":-120.21355030000004},{"$f":"IFERROR((IFERROR(IF(Settings!$J$17=1,VLOOKUP(_xlfn.CONCAT(I79,H79),'full ppr adp'!$A:$K,11,FALSE),IF(Settings!$J$17=0,VLOOKUP(_xlfn.CONCAT(I79,H79),'standard adp'!$A:$J,10,FALSE),VLOOKUP(_xlfn.CONCAT(I79,H79),'half ppr adp'!$A:$J,10,FALSE))),VLOOKUP(_xlfn.CONCAT(I79,H79),'full ppr adp'!$A:$K,11,FALSE))),\"UND\")","v":219},null,"Laviska Shenault Jr.","JAC",{"$f":"VLOOKUP(_xlfn.CONCAT(P79,O79),'wr data'!A:X,24,FALSE)","v":102.51167789999998},{"$f":"IFERROR(Q79-LARGE($Q$3:$Q$150,'Position Expectations'!$B$5+1),Q79-MIN($Q$3:$Q$150))","v":-24.048916600000055},{"$f":"IFERROR(Q79-LARGE($Q$3:$Q$150,Settings!$F$21*Settings!$D$24),Q79-MIN($Q$3:$Q$150))+IF(Settings!$D$26>0,MAX(0,LARGE($Q$3:$Q$150,Settings!$F$21*Settings!$D$24)-LARGE(($Q$3:$Q$150,$J$3:$J$100),Settings!$F$21*(Settings!$D$23+Settings!$D$24+Settings!$D$26))),0)","v":-69.236600000000024},{"$f":"IFERROR((IFERROR(IF(Settings!$J$17=1,VLOOKUP(_xlfn.CONCAT(P79,O79),'full ppr adp'!$A:$K,11,FALSE),IF(Settings!$J$17=0,VLOOKUP(_xlfn.CONCAT(P79,O79),'standard adp'!$A:$J,10,FALSE),VLOOKUP(_xlfn.CONCAT(P79,O79),'half ppr adp'!$A:$J,10,FALSE))),VLOOKUP(_xlfn.CONCAT(P79,O79),'full ppr adp'!$A:$K,11,FALSE))),\"UND\")","v":222.5}]
[null,null,null,null,null,null,null,"Royce Freeman","DEN",{"$f":"VLOOKUP(_xlfn.CONCAT(I80,H80),'rb data'!A:X,24,FALSE)","v":48.288943840000009},{"$f":"IFERROR(J80-LARGE($J$3:$J$100,'Position Expectations'!$B$4+1),J80-MIN($J$3:$J$100))","v":-11.277580959999987},{"$f":"IFERROR(J80-LARGE($J$3:$J$100,Settings!$F$21*Settings!$D$23),J80-MIN($J$3:$J$100))+IF(Settings!$D$26>0,MAX(0,LARGE($J$3:$J$100,Settings!$F$21*Settings!$D$23)-LARGE(($Q$3:$Q$150,$J$3:$J$100),Settings!$F$21*(Settings!$D$23+Settings!$D$24+Settings!$D$26))),0)","v":-120.76671766000004},{"$f":"IFERROR((IFERROR(IF(Settings!$J$17=1,VLOOKUP(_xlfn.CONCAT(I80,H80),'full ppr adp'!$A:$K,11,FALSE),IF(Settings!$J$17=0,VLOOKUP(_xlfn.CONCAT(I80,H80),'standard adp'!$A:$J,10,FALSE),VLOOKUP(_xlfn.CONCAT(I80,H80),'half ppr adp'!$A:$J,10,FALSE))),VLOOKUP(_xlfn.CONCAT(I80,H80),'full ppr adp'!$A:$K,11,FALSE))),\"UND\")","v":230},null,"Alshon Jeffery","PHI",{"$f":"VLOOKUP(_xlfn.CONCAT(P80,O80),'wr data'!A:X,24,FALSE)","v":98.526290000000003},{"$f":"IFERROR(Q80-LARGE($Q$3:$Q$150,'Position Expectations'!$B$5+1),Q80-MIN($Q$3:$Q$150))","v":-28.034304500000033},{"$f":"IFERROR(Q80-LARGE($Q$3:$Q$150,Settings!$F$21*Settings!$D$24),Q80-MIN($Q$3:$Q$150))+IF(Settings!$D$26>0,MAX(0,LARGE($Q$3:$Q$150,Settings!$F$21*Settings!$D$24)-LARGE(($Q$3:$Q$150,$J$3:$J$100),Settings!$F$21*(Settings!$D$23+Settings!$D$24+Settings!$D$26))),0)","v":-73.221987900000002},{"$f":"IFERROR((IFERROR(IF(Settings!$J$17=1,VLOOKUP(_xlfn.CONCAT(P80,O80),'full ppr adp'!$A:$K,11,FALSE),IF(Settings!$J$17=0,VLOOKUP(_xlfn.CONCAT(P80,O80),'standard adp'!$A:$J,10,FALSE),VLOOKUP(_xlfn.CONCAT(P80,O80),'half ppr adp'!$A:$J,10,FALSE))),VLOOKUP(_xlfn.CONCAT(P80,O80),'full ppr adp'!$A:$K,11,FALSE))),\"UND\")","v":162.5}]
[null,null,null,null,null,null,null,"Mike Davis","CAR",{"$f":"VLOOKUP(_xlfn.CONCAT(I81,H81),'rb data'!A:X,24,FALSE)","v":46.801683100000005},{"$f":"IFERROR(J81-LARGE($J$3:$J$100,'Position Expectations'!$B$4+1),J81-MIN($J$3:$J$100))","v":-12.764841699999991},{"$f":"IFERROR(J81-LARGE($J$3:$J$100,Settings!$F$21*Settings!$D$23),J81-MIN($J$3:$J$100))+IF(Settings!$D$26>0,MAX(0,LARGE($J$3:$J$100,Settings!$F$21*Settings!$D$23)-LARGE(($Q$3:$Q$150,$J$3:$J$100),Settings!$F$21*(Settings!$D$23+Settings!$D$24+Settings!$D$26))),0)","v":-122.25397840000004},{"$f":"IFERROR((IFERROR(IF(Settings!$J$17=1,VLOOKUP(_xlfn.CONCAT(I81,H81),'full ppr adp'!$A:$K,11,FALSE),IF(Settings!$J$17=0,VLOOKUP(_xlfn.CONCAT(I81,H81),'standard adp'!$A:$J,10,FALSE),VLOOKUP(_xlfn.CONCAT(I81,H81),'half ppr adp'!$A:$J,10,FALSE))),VLOOKUP(_xlfn.CONCAT(I81,H81),'full ppr adp'!$A:$K,11,FALSE))),\"UND\")","v":299.5},null,"Josh Gordon","SEA",{"$f":"VLOOKUP(_xlfn.CONCAT(P81,O81),'wr data'!A:X,24,FALSE)","v":95.857343999999998},{"$f":"IFERROR(Q81-LARGE($Q$3:$Q$150,'Position Expectations'!$B$5+1),Q81-MIN($Q$3:$Q$150))","v":-30.703250500000038},{"$f":"IFERROR(Q81-LARGE($Q$3:$Q$150,Settings!$F$21*Settings!$D$24),Q81-MIN($Q$3:$Q$150))+IF(Settings!$D$26>0,MAX(0,LARGE($Q$3:$Q$150,Settings!$F$21*Settings!$D$24)-LARGE(($Q$3:$Q$150,$J$3:$J$100),Settings!$F$21*(Settings!$D$23+Settings!$D$24+Settings!$D$26))),0)","v":-75.890933900000007},{"$f":"IFERROR((IFERROR(IF(Settings!$J$17=1,VLOOKUP(_xlfn.CONCAT(P81,O81),'full ppr adp'!$A:$K,11,FALSE),IF(Settings!$J$17=0,VLOOKUP(_xlfn.CONCAT(P81,O81),'standard adp'!$A:$J,10,FALSE),VLOOKUP(_xlfn.CONCAT(P81,O81),'half ppr adp'!$A:$J,10,FALSE))),VLOOKUP(_xlfn.CONCAT(P81,O81),'full ppr adp'!$A:$K,11,FALSE))),\"UND\")","v":198}]
[null,null,null,null,null,null,null,"Carlos Hyde","SEA",{"$f":"VLOOKUP(_xlfn.CONCAT(I82,H82),'rb data'!A:X,24,FALSE)","v":45.644013800000003},{"$f":"IFERROR(J82-LARGE($J$3:$J$100,'Position Expectations'!$B$4+1),J82-MIN($J$3:$J$100))","v":-13.922510999999993},{"$f":"IFERROR(J82-LARGE($J$3:$J$100,Settings!$F$21*Settings!$D$23),J82-MIN($J$3:$J$100))+IF(Settings!$D$26>0,MAX(0,LARGE($J$3:$J$100,Settings!$F$21*Settings!$D$23)-LARGE(($Q$3:$Q$150,$J$3:$J$100),Settings!$F$21*(Settings!$D$23+Settings!$D$24+Settings!$D$26))),0)","v":-123.41164770000003},{"$f":"IFERROR((IFERROR(IF(Settings!$J$17=1,VLOOKUP(_xlfn.CONCAT(I82,H82),'full ppr adp'!$A:$K,11,FALSE),IF(Settings!$J$17=0,VLOOKUP(_xlfn.CONCAT(I82,H82),'standard adp'!$A:$J,10,FALSE),VLOOKUP(_xlfn.CONCAT(I82,H82),'half ppr adp'!$A:$J,10,FALSE))),VLOOKUP(_xlfn.CONCAT(I82,H82),'full ppr adp'!$A:$K,11,FALSE))),\"UND\")","v":219.66666666666666},null,"Adam Humphries","TEN",{"$f":"VLOOKUP(_xlfn.CONCAT(P82,O82),'wr data'!A:X,24,FALSE)","v":91.772372509999983},{"$f":"IFERROR(Q82-LARGE($Q$3:$Q$150,'Position Expectations'!$B$5+1),Q82-MIN($Q$3:$Q$150))","v":-34.788221990000054},{"$f":"IFERROR(Q82-LARGE($Q$3:$Q$150,Settings!$F$21*Settings!$D$24),Q82-MIN($Q$3:$Q$150))+IF(Settings!$D$26>0,MAX(0,LARGE($Q$3:$Q$150,Settings!$F$21*Settings!$D$24)-LARGE(($Q$3:$Q$150,$J$3:$J$100),Settings!$F$21*(Settings!$D$23+Settings!$D$24+Settings!$D$26))),0)","v":-79.975905390000023},{"$f":"IFERROR((IFERROR(IF(Settings!$J$17=1,VLOOKUP(_xlfn.CONCAT(P82,O82),'full ppr adp'!$A:$K,11,FALSE),IF(Settings!$J$17=0,VLOOKUP(_xlfn.CONCAT(P82,O82),'standard adp'!$A:$J,10,FALSE),VLOOKUP(_xlfn.CONCAT(P82,O82),'half ppr adp'!$A:$J,10,FALSE))),VLOOKUP(_xlfn.CONCAT(P82,O82),'full ppr adp'!$A:$K,11,FALSE))),\"UND\")","v":311}]
[null,null,null,null,null,null,null,"LeSean McCoy","TB",{"$f":"VLOOKUP(_xlfn.CONCAT(I83,H83),'rb data'!A:X,24,FALSE)","v":43.535478859999998},{"$f":"IFERROR(J83-LARGE($J$3:$J$100,'Position Expectations'!$B$4+1),J83-MIN($J$3:$J$100))","v":-16.031045939999998},{"$f":"IFERROR(J83-LARGE($J$3:$J$100,Settings!$F$21*Settings!$D$23),J83-MIN($J$3:$J$100))+IF(Settings!$D$26>0,MAX(0,LARGE($J$3:$J$100,Settings!$F$21*Settings!$D$23)-LARGE(($Q$3:$Q$150,$J$3:$J$100),Settings!$F$21*(Settings!$D$23+Settings!$D$24+Settings!$D$26))),0)","v":-125.52018264000004},{"$f":"IFERROR((IFERROR(IF(Settings!$J$17=1,VLOOKUP(_xlfn.CONCAT(I83,H83),'full ppr adp'!$A:$K,11,FALSE),IF(Settings!$J$17=0,VLOOKUP(_xlfn.CONCAT(I83,H83),'standard adp'!$A:$J,10,FALSE),VLOOKUP(_xlfn.CONCAT(I83,H83),'half ppr adp'!$A:$J,10,FALSE))),VLOOKUP(_xlfn.CONCAT(I83,H83),'full ppr adp'!$A:$K,11,FALSE))),\"UND\")","v":192.33333333333334},null,"Tee Higgins","CIN",{"$f":"VLOOKUP(_xlfn.CONCAT(P83,O83),'wr data'!A:X,24,FALSE)","v":91.688857200000001},{"$f":"IFERROR(Q83-LARGE($Q$3:$Q$150,'Position Expectations'!$B$5+1),Q83-MIN($Q$3:$Q$150))","v":-34.871737300000035},{"$f":"IFERROR(Q83-LARGE($Q$3:$Q$150,Settings!$F$21*Settings!$D$24),Q83-MIN($Q$3:$Q$150))+IF(Settings!$D$26>0,MAX(0,LARGE($Q$3:$Q$150,Settings!$F$21*Settings!$D$24)-LARGE(($Q$3:$Q$150,$J$3:$J$100),Settings!$F$21*(Settings!$D$23+Settings!$D$24+Settings!$D$26))),0)","v":-80.059420700000004},{"$f":"IFERROR((IFERROR(IF(Settings!$J$17=1,VLOOKUP(_xlfn.CONCAT(P83,O83),'full ppr adp'!$A:$K,11,FALSE),IF(Settings!$J$17=0,VLOOKUP(_xlfn.CONCAT(P83,O83),'standard adp'!$A:$J,10,FALSE),VLOOKUP(_xlfn.CONCAT(P83,O83),'half ppr adp'!$A:$J,10,FALSE))),VLOOKUP(_xlfn.CONCAT(P83,O83),'full ppr adp'!$A:$K,11,FALSE))),\"UND\")","v":206.33333333333334}]
[null,null,null,null,null,null,null,"Jaylen Samuels","PIT",{"$f":"VLOOKUP(_xlfn.CONCAT(I84,H84),'rb data'!A:X,24,FALSE)","v":39.996941400000004},{"$f":"IFERROR(J84-LARGE($J$3:$J$100,'Position Expectations'!$B$4+1),J84-MIN($J$3:$J$100))","v":-19.569583399999992},{"$f":"IFERROR(J84-LARGE($J$3:$J$100,Settings!$F$21*Settings!$D$23),J84-MIN($J$3:$J$100))+IF(Settings!$D$26>0,MAX(0,LARGE($J$3:$J$100,Settings!$F$21*Settings!$D$23)-LARGE(($Q$3:$Q$150,$J$3:$J$100),Settings!$F$21*(Settings!$D$23+Settings!$D$24+Settings!$D$26))),0)","v":-129.05872010000004},{"$f":"IFERROR((IFERROR(IF(Settings!$J$17=1,VLOOKUP(_xlfn.CONCAT(I84,H84),'full ppr adp'!$A:$K,11,FALSE),IF(Settings!$J$17=0,VLOOKUP(_xlfn.CONCAT(I84,H84),'standard adp'!$A:$J,10,FALSE),VLOOKUP(_xlfn.CONCAT(I84,H84),'half ppr adp'!$A:$J,10,FALSE))),VLOOKUP(_xlfn.CONCAT(I84,H84),'full ppr adp'!$A:$K,11,FALSE))),\"UND\")","v":214},null,"Kenny Stills","HOU",{"$f":"VLOOKUP(_xlfn.CONCAT(P84,O84),'wr data'!A:X,24,FALSE)","v":88.211868400000014},{"$f":"IFERROR(Q84-LARGE($Q$3:$Q$150,'Position Expectations'!$B$5+1),Q84-MIN($Q$3:$Q$150))","v":-38.348726100000022},{"$f":"IFERROR(Q84-LARGE($Q$3:$Q$150,Settings!$F$21*Settings!$D$24),Q84-MIN($Q$3:$Q$150))+IF(Settings!$D$26>0,MAX(0,LARGE($Q$3:$Q$150,Settings!$F$21*Settings!$D$24)-LARGE(($Q$3:$Q$150,$J$3:$J$100),Settings!$F$21*(Settings!$D$23+Settings!$D$24+Settings!$D$26))),0)","v":-83.536409499999991},{"$f":"IFERROR((IFERROR(IF(Settings!$J$17=1,VLOOKUP(_xlfn.CONCAT(P84,O84),'full ppr adp'!$A:$K,11,FALSE),IF(Settings!$J$17=0,VLOOKUP(_xlfn.CONCAT(P84,O84),'standard adp'!$A:$J,10,FALSE),VLOOKUP(_xlfn.CONCAT(P84,O84),'half ppr adp'!$A:$J,10,FALSE))),VLOOKUP(_xlfn.CONCAT(P84,O84),'full ppr adp'!$A:$K,11,FALSE))),\"UND\")","v":203}]
[null,null,null,null,null,null,null,"Reggie Bonnafon","CAR",{"$f":"VLOOKUP(_xlfn.CONCAT(I85,H85),'rb data'!A:X,24,FALSE)","v":39.136948200000006},{"$f":"IFERROR(J85-LARGE($J$3:$J$100,'Position Expectations'!$B$4+1),J85-MIN($J$3:$J$100))","v":-20.42957659999999},{"$f":"IFERROR(J85-LARGE($J$3:$J$100,Settings!$F$21*Settings!$D$23),J85-MIN($J$3:$J$100))+IF(Settings!$D$26>0,MAX(0,LARGE($J$3:$J$100,Settings!$F$21*Settings!$D$23)-LARGE(($Q$3:$Q$150,$J$3:$J$100),Settings!$F$21*(Settings!$D$23+Settings!$D$24+Settings!$D$26))),0)","v":-129.91871330000004},{"$f":"IFERROR((IFERROR(IF(Settings!$J$17=1,VLOOKUP(_xlfn.CONCAT(I85,H85),'full ppr adp'!$A:$K,11,FALSE),IF(Settings!$J$17=0,VLOOKUP(_xlfn.CONCAT(I85,H85),'standard adp'!$A:$J,10,FALSE),VLOOKUP(_xlfn.CONCAT(I85,H85),'half ppr adp'!$A:$J,10,FALSE))),VLOOKUP(_xlfn.CONCAT(I85,H85),'full ppr adp'!$A:$K,11,FALSE))),\"UND\")","v":343},null,"Miles Boykin","BAL",{"$f":"VLOOKUP(_xlfn.CONCAT(P85,O85),'wr data'!A:X,24,FALSE)","v":86.083600000000004},{"$f":"IFERROR(Q85-LARGE($Q$3:$Q$150,'Position Expectations'!$B$5+1),Q85-MIN($Q$3:$Q$150))","v":-40.476994500000032},{"$f":"IFERROR(Q85-LARGE($Q$3:$Q$150,Settings!$F$21*Settings!$D$24),Q85-MIN($Q$3:$Q$150))+IF(Settings!$D$26>0,MAX(0,LARGE($Q$3:$Q$150,Settings!$F$21*Settings!$D$24)-LARGE(($Q$3:$Q$150,$J$3:$J$100),Settings!$F$21*(Settings!$D$23+Settings!$D$24+Settings!$D$26))),0)","v":-85.664677900000001},{"$f":"IFERROR((IFERROR(IF(Settings!$J$17=1,VLOOKUP(_xlfn.CONCAT(P85,O85),'full ppr adp'!$A:$K,11,FALSE),IF(Settings!$J$17=0,VLOOKUP(_xlfn.CONCAT(P85,O85),'standard adp'!$A:$J,10,FALSE),VLOOKUP(_xlfn.CONCAT(P85,O85),'half ppr adp'!$A:$J,10,FALSE))),VLOOKUP(_xlfn.CONCAT(P85,O85),'full ppr adp'!$A:$K,11,FALSE))),\"UND\")","v":287}]
[null,null,null,null,null,null,null,"Lamical Perine","NYJ",{"$f":"VLOOKUP(_xlfn.CONCAT(I86,H86),'rb data'!A:X,24,FALSE)","v":38.937357800000001},{"$f":"IFERROR(J86-LARGE($J$3:$J$100,'Position Expectations'!$B$4+1),J86-MIN($J$3:$J$100))","v":-20.629166999999995},{"$f":"IFERROR(J86-LARGE($J$3:$J$100,Settings!$F$21*Settings!$D$23),J86-MIN($J$3:$J$100))+IF(Settings!$D$26>0,MAX(0,LARGE($J$3:$J$100,Settings!$F$21*Settings!$D$23)-LARGE(($Q$3:$Q$150,$J$3:$J$100),Settings!$F$21*(Settings!$D$23+Settings!$D$24+Settings!$D$26))),0)","v":-130.11830370000004},{"$f":"IFERROR((IFERROR(IF(Settings!$J$17=1,VLOOKUP(_xlfn.CONCAT(I86,H86),'full ppr adp'!$A:$K,11,FALSE),IF(Settings!$J$17=0,VLOOKUP(_xlfn.CONCAT(I86,H86),'standard adp'!$A:$J,10,FALSE),VLOOKUP(_xlfn.CONCAT(I86,H86),'half ppr adp'!$A:$J,10,FALSE))),VLOOKUP(_xlfn.CONCAT(I86,H86),'full ppr adp'!$A:$K,11,FALSE))),\"UND\")","v":300},null,"Jakeem Grant","MIA",{"$f":"VLOOKUP(_xlfn.CONCAT(P86,O86),'wr data'!A:X,24,FALSE)","v":83.415357399999991},{"$f":"IFERROR(Q86-LARGE($Q$3:$Q$150,'Position Expectations'!$B$5+1),Q86-MIN($Q$3:$Q$150))","v":-43.145237100000045},{"$f":"IFERROR(Q86-LARGE($Q$3:$Q$150,Settings!$F$21*Settings!$D$24),Q86-MIN($Q$3:$Q$150))+IF(Settings!$D$26>0,MAX(0,LARGE($Q$3:$Q$150,Settings!$F$21*Settings!$D$24)-LARGE(($Q$3:$Q$150,$J$3:$J$100),Settings!$F$21*(Settings!$D$23+Settings!$D$24+Settings!$D$26))),0)","v":-88.332920500000014},{"$f":"IFERROR((IFERROR(IF(Settings!$J$17=1,VLOOKUP(_xlfn.CONCAT(P86,O86),'full ppr adp'!$A:$K,11,FALSE),IF(Settings!$J$17=0,VLOOKUP(_xlfn.CONCAT(P86,O86),'standard adp'!$A:$J,10,FALSE),VLOOKUP(_xlfn.CONCAT(P86,O86),'half ppr adp'!$A:$J,10,FALSE))),VLOOKUP(_xlfn.CONCAT(P86,O86),'full ppr adp'!$A:$K,11,FALSE))),\"UND\")","v":"UND"}]
[null,null,null,null,null,null,null,"DeAndre Washington","KC",{"$f":"VLOOKUP(_xlfn.CONCAT(I87,H87),'rb data'!A:X,24,FALSE)","v":32.068569679999996},{"$f":"IFERROR(J87-LARGE($J$3:$J$100,'Position Expectations'!$B$4+1),J87-MIN($J$3:$J$100))","v":-27.49795512},{"$f":"IFERROR(J87-LARGE($J$3:$J$100,Settings!$F$21*Settings!$D$23),J87-MIN($J$3:$J$100))+IF(Settings!$D$26>0,MAX(0,LARGE($J$3:$J$100,Settings!$F$21*Settings!$D$23)-LARGE(($Q$3:$Q$150,$J$3:$J$100),Settings!$F$21*(Settings!$D$23+Settings!$D$24+Settings!$D$26))),0)","v":-136.98709182000005},{"$f":"IFERROR((IFERROR(IF(Settings!$J$17=1,VLOOKUP(_xlfn.CONCAT(I87,H87),'full ppr adp'!$A:$K,11,FALSE),IF(Settings!$J$17=0,VLOOKUP(_xlfn.CONCAT(I87,H87),'standard adp'!$A:$J,10,FALSE),VLOOKUP(_xlfn.CONCAT(I87,H87),'half ppr adp'!$A:$J,10,FALSE))),VLOOKUP(_xlfn.CONCAT(I87,H87),'full ppr adp'!$A:$K,11,FALSE))),\"UND\")","v":249},null,"Dontrelle Inman","WAS",{"$f":"VLOOKUP(_xlfn.CONCAT(P87,O87),'wr data'!A:X,24,FALSE)","v":80.064175240000012},{"$f":"IFERROR(Q87-LARGE($Q$3:$Q$150,'Position Expectations'!$B$5+1),Q87-MIN($Q$3:$Q$150))","v":-46.496419260000025},{"$f":"IFERROR(Q87-LARGE($Q$3:$Q$150,Settings!$F$21*Settings!$D$24),Q87-MIN($Q$3:$Q$150))+IF(Settings!$D$26>0,MAX(0,LARGE($Q$3:$Q$150,Settings!$F$21*Settings!$D$24)-LARGE(($Q$3:$Q$150,$J$3:$J$100),Settings!$F$21*(Settings!$D$23+Settings!$D$24+Settings!$D$26))),0)","v":-91.684102659999994},{"$f":"IFERROR((IFERROR(IF(Settings!$J$17=1,VLOOKUP(_xlfn.CONCAT(P87,O87),'full ppr adp'!$A:$K,11,FALSE),IF(Settings!$J$17=0,VLOOKUP(_xlfn.CONCAT(P87,O87),'standard adp'!$A:$J,10,FALSE),VLOOKUP(_xlfn.CONCAT(P87,O87),'half ppr adp'!$A:$J,10,FALSE))),VLOOKUP(_xlfn.CONCAT(P87,O87),'full ppr adp'!$A:$K,11,FALSE))),\"UND\")","v":"UND"}]
[null,null,null,null,null,null,null,"Ke'Shawn Vaughn","TB",{"$f":"VLOOKUP(_xlfn.CONCAT(I88,H88),'rb data'!A:X,24,FALSE)","v":22.213501700000002},{"$f":"IFERROR(J88-LARGE($J$3:$J$100,'Position Expectations'!$B$4+1),J88-MIN($J$3:$J$100))","v":-37.353023099999994},{"$f":"IFERROR(J88-LARGE($J$3:$J$100,Settings!$F$21*Settings!$D$23),J88-MIN($J$3:$J$100))+IF(Settings!$D$26>0,MAX(0,LARGE($J$3:$J$100,Settings!$F$21*Settings!$D$23)-LARGE(($Q$3:$Q$150,$J$3:$J$100),Settings!$F$21*(Settings!$D$23+Settings!$D$24+Settings!$D$26))),0)","v":-146.84215980000005},{"$f":"IFERROR((IFERROR(IF(Settings!$J$17=1,VLOOKUP(_xlfn.CONCAT(I88,H88),'full ppr adp'!$A:$K,11,FALSE),IF(Settings!$J$17=0,VLOOKUP(_xlfn.CONCAT(I88,H88),'standard adp'!$A:$J,10,FALSE),VLOOKUP(_xlfn.CONCAT(I88,H88),'half ppr adp'!$A:$J,10,FALSE))),VLOOKUP(_xlfn.CONCAT(I88,H88),'full ppr adp'!$A:$K,11,FALSE))),\"UND\")","v":131.66666666666666},null,"Chase Claypool","PIT",{"$f":"VLOOKUP(_xlfn.CONCAT(P88,O88),'wr data'!A:X,24,FALSE)","v":77.619578300000001},{"$f":"IFERROR(Q88-LARGE($Q$3:$Q$150,'Position Expectations'!$B$5+1),Q88-MIN($Q$3:$Q$150))","v":-48.941016200000035},{"$f":"IFERROR(Q88-LARGE($Q$3:$Q$150,Settings!$F$21*Settings!$D$24),Q88-MIN($Q$3:$Q$150))+IF(Settings!$D$26>0,MAX(0,LARGE($Q$3:$Q$150,Settings!$F$21*Settings!$D$24)-LARGE(($Q$3:$Q$150,$J$3:$J$100),Settings!$F$21*(Settings!$D$23+Settings!$D$24+Settings!$D$26))),0)","v":-94.128699600000004},{"$f":"IFERROR((IFERROR(IF(Settings!$J$17=1,VLOOKUP(_xlfn.CONCAT(P88,O88),'full ppr adp'!$A:$K,11,FALSE),IF(Settings!$J$17=0,VLOOKUP(_xlfn.CONCAT(P88,O88),'standard adp'!$A:$J,10,FALSE),VLOOKUP(_xlfn.CONCAT(P88,O88),'half ppr adp'!$A:$J,10,FALSE))),VLOOKUP(_xlfn.CONCAT(P88,O88),'full ppr adp'!$A:$K,11,FALSE))),\"UND\")","v":221}]
[null,null,null,null,null,null,null,null,null,null,null,null,null,null,"Van Jefferson","LAR",{"$f":"VLOOKUP(_xlfn.CONCAT(P89,O89),'wr data'!A:X,24,FALSE)","v":77.268171300000006},{"$f":"IFERROR(Q89-LARGE($Q$3:$Q$150,'Position Expectations'!$B$5+1),Q89-MIN($Q$3:$Q$150))","v":-49.29242320000003},{"$f":"IFERROR(Q89-LARGE($Q$3:$Q$150,Settings!$F$21*Settings!$D$24),Q89-MIN($Q$3:$Q$150))+IF(Settings!$D$26>0,MAX(0,LARGE($Q$3:$Q$150,Settings!$F$21*Settings!$D$24)-LARGE(($Q$3:$Q$150,$J$3:$J$100),Settings!$F$21*(Settings!$D$23+Settings!$D$24+Settings!$D$26))),0)","v":-94.480106599999999},{"$f":"IFERROR((IFERROR(IF(Settings!$J$17=1,VLOOKUP(_xlfn.CONCAT(P89,O89),'full ppr adp'!$A:$K,11,FALSE),IF(Settings!$J$17=0,VLOOKUP(_xlfn.CONCAT(P89,O89),'standard adp'!$A:$J,10,FALSE),VLOOKUP(_xlfn.CONCAT(P89,O89),'half ppr adp'!$A:$J,10,FALSE))),VLOOKUP(_xlfn.CONCAT(P89,O89),'full ppr adp'!$A:$K,11,FALSE))),\"UND\")","v":301.5}]
[null,null,null,null,null,null,null,null,null,null,null,null,null,null,"Kendrick Bourne","SF",{"$f":"VLOOKUP(_xlfn.CONCAT(P90,O90),'wr data'!A:X,24,FALSE)","v":76.378974103000004},{"$f":"IFERROR(Q90-LARGE($Q$3:$Q$150,'Position Expectations'!$B$5+1),Q90-MIN($Q$3:$Q$150))","v":-50.181620397000032},{"$f":"IFERROR(Q90-LARGE($Q$3:$Q$150,Settings!$F$21*Settings!$D$24),Q90-MIN($Q$3:$Q$150))+IF(Settings!$D$26>0,MAX(0,LARGE($Q$3:$Q$150,Settings!$F$21*Settings!$D$24)-LARGE(($Q$3:$Q$150,$J$3:$J$100),Settings!$F$21*(Settings!$D$23+Settings!$D$24+Settings!$D$26))),0)","v":-95.369303797000001},{"$f":"IFERROR((IFERROR(IF(Settings!$J$17=1,VLOOKUP(_xlfn.CONCAT(P90,O90),'full ppr adp'!$A:$K,11,FALSE),IF(Settings!$J$17=0,VLOOKUP(_xlfn.CONCAT(P90,O90),'standard adp'!$A:$J,10,FALSE),VLOOKUP(_xlfn.CONCAT(P90,O90),'half ppr adp'!$A:$J,10,FALSE))),VLOOKUP(_xlfn.CONCAT(P90,O90),'full ppr adp'!$A:$K,11,FALSE))),\"UND\")","v":285.5}]
[null,null,null,null,null,null,null,null,null,null,null,null,null,null,"Russell Gage","ATL",{"$f":"VLOOKUP(_xlfn.CONCAT(P91,O91),'wr data'!A:X,24,FALSE)","v":76.35226320000001},{"$f":"IFERROR(Q91-LARGE($Q$3:$Q$150,'Position Expectations'!$B$5+1),Q91-MIN($Q$3:$Q$150))","v":-50.208331300000026},{"$f":"IFERROR(Q91-LARGE($Q$3:$Q$150,Settings!$F$21*Settings!$D$24),Q91-MIN($Q$3:$Q$150))+IF(Settings!$D$26>0,MAX(0,LARGE($Q$3:$Q$150,Settings!$F$21*Settings!$D$24)-LARGE(($Q$3:$Q$150,$J$3:$J$100),Settings!$F$21*(Settings!$D$23+Settings!$D$24+Settings!$D$26))),0)","v":-95.396014699999995},{"$f":"IFERROR((IFERROR(IF(Settings!$J$17=1,VLOOKUP(_xlfn.CONCAT(P91,O91),'full ppr adp'!$A:$K,11,FALSE),IF(Settings!$J$17=0,VLOOKUP(_xlfn.CONCAT(P91,O91),'standard adp'!$A:$J,10,FALSE),VLOOKUP(_xlfn.CONCAT(P91,O91),'half ppr adp'!$A:$J,10,FALSE))),VLOOKUP(_xlfn.CONCAT(P91,O91),'full ppr adp'!$A:$K,11,FALSE))),\"UND\")","v":312}]
[null,null,null,null,null,null,null,null,null,null,null,null,null,null,"Jakobi Meyers","NE",{"$f":"VLOOKUP(_xlfn.CONCAT(P92,O92),'wr data'!A:X,24,FALSE)","v":74.163072960000008},{"$f":"IFERROR(Q92-LARGE($Q$3:$Q$150,'Position Expectations'!$B$5+1),Q92-MIN($Q$3:$Q$150))","v":-52.397521540000028},{"$f":"IFERROR(Q92-LARGE($Q$3:$Q$150,Settings!$F$21*Settings!$D$24),Q92-MIN($Q$3:$Q$150))+IF(Settings!$D$26>0,MAX(0,LARGE($Q$3:$Q$150,Settings!$F$21*Settings!$D$24)-LARGE(($Q$3:$Q$150,$J$3:$J$100),Settings!$F$21*(Settings!$D$23+Settings!$D$24+Settings!$D$26))),0)","v":-97.585204939999997},{"$f":"IFERROR((IFERROR(IF(Settings!$J$17=1,VLOOKUP(_xlfn.CONCAT(P92,O92),'full ppr adp'!$A:$K,11,FALSE),IF(Settings!$J$17=0,VLOOKUP(_xlfn.CONCAT(P92,O92),'standard adp'!$A:$J,10,FALSE),VLOOKUP(_xlfn.CONCAT(P92,O92),'half ppr adp'!$A:$J,10,FALSE))),VLOOKUP(_xlfn.CONCAT(P92,O92),'full ppr adp'!$A:$K,11,FALSE))),\"UND\")","v":340}]
[null,null,null,null,null,null,null,null,null,null,null,null,null,null,"Tre'Quan Smith","NO",{"$f":"VLOOKUP(_xlfn.CONCAT(P93,O93),'wr data'!A:X,24,FALSE)","v":72.967549247999997},{"$f":"IFERROR(Q93-LARGE($Q$3:$Q$150,'Position Expectations'!$B$5+1),Q93-MIN($Q$3:$Q$150))","v":-53.593045252000039},{"$f":"IFERROR(Q93-LARGE($Q$3:$Q$150,Settings!$F$21*Settings!$D$24),Q93-MIN($Q$3:$Q$150))+IF(Settings!$D$26>0,MAX(0,LARGE($Q$3:$Q$150,Settings!$F$21*Settings!$D$24)-LARGE(($Q$3:$Q$150,$J$3:$J$100),Settings!$F$21*(Settings!$D$23+Settings!$D$24+Settings!$D$26))),0)","v":-98.780728652000008},{"$f":"IFERROR((IFERROR(IF(Settings!$J$17=1,VLOOKUP(_xlfn.CONCAT(P93,O93),'full ppr adp'!$A:$K,11,FALSE),IF(Settings!$J$17=0,VLOOKUP(_xlfn.CONCAT(P93,O93),'standard adp'!$A:$J,10,FALSE),VLOOKUP(_xlfn.CONCAT(P93,O93),'half ppr adp'!$A:$J,10,FALSE))),VLOOKUP(_xlfn.CONCAT(P93,O93),'full ppr adp'!$A:$K,11,FALSE))),\"UND\")","v":264.5}]
[null,null,null,null,null,null,null,null,null,null,null,null,null,null,"Denzel Mims","NYJ",{"$f":"VLOOKUP(_xlfn.CONCAT(P94,O94),'wr data'!A:X,24,FALSE)","v":72.313639200000011},{"$f":"IFERROR(Q94-LARGE($Q$3:$Q$150,'Position Expectations'!$B$5+1),Q94-MIN($Q$3:$Q$150))","v":-54.246955300000025},{"$f":"IFERROR(Q94-LARGE($Q$3:$Q$150,Settings!$F$21*Settings!$D$24),Q94-MIN($Q$3:$Q$150))+IF(Settings!$D$26>0,MAX(0,LARGE($Q$3:$Q$150,Settings!$F$21*Settings!$D$24)-LARGE(($Q$3:$Q$150,$J$3:$J$100),Settings!$F$21*(Settings!$D$23+Settings!$D$24+Settings!$D$26))),0)","v":-99.434638699999994},{"$f":"IFERROR((IFERROR(IF(Settings!$J$17=1,VLOOKUP(_xlfn.CONCAT(P94,O94),'full ppr adp'!$A:$K,11,FALSE),IF(Settings!$J$17=0,VLOOKUP(_xlfn.CONCAT(P94,O94),'standard adp'!$A:$J,10,FALSE),VLOOKUP(_xlfn.CONCAT(P94,O94),'half ppr adp'!$A:$J,10,FALSE))),VLOOKUP(_xlfn.CONCAT(P94,O94),'full ppr adp'!$A:$K,11,FALSE))),\"UND\")","v":179}]
[null,null,null,null,null,null,null,null,null,null,null,null,null,null,"Willie Snead","BAL",{"$f":"VLOOKUP(_xlfn.CONCAT(P95,O95),'wr data'!A:X,24,FALSE)","v":67.98484839999999},{"$f":"IFERROR(Q95-LARGE($Q$3:$Q$150,'Position Expectations'!$B$5+1),Q95-MIN($Q$3:$Q$150))","v":-58.575746100000046},{"$f":"IFERROR(Q95-LARGE($Q$3:$Q$150,Settings!$F$21*Settings!$D$24),Q95-MIN($Q$3:$Q$150))+IF(Settings!$D$26>0,MAX(0,LARGE($Q$3:$Q$150,Settings!$F$21*Settings!$D$24)-LARGE(($Q$3:$Q$150,$J$3:$J$100),Settings!$F$21*(Settings!$D$23+Settings!$D$24+Settings!$D$26))),0)","v":-103.7634295},{"$f":"IFERROR((IFERROR(IF(Settings!$J$17=1,VLOOKUP(_xlfn.CONCAT(P95,O95),'full ppr adp'!$A:$K,11,FALSE),IF(Settings!$J$17=0,VLOOKUP(_xlfn.CONCAT(P95,O95),'standard adp'!$A:$J,10,FALSE),VLOOKUP(_xlfn.CONCAT(P95,O95),'half ppr adp'!$A:$J,10,FALSE))),VLOOKUP(_xlfn.CONCAT(P95,O95),'full ppr adp'!$A:$K,11,FALSE))),\"UND\")","v":217}]
[null,null,null,null,null,null,null,null,null,null,null,null,null,null,"Keelan Cole","JAC",{"$f":"VLOOKUP(_xlfn.CONCAT(P96,O96),'wr data'!A:X,24,FALSE)","v":66.328970210000008},{"$f":"IFERROR(Q96-LARGE($Q$3:$Q$150,'Position Expectations'!$B$5+1),Q96-MIN($Q$3:$Q$150))","v":-60.231624290000028},{"$f":"IFERROR(Q96-LARGE($Q$3:$Q$150,Settings!$F$21*Settings!$D$24),Q96-MIN($Q$3:$Q$150))+IF(Settings!$D$26>0,MAX(0,LARGE($Q$3:$Q$150,Settings!$F$21*Settings!$D$24)-LARGE(($Q$3:$Q$150,$J$3:$J$100),Settings!$F$21*(Settings!$D$23+Settings!$D$24+Settings!$D$26))),0)","v":-105.41930769000001},{"$f":"IFERROR((IFERROR(IF(Settings!$J$17=1,VLOOKUP(_xlfn.CONCAT(P96,O96),'full ppr adp'!$A:$K,11,FALSE),IF(Settings!$J$17=0,VLOOKUP(_xlfn.CONCAT(P96,O96),'standard adp'!$A:$J,10,FALSE),VLOOKUP(_xlfn.CONCAT(P96,O96),'half ppr adp'!$A:$J,10,FALSE))),VLOOKUP(_xlfn.CONCAT(P96,O96),'full ppr adp'!$A:$K,11,FALSE))),\"UND\")","v":"UND"}]
[null,null,null,null,null,null,null,null,null,null,null,null,null,null,"Andy Isabella","ARI",{"$f":"VLOOKUP(_xlfn.CONCAT(P97,O97),'wr data'!A:X,24,FALSE)","v":66.191690600000001},{"$f":"IFERROR(Q97-LARGE($Q$3:$Q$150,'Position Expectations'!$B$5+1),Q97-MIN($Q$3:$Q$150))","v":-60.368903900000035},{"$f":"IFERROR(Q97-LARGE($Q$3:$Q$150,Settings!$F$21*Settings!$D$24),Q97-MIN($Q$3:$Q$150))+IF(Settings!$D$26>0,MAX(0,LARGE($Q$3:$Q$150,Settings!$F$21*Settings!$D$24)-LARGE(($Q$3:$Q$150,$J$3:$J$100),Settings!$F$21*(Settings!$D$23+Settings!$D$24+Settings!$D$26))),0)","v":-105.55658730000002},{"$f":"IFERROR((IFERROR(IF(Settings!$J$17=1,VLOOKUP(_xlfn.CONCAT(P97,O97),'full ppr adp'!$A:$K,11,FALSE),IF(Settings!$J$17=0,VLOOKUP(_xlfn.CONCAT(P97,O97),'standard adp'!$A:$J,10,FALSE),VLOOKUP(_xlfn.CONCAT(P97,O97),'half ppr adp'!$A:$J,10,FALSE))),VLOOKUP(_xlfn.CONCAT(P97,O97),'full ppr adp'!$A:$K,11,FALSE))),\"UND\")","v":250}]
[null,null,null,null,null,null,null,null,null,null,null,null,null,null,"Zach Pascal","IND",{"$f":"VLOOKUP(_xlfn.CONCAT(P98,O98),'wr data'!A:X,24,FALSE)","v":65.759744799999993},{"$f":"IFERROR(Q98-LARGE($Q$3:$Q$150,'Position Expectations'!$B$5+1),Q98-MIN($Q$3:$Q$150))","v":-60.800849700000043},{"$f":"IFERROR(Q98-LARGE($Q$3:$Q$150,Settings!$F$21*Settings!$D$24),Q98-MIN($Q$3:$Q$150))+IF(Settings!$D$26>0,MAX(0,LARGE($Q$3:$Q$150,Settings!$F$21*Settings!$D$24)-LARGE(($Q$3:$Q$150,$J$3:$J$100),Settings!$F$21*(Settings!$D$23+Settings!$D$24+Settings!$D$26))),0)","v":-105.98853310000001},{"$f":"IFERROR((IFERROR(IF(Settings!$J$17=1,VLOOKUP(_xlfn.CONCAT(P98,O98),'full ppr adp'!$A:$K,11,FALSE),IF(Settings!$J$17=0,VLOOKUP(_xlfn.CONCAT(P98,O98),'standard adp'!$A:$J,10,FALSE),VLOOKUP(_xlfn.CONCAT(P98,O98),'half ppr adp'!$A:$J,10,FALSE))),VLOOKUP(_xlfn.CONCAT(P98,O98),'full ppr adp'!$A:$K,11,FALSE))),\"UND\")","v":295}]
[null,null,null,null,null,null,null,null,null,null,null,null,null,null,"Parris Campbell","IND",{"$f":"VLOOKUP(_xlfn.CONCAT(P99,O99),'wr data'!A:X,24,FALSE)","v":64.088473799999989},{"$f":"IFERROR(Q99-LARGE($Q$3:$Q$150,'Position Expectations'!$B$5+1),Q99-MIN($Q$3:$Q$150))","v":-62.472120700000048},{"$f":"IFERROR(Q99-LARGE($Q$3:$Q$150,Settings!$F$21*Settings!$D$24),Q99-MIN($Q$3:$Q$150))+IF(Settings!$D$26>0,MAX(0,LARGE($Q$3:$Q$150,Settings!$F$21*Settings!$D$24)-LARGE(($Q$3:$Q$150,$J$3:$J$100),Settings!$F$21*(Settings!$D$23+Settings!$D$24+Settings!$D$26))),0)","v":-107.6598041},{"$f":"IFERROR((IFERROR(IF(Settings!$J$17=1,VLOOKUP(_xlfn.CONCAT(P99,O99),'full ppr adp'!$A:$K,11,FALSE),IF(Settings!$J$17=0,VLOOKUP(_xlfn.CONCAT(P99,O99),'standard adp'!$A:$J,10,FALSE),VLOOKUP(_xlfn.CONCAT(P99,O99),'half ppr adp'!$A:$J,10,FALSE))),VLOOKUP(_xlfn.CONCAT(P99,O99),'full ppr adp'!$A:$K,11,FALSE))),\"UND\")","v":182.66666666666666}]
[null,null,null,null,null,null,null,null,null,null,null,null,null,null,"KJ Hamler","DEN",{"$f":"VLOOKUP(_xlfn.CONCAT(P100,O100),'wr data'!A:X,24,FALSE)","v":63.469010400000016},{"$f":"IFERROR(Q100-LARGE($Q$3:$Q$150,'Position Expectations'!$B$5+1),Q100-MIN($Q$3:$Q$150))","v":-63.09158410000002},{"$f":"IFERROR(Q100-LARGE($Q$3:$Q$150,Settings!$F$21*Settings!$D$24),Q100-MIN($Q$3:$Q$150))+IF(Settings!$D$26>0,MAX(0,LARGE($Q$3:$Q$150,Settings!$F$21*Settings!$D$24)-LARGE(($Q$3:$Q$150,$J$3:$J$100),Settings!$F$21*(Settings!$D$23+Settings!$D$24+Settings!$D$26))),0)","v":-108.27926749999997},{"$f":"IFERROR((IFERROR(IF(Settings!$J$17=1,VLOOKUP(_xlfn.CONCAT(P100,O100),'full ppr adp'!$A:$K,11,FALSE),IF(Settings!$J$17=0,VLOOKUP(_xlfn.CONCAT(P100,O100),'standard adp'!$A:$J,10,FALSE),VLOOKUP(_xlfn.CONCAT(P100,O100),'half ppr adp'!$A:$J,10,FALSE))),VLOOKUP(_xlfn.CONCAT(P100,O100),'full ppr adp'!$A:$K,11,FALSE))),\"UND\")","v":277}]
[null,null,null,null,null,null,null,null,null,null,null,null,null,null,"Marquez Valdes-Scantling","GB",{"$f":"VLOOKUP(_xlfn.CONCAT(P101,O101),'wr data'!A:X,24,FALSE)","v":61.228688999999996},{"$f":"IFERROR(Q101-LARGE($Q$3:$Q$150,'Position Expectations'!$B$5+1),Q101-MIN($Q$3:$Q$150))","v":-65.331905500000033},{"$f":"IFERROR(Q101-LARGE($Q$3:$Q$150,Settings!$F$21*Settings!$D$24),Q101-MIN($Q$3:$Q$150))+IF(Settings!$D$26>0,MAX(0,LARGE($Q$3:$Q$150,Settings!$F$21*Settings!$D$24)-LARGE(($Q$3:$Q$150,$J$3:$J$100),Settings!$F$21*(Settings!$D$23+Settings!$D$24+Settings!$D$26))),0)","v":-110.5195889},{"$f":"IFERROR((IFERROR(IF(Settings!$J$17=1,VLOOKUP(_xlfn.CONCAT(P101,O101),'full ppr adp'!$A:$K,11,FALSE),IF(Settings!$J$17=0,VLOOKUP(_xlfn.CONCAT(P101,O101),'standard adp'!$A:$J,10,FALSE),VLOOKUP(_xlfn.CONCAT(P101,O101),'half ppr adp'!$A:$J,10,FALSE))),VLOOKUP(_xlfn.CONCAT(P101,O101),'full ppr adp'!$A:$K,11,FALSE))),\"UND\")","v":320}]
[null,null,null,null,null,null,null,null,null,null,null,null,null,null,"Equanimeous St. Brown","GB",{"$f":"VLOOKUP(_xlfn.CONCAT(P102,O102),'wr data'!A:X,24,FALSE)","v":60.519240600000003},{"$f":"IFERROR(Q102-LARGE($Q$3:$Q$150,'Position Expectations'!$B$5+1),Q102-MIN($Q$3:$Q$150))","v":-66.041353900000033},{"$f":"IFERROR(Q102-LARGE($Q$3:$Q$150,Settings!$F$21*Settings!$D$24),Q102-MIN($Q$3:$Q$150))+IF(Settings!$D$26>0,MAX(0,LARGE($Q$3:$Q$150,Settings!$F$21*Settings!$D$24)-LARGE(($Q$3:$Q$150,$J$3:$J$100),Settings!$F$21*(Settings!$D$23+Settings!$D$24+Settings!$D$26))),0)","v":-111.22903729999999},{"$f":"IFERROR((IFERROR(IF(Settings!$J$17=1,VLOOKUP(_xlfn.CONCAT(P102,O102),'full ppr adp'!$A:$K,11,FALSE),IF(Settings!$J$17=0,VLOOKUP(_xlfn.CONCAT(P102,O102),'standard adp'!$A:$J,10,FALSE),VLOOKUP(_xlfn.CONCAT(P102,O102),'half ppr adp'!$A:$J,10,FALSE))),VLOOKUP(_xlfn.CONCAT(P102,O102),'full ppr adp'!$A:$K,11,FALSE))),\"UND\")","v":"UND"}]
[null,null,null,null,null,null,null,null,null,null,null,null,null,null,"Olabisi Johnson","MIN",{"$f":"VLOOKUP(_xlfn.CONCAT(P103,O103),'wr data'!A:X,24,FALSE)","v":59.658864999999999},{"$f":"IFERROR(Q103-LARGE($Q$3:$Q$150,'Position Expectations'!$B$5+1),Q103-MIN($Q$3:$Q$150))","v":-66.901729500000044},{"$f":"IFERROR(Q103-LARGE($Q$3:$Q$150,Settings!$F$21*Settings!$D$24),Q103-MIN($Q$3:$Q$150))+IF(Settings!$D$26>0,MAX(0,LARGE($Q$3:$Q$150,Settings!$F$21*Settings!$D$24)-LARGE(($Q$3:$Q$150,$J$3:$J$100),Settings!$F$21*(Settings!$D$23+Settings!$D$24+Settings!$D$26))),0)","v":-112.08941290000001},{"$f":"IFERROR((IFERROR(IF(Settings!$J$17=1,VLOOKUP(_xlfn.CONCAT(P103,O103),'full ppr adp'!$A:$K,11,FALSE),IF(Settings!$J$17=0,VLOOKUP(_xlfn.CONCAT(P103,O103),'standard adp'!$A:$J,10,FALSE),VLOOKUP(_xlfn.CONCAT(P103,O103),'half ppr adp'!$A:$J,10,FALSE))),VLOOKUP(_xlfn.CONCAT(P103,O103),'full ppr adp'!$A:$K,11,FALSE))),\"UND\")","v":356}]
[null,null,null,null,null,null,null,null,null,null,null,null,null,null,"Scott Miller","TB",{"$f":"VLOOKUP(_xlfn.CONCAT(P104,O104),'wr data'!A:X,24,FALSE)","v":59.637657845000007},{"$f":"IFERROR(Q104-LARGE($Q$3:$Q$150,'Position Expectations'!$B$5+1),Q104-MIN($Q$3:$Q$150))","v":-66.922936655000029},{"$f":"IFERROR(Q104-LARGE($Q$3:$Q$150,Settings!$F$21*Settings!$D$24),Q104-MIN($Q$3:$Q$150))+IF(Settings!$D$26>0,MAX(0,LARGE($Q$3:$Q$150,Settings!$F$21*Settings!$D$24)-LARGE(($Q$3:$Q$150,$J$3:$J$100),Settings!$F$21*(Settings!$D$23+Settings!$D$24+Settings!$D$26))),0)","v":-112.110620055},{"$f":"IFERROR((IFERROR(IF(Settings!$J$17=1,VLOOKUP(_xlfn.CONCAT(P104,O104),'full ppr adp'!$A:$K,11,FALSE),IF(Settings!$J$17=0,VLOOKUP(_xlfn.CONCAT(P104,O104),'standard adp'!$A:$J,10,FALSE),VLOOKUP(_xlfn.CONCAT(P104,O104),'half ppr adp'!$A:$J,10,FALSE))),VLOOKUP(_xlfn.CONCAT(P104,O104),'full ppr adp'!$A:$K,11,FALSE))),\"UND\")","v":356}]
[null,null,null,null,null,null,null,null,null,null,null,null,null,null,"Antonio Gandy-Golden","WAS",{"$f":"VLOOKUP(_xlfn.CONCAT(P105,O105),'wr data'!A:X,24,FALSE)","v":57.9056414},{"$f":"IFERROR(Q105-LARGE($Q$3:$Q$150,'Position Expectations'!$B$5+1),Q105-MIN($Q$3:$Q$150))","v":-68.654953100000029},{"$f":"IFERROR(Q105-LARGE($Q$3:$Q$150,Settings!$F$21*Settings!$D$24),Q105-MIN($Q$3:$Q$150))+IF(Settings!$D$26>0,MAX(0,LARGE($Q$3:$Q$150,Settings!$F$21*Settings!$D$24)-LARGE(($Q$3:$Q$150,$J$3:$J$100),Settings!$F$21*(Settings!$D$23+Settings!$D$24+Settings!$D$26))),0)","v":-113.8426365},{"$f":"IFERROR((IFERROR(IF(Settings!$J$17=1,VLOOKUP(_xlfn.CONCAT(P105,O105),'full ppr adp'!$A:$K,11,FALSE),IF(Settings!$J$17=0,VLOOKUP(_xlfn.CONCAT(P105,O105),'standard adp'!$A:$J,10,FALSE),VLOOKUP(_xlfn.CONCAT(P105,O105),'half ppr adp'!$A:$J,10,FALSE))),VLOOKUP(_xlfn.CONCAT(P105,O105),'full ppr adp'!$A:$K,11,FALSE))),\"UND\")","v":345}]
[null,null,null,null,null,null,null,null,null,null,null,null,null,null,"Paul Richardson","SEA",{"$f":"VLOOKUP(_xlfn.CONCAT(P106,O106),'wr data'!A:X,24,FALSE)","v":56.018574080000008},{"$f":"IFERROR(Q106-LARGE($Q$3:$Q$150,'Position Expectations'!$B$5+1),Q106-MIN($Q$3:$Q$150))","v":-70.542020420000028},{"$f":"IFERROR(Q106-LARGE($Q$3:$Q$150,Settings!$F$21*Settings!$D$24),Q106-MIN($Q$3:$Q$150))+IF(Settings!$D$26>0,MAX(0,LARGE($Q$3:$Q$150,Settings!$F$21*Settings!$D$24)-LARGE(($Q$3:$Q$150,$J$3:$J$100),Settings!$F$21*(Settings!$D$23+Settings!$D$24+Settings!$D$26))),0)","v":-115.72970382},{"$f":"IFERROR((IFERROR(IF(Settings!$J$17=1,VLOOKUP(_xlfn.CONCAT(P106,O106),'full ppr adp'!$A:$K,11,FALSE),IF(Settings!$J$17=0,VLOOKUP(_xlfn.CONCAT(P106,O106),'standard adp'!$A:$J,10,FALSE),VLOOKUP(_xlfn.CONCAT(P106,O106),'half ppr adp'!$A:$J,10,FALSE))),VLOOKUP(_xlfn.CONCAT(P106,O106),'full ppr adp'!$A:$K,11,FALSE))),\"UND\")","v":"UND"}]
[null,null,null,null,null,null,null,null,null,null,null,null,null,null,"David Moore","SEA",{"$f":"VLOOKUP(_xlfn.CONCAT(P107,O107),'wr data'!A:X,24,FALSE)","v":55.963415599999998},{"$f":"IFERROR(Q107-LARGE($Q$3:$Q$150,'Position Expectations'!$B$5+1),Q107-MIN($Q$3:$Q$150))","v":-70.597178900000046},{"$f":"IFERROR(Q107-LARGE($Q$3:$Q$150,Settings!$F$21*Settings!$D$24),Q107-MIN($Q$3:$Q$150))+IF(Settings!$D$26>0,MAX(0,LARGE($Q$3:$Q$150,Settings!$F$21*Settings!$D$24)-LARGE(($Q$3:$Q$150,$J$3:$J$100),Settings!$F$21*(Settings!$D$23+Settings!$D$24+Settings!$D$26))),0)","v":-115.78486230000001},{"$f":"IFERROR((IFERROR(IF(Settings!$J$17=1,VLOOKUP(_xlfn.CONCAT(P107,O107),'full ppr adp'!$A:$K,11,FALSE),IF(Settings!$J$17=0,VLOOKUP(_xlfn.CONCAT(P107,O107),'standard adp'!$A:$J,10,FALSE),VLOOKUP(_xlfn.CONCAT(P107,O107),'half ppr adp'!$A:$J,10,FALSE))),VLOOKUP(_xlfn.CONCAT(P107,O107),'full ppr adp'!$A:$K,11,FALSE))),\"UND\")","v":331}]
[null,null,null,null,null,null,null,null,null,null,null,null,null,null,"Nelson Agholor","LV",{"$f":"VLOOKUP(_xlfn.CONCAT(P108,O108),'wr data'!A:X,24,FALSE)","v":52.841688400000002},{"$f":"IFERROR(Q108-LARGE($Q$3:$Q$150,'Position Expectations'!$B$5+1),Q108-MIN($Q$3:$Q$150))","v":-73.718906100000027},{"$f":"IFERROR(Q108-LARGE($Q$3:$Q$150,Settings!$F$21*Settings!$D$24),Q108-MIN($Q$3:$Q$150))+IF(Settings!$D$26>0,MAX(0,LARGE($Q$3:$Q$150,Settings!$F$21*Settings!$D$24)-LARGE(($Q$3:$Q$150,$J$3:$J$100),Settings!$F$21*(Settings!$D$23+Settings!$D$24+Settings!$D$26))),0)","v":-118.9065895},{"$f":"IFERROR((IFERROR(IF(Settings!$J$17=1,VLOOKUP(_xlfn.CONCAT(P108,O108),'full ppr adp'!$A:$K,11,FALSE),IF(Settings!$J$17=0,VLOOKUP(_xlfn.CONCAT(P108,O108),'standard adp'!$A:$J,10,FALSE),VLOOKUP(_xlfn.CONCAT(P108,O108),'half ppr adp'!$A:$J,10,FALSE))),VLOOKUP(_xlfn.CONCAT(P108,O108),'full ppr adp'!$A:$K,11,FALSE))),\"UND\")","v":298}]
[null,null,null,null,null,null,null,null,null,null,null,null,null,null,"Devin Duvernay","BAL",{"$f":"VLOOKUP(_xlfn.CONCAT(P109,O109),'wr data'!A:X,24,FALSE)","v":52.207515500000007},{"$f":"IFERROR(Q109-LARGE($Q$3:$Q$150,'Position Expectations'!$B$5+1),Q109-MIN($Q$3:$Q$150))","v":-74.353079000000037},{"$f":"IFERROR(Q109-LARGE($Q$3:$Q$150,Settings!$F$21*Settings!$D$24),Q109-MIN($Q$3:$Q$150))+IF(Settings!$D$26>0,MAX(0,LARGE($Q$3:$Q$150,Settings!$F$21*Settings!$D$24)-LARGE(($Q$3:$Q$150,$J$3:$J$100),Settings!$F$21*(Settings!$D$23+Settings!$D$24+Settings!$D$26))),0)","v":-119.54076240000001},{"$f":"IFERROR((IFERROR(IF(Settings!$J$17=1,VLOOKUP(_xlfn.CONCAT(P109,O109),'full ppr adp'!$A:$K,11,FALSE),IF(Settings!$J$17=0,VLOOKUP(_xlfn.CONCAT(P109,O109),'standard adp'!$A:$J,10,FALSE),VLOOKUP(_xlfn.CONCAT(P109,O109),'half ppr adp'!$A:$J,10,FALSE))),VLOOKUP(_xlfn.CONCAT(P109,O109),'full ppr adp'!$A:$K,11,FALSE))),\"UND\")","v":212}]
[null,null,null,null,null,null,null,null,null,null,null,null,null,null,"Jake Kumerow","GB",{"$f":"VLOOKUP(_xlfn.CONCAT(P110,O110),'wr data'!A:X,24,FALSE)","v":51.978227599999997},{"$f":"IFERROR(Q110-LARGE($Q$3:$Q$150,'Position Expectations'!$B$5+1),Q110-MIN($Q$3:$Q$150))","v":-74.582366900000039},{"$f":"IFERROR(Q110-LARGE($Q$3:$Q$150,Settings!$F$21*Settings!$D$24),Q110-MIN($Q$3:$Q$150))+IF(Settings!$D$26>0,MAX(0,LARGE($Q$3:$Q$150,Settings!$F$21*Settings!$D$24)-LARGE(($Q$3:$Q$150,$J$3:$J$100),Settings!$F$21*(Settings!$D$23+Settings!$D$24+Settings!$D$26))),0)","v":-119.77005030000001},{"$f":"IFERROR((IFERROR(IF(Settings!$J$17=1,VLOOKUP(_xlfn.CONCAT(P110,O110),'full ppr adp'!$A:$K,11,FALSE),IF(Settings!$J$17=0,VLOOKUP(_xlfn.CONCAT(P110,O110),'standard adp'!$A:$J,10,FALSE),VLOOKUP(_xlfn.CONCAT(P110,O110),'half ppr adp'!$A:$J,10,FALSE))),VLOOKUP(_xlfn.CONCAT(P110,O110),'full ppr adp'!$A:$K,11,FALSE))),\"UND\")","v":"UND"}]
[null,null,null,null,null,null,null,null,null,null,null,null,null,null,"Demarcus Robinson","KC",{"$f":"VLOOKUP(_xlfn.CONCAT(P111,O111),'wr data'!A:X,24,FALSE)","v":51.189775000000004},{"$f":"IFERROR(Q111-LARGE($Q$3:$Q$150,'Position Expectations'!$B$5+1),Q111-MIN($Q$3:$Q$150))","v":-75.370819500000039},{"$f":"IFERROR(Q111-LARGE($Q$3:$Q$150,Settings!$F$21*Settings!$D$24),Q111-MIN($Q$3:$Q$150))+IF(Settings!$D$26>0,MAX(0,LARGE($Q$3:$Q$150,Settings!$F$21*Settings!$D$24)-LARGE(($Q$3:$Q$150,$J$3:$J$100),Settings!$F$21*(Settings!$D$23+Settings!$D$24+Settings!$D$26))),0)","v":-120.55850290000001},{"$f":"IFERROR((IFERROR(IF(Settings!$J$17=1,VLOOKUP(_xlfn.CONCAT(P111,O111),'full ppr adp'!$A:$K,11,FALSE),IF(Settings!$J$17=0,VLOOKUP(_xlfn.CONCAT(P111,O111),'standard adp'!$A:$J,10,FALSE),VLOOKUP(_xlfn.CONCAT(P111,O111),'half ppr adp'!$A:$J,10,FALSE))),VLOOKUP(_xlfn.CONCAT(P111,O111),'full ppr adp'!$A:$K,11,FALSE))),\"UND\")","v":324}]
[null,null,null,null,null,null,null,null,null,null,null,null,null,null,"Joe Reed","LAC",{"$f":"VLOOKUP(_xlfn.CONCAT(P112,O112),'wr data'!A:X,24,FALSE)","v":50.472755199999995},{"$f":"IFERROR(Q112-LARGE($Q$3:$Q$150,'Position Expectations'!$B$5+1),Q112-MIN($Q$3:$Q$150))","v":-76.087839300000041},{"$f":"IFERROR(Q112-LARGE($Q$3:$Q$150,Settings!$F$21*Settings!$D$24),Q112-MIN($Q$3:$Q$150))+IF(Settings!$D$26>0,MAX(0,LARGE($Q$3:$Q$150,Settings!$F$21*Settings!$D$24)-LARGE(($Q$3:$Q$150,$J$3:$J$100),Settings!$F$21*(Settings!$D$23+Settings!$D$24+Settings!$D$26))),0)","v":-121.27552270000001},{"$f":"IFERROR((IFERROR(IF(Settings!$J$17=1,VLOOKUP(_xlfn.CONCAT(P112,O112),'full ppr adp'!$A:$K,11,FALSE),IF(Settings!$J$17=0,VLOOKUP(_xlfn.CONCAT(P112,O112),'standard adp'!$A:$J,10,FALSE),VLOOKUP(_xlfn.CONCAT(P112,O112),'half ppr adp'!$A:$J,10,FALSE))),VLOOKUP(_xlfn.CONCAT(P112,O112),'full ppr adp'!$A:$K,11,FALSE))),\"UND\")","v":"UND"}]
[null,null,null,null,null,null,null,null,null,null,null,null,null,null,"Isaiah Ford","MIA",{"$f":"VLOOKUP(_xlfn.CONCAT(P113,O113),'wr data'!A:X,24,FALSE)","v":47.881217400000004},{"$f":"IFERROR(Q113-LARGE($Q$3:$Q$150,'Position Expectations'!$B$5+1),Q113-MIN($Q$3:$Q$150))","v":-78.679377100000039},{"$f":"IFERROR(Q113-LARGE($Q$3:$Q$150,Settings!$F$21*Settings!$D$24),Q113-MIN($Q$3:$Q$150))+IF(Settings!$D$26>0,MAX(0,LARGE($Q$3:$Q$150,Settings!$F$21*Settings!$D$24)-LARGE(($Q$3:$Q$150,$J$3:$J$100),Settings!$F$21*(Settings!$D$23+Settings!$D$24+Settings!$D$26))),0)","v":-123.86706050000001},{"$f":"IFERROR((IFERROR(IF(Settings!$J$17=1,VLOOKUP(_xlfn.CONCAT(P113,O113),'full ppr adp'!$A:$K,11,FALSE),IF(Settings!$J$17=0,VLOOKUP(_xlfn.CONCAT(P113,O113),'standard adp'!$A:$J,10,FALSE),VLOOKUP(_xlfn.CONCAT(P113,O113),'half ppr adp'!$A:$J,10,FALSE))),VLOOKUP(_xlfn.CONCAT(P113,O113),'full ppr adp'!$A:$K,11,FALSE))),\"UND\")","v":"UND"}]
[null,null,null,null,null,null,null,null,null,null,null,null,null,null,"Ted Ginn","CHI",{"$f":"VLOOKUP(_xlfn.CONCAT(P114,O114),'wr data'!A:X,24,FALSE)","v":46.549570160000009},{"$f":"IFERROR(Q114-LARGE($Q$3:$Q$150,'Position Expectations'!$B$5+1),Q114-MIN($Q$3:$Q$150))","v":-80.011024340000034},{"$f":"IFERROR(Q114-LARGE($Q$3:$Q$150,Settings!$F$21*Settings!$D$24),Q114-MIN($Q$3:$Q$150))+IF(Settings!$D$26>0,MAX(0,LARGE($Q$3:$Q$150,Settings!$F$21*Settings!$D$24)-LARGE(($Q$3:$Q$150,$J$3:$J$100),Settings!$F$21*(Settings!$D$23+Settings!$D$24+Settings!$D$26))),0)","v":-125.19870774},{"$f":"IFERROR((IFERROR(IF(Settings!$J$17=1,VLOOKUP(_xlfn.CONCAT(P114,O114),'full ppr adp'!$A:$K,11,FALSE),IF(Settings!$J$17=0,VLOOKUP(_xlfn.CONCAT(P114,O114),'standard adp'!$A:$J,10,FALSE),VLOOKUP(_xlfn.CONCAT(P114,O114),'half ppr adp'!$A:$J,10,FALSE))),VLOOKUP(_xlfn.CONCAT(P114,O114),'full ppr adp'!$A:$K,11,FALSE))),\"UND\")","v":365}]
[null,null,null,null,null,null,null,null,null,null,null,null,null,null,"Greg Ward","PHI",{"$f":"VLOOKUP(_xlfn.CONCAT(P115,O115),'wr data'!A:X,24,FALSE)","v":46.456511499999998},{"$f":"IFERROR(Q115-LARGE($Q$3:$Q$150,'Position Expectations'!$B$5+1),Q115-MIN($Q$3:$Q$150))","v":-80.104083000000031},{"$f":"IFERROR(Q115-LARGE($Q$3:$Q$150,Settings!$F$21*Settings!$D$24),Q115-MIN($Q$3:$Q$150))+IF(Settings!$D$26>0,MAX(0,LARGE($Q$3:$Q$150,Settings!$F$21*Settings!$D$24)-LARGE(($Q$3:$Q$150,$J$3:$J$100),Settings!$F$21*(Settings!$D$23+Settings!$D$24+Settings!$D$26))),0)","v":-125.2917664},{"$f":"IFERROR((IFERROR(IF(Settings!$J$17=1,VLOOKUP(_xlfn.CONCAT(P115,O115),'full ppr adp'!$A:$K,11,FALSE),IF(Settings!$J$17=0,VLOOKUP(_xlfn.CONCAT(P115,O115),'standard adp'!$A:$J,10,FALSE),VLOOKUP(_xlfn.CONCAT(P115,O115),'half ppr adp'!$A:$J,10,FALSE))),VLOOKUP(_xlfn.CONCAT(P115,O115),'full ppr adp'!$A:$K,11,FALSE))),\"UND\")","v":348}]
[null,null,null,null,null,null,null,null,null,null,null,null,null,null,"Trent Taylor","SF",{"$f":"VLOOKUP(_xlfn.CONCAT(P116,O116),'wr data'!A:X,24,FALSE)","v":43.116111419999989},{"$f":"IFERROR(Q116-LARGE($Q$3:$Q$150,'Position Expectations'!$B$5+1),Q116-MIN($Q$3:$Q$150))","v":-83.444483080000055},{"$f":"IFERROR(Q116-LARGE($Q$3:$Q$150,Settings!$F$21*Settings!$D$24),Q116-MIN($Q$3:$Q$150))+IF(Settings!$D$26>0,MAX(0,LARGE($Q$3:$Q$150,Settings!$F$21*Settings!$D$24)-LARGE(($Q$3:$Q$150,$J$3:$J$100),Settings!$F$21*(Settings!$D$23+Settings!$D$24+Settings!$D$26))),0)","v":-128.63216648000002},{"$f":"IFERROR((IFERROR(IF(Settings!$J$17=1,VLOOKUP(_xlfn.CONCAT(P116,O116),'full ppr adp'!$A:$K,11,FALSE),IF(Settings!$J$17=0,VLOOKUP(_xlfn.CONCAT(P116,O116),'standard adp'!$A:$J,10,FALSE),VLOOKUP(_xlfn.CONCAT(P116,O116),'half ppr adp'!$A:$J,10,FALSE))),VLOOKUP(_xlfn.CONCAT(P116,O116),'full ppr adp'!$A:$K,11,FALSE))),\"UND\")","v":374}]
[null,null,null,null,null,null,null,null,null,null,null,null,null,null,"Phillip Dorsett","SEA",{"$f":"VLOOKUP(_xlfn.CONCAT(P117,O117),'wr data'!A:X,24,FALSE)","v":38.770098399999995},{"$f":"IFERROR(Q117-LARGE($Q$3:$Q$150,'Position Expectations'!$B$5+1),Q117-MIN($Q$3:$Q$150))","v":-87.790496100000041},{"$f":"IFERROR(Q117-LARGE($Q$3:$Q$150,Settings!$F$21*Settings!$D$24),Q117-MIN($Q$3:$Q$150))+IF(Settings!$D$26>0,MAX(0,LARGE($Q$3:$Q$150,Settings!$F$21*Settings!$D$24)-LARGE(($Q$3:$Q$150,$J$3:$J$100),Settings!$F$21*(Settings!$D$23+Settings!$D$24+Settings!$D$26))),0)","v":-132.97817950000001},{"$f":"IFERROR((IFERROR(IF(Settings!$J$17=1,VLOOKUP(_xlfn.CONCAT(P117,O117),'full ppr adp'!$A:$K,11,FALSE),IF(Settings!$J$17=0,VLOOKUP(_xlfn.CONCAT(P117,O117),'standard adp'!$A:$J,10,FALSE),VLOOKUP(_xlfn.CONCAT(P117,O117),'half ppr adp'!$A:$J,10,FALSE))),VLOOKUP(_xlfn.CONCAT(P117,O117),'full ppr adp'!$A:$K,11,FALSE))),\"UND\")","v":313}]
[null,null,null,null,null,null,null,null,null,null,null,null,null,null,"Rashard Higgins","CLE",{"$f":"VLOOKUP(_xlfn.CONCAT(P118,O118),'wr data'!A:X,24,FALSE)","v":36.205069770000009},{"$f":"IFERROR(Q118-LARGE($Q$3:$Q$150,'Position Expectations'!$B$5+1),Q118-MIN($Q$3:$Q$150))","v":-90.355524730000027},{"$f":"IFERROR(Q118-LARGE($Q$3:$Q$150,Settings!$F$21*Settings!$D$24),Q118-MIN($Q$3:$Q$150))+IF(Settings!$D$26>0,MAX(0,LARGE($Q$3:$Q$150,Settings!$F$21*Settings!$D$24)-LARGE(($Q$3:$Q$150,$J$3:$J$100),Settings!$F$21*(Settings!$D$23+Settings!$D$24+Settings!$D$26))),0)","v":-135.54320813000001},{"$f":"IFERROR((IFERROR(IF(Settings!$J$17=1,VLOOKUP(_xlfn.CONCAT(P118,O118),'full ppr adp'!$A:$K,11,FALSE),IF(Settings!$J$17=0,VLOOKUP(_xlfn.CONCAT(P118,O118),'standard adp'!$A:$J,10,FALSE),VLOOKUP(_xlfn.CONCAT(P118,O118),'half ppr adp'!$A:$J,10,FALSE))),VLOOKUP(_xlfn.CONCAT(P118,O118),'full ppr adp'!$A:$K,11,FALSE))),\"UND\")","v":411}]
[null,null,null,null,null,null,null,null,null,null,null,null,null,null,"Dante Pettis","SF",{"$f":"VLOOKUP(_xlfn.CONCAT(P119,O119),'wr data'!A:X,24,FALSE)","v":16.648545663},{"$f":"IFERROR(Q119-LARGE($Q$3:$Q$150,'Position Expectations'!$B$5+1),Q119-MIN($Q$3:$Q$150))","v":-109.91204883700004},{"$f":"IFERROR(Q119-LARGE($Q$3:$Q$150,Settings!$F$21*Settings!$D$24),Q119-MIN($Q$3:$Q$150))+IF(Settings!$D$26>0,MAX(0,LARGE($Q$3:$Q$150,Settings!$F$21*Settings!$D$24)-LARGE(($Q$3:$Q$150,$J$3:$J$100),Settings!$F$21*(Settings!$D$23+Settings!$D$24+Settings!$D$26))),0)","v":-155.09973223700001},{"$f":"IFERROR((IFERROR(IF(Settings!$J$17=1,VLOOKUP(_xlfn.CONCAT(P119,O119),'full ppr adp'!$A:$K,11,FALSE),IF(Settings!$J$17=0,VLOOKUP(_xlfn.CONCAT(P119,O119),'standard adp'!$A:$J,10,FALSE),VLOOKUP(_xlfn.CONCAT(P119,O119),'half ppr adp'!$A:$J,10,FALSE))),VLOOKUP(_xlfn.CONCAT(P119,O119),'full ppr adp'!$A:$K,11,FALSE))),\"UND\")","v":364}]

{"sheet":"qb data","index":4,"n_rows":33,"n_cols":19,"rows_kept":33,"cut":false,"hidden":false,"merged":[]}
["Team Abbr","Team","New HC","New OC","New Receivers","Lost Receivers","QB","Pass Attempts","Yds/Att","TD/Att","Int/Att","Rush Attempts","Yds/Att","TD/Att","Fum/Att","HC Mod","Pass Eff Mod","Reg Mod","xTotal Pts"]
["ARI","Arizona Cardinals",null,null,"DeAndre Hopkins","David Johnson","Kyler Murray",554.16,6.87,3.6900000000000002E-2,2.2100000000000002E-2,92.65,5.85,4.2999999999999997E-2,2.1499999999999998E-2,1,1.1000000000000001,1,{"$f":"((I2*Q2*H2*Settings!$D$15)+(J2*Q2*H2*Settings!$D$16)+(K2*H2*Settings!$D$17)+(M2*L2*Settings!$G$15)+(N2*L2*Settings!$G$16)+(O2*L2*Settings!$M$15))*R2*P2","v":307.1110304}]
["ATL","Atlanta Falcons",null,null,"Hayden Hurst","Austin Hooper","Matt Ryan",649.33000000000004,7.25,4.2200000000000001E-2,2.2700000000000001E-2,32,4.32,2.9399999999999999E-2,0.14710000000000001,1,1,1,{"$f":"((I3*Q3*H3*Settings!$D$15)+(J3*Q3*H3*Settings!$D$16)+(K3*H3*Settings!$D$17)+(M3*L3*Settings!$G$15)+(N3*L3*Settings!$G$16)+(O3*L3*Settings!$M$15))*R3*P3","v":278.48742199999998}]
["BAL","Baltimore Ravens",null,null,null,null,"Lamar Jackson",421.63,7.8,7.0000000000000007E-2,1.4999999999999999E-2,199.25,6.85,3.9800000000000002E-2,1.14E-2,1,0.95,0.85,{"$f":"((I4*Q4*H4*Settings!$D$15)+(J4*Q4*H4*Settings!$D$16)+(K4*H4*Settings!$D$17)+(M4*L4*Settings!$G$15)+(N4*L4*Settings!$G$16)+(O4*L4*Settings!$M$15))*R4*P4","v":343.4000527}]
["BUF","Buffalo Bills",null,null,"Stefon Diggs",null,"Josh Allen",565.23,6.7,4.3400000000000001E-2,1.95E-2,88.5,4.68,8.2600000000000007E-2,0.12839999999999999,1,1.05,1,{"$f":"((I5*Q5*H5*Settings!$D$15)+(J5*Q5*H5*Settings!$D$16)+(K5*H5*Settings!$D$17)+(M5*L5*Settings!$G$15)+(N5*L5*Settings!$G$16)+(O5*L5*Settings!$M$15))*R5*P5","v":302.59367640000005}]
["CAR","Carolina Panthers","Matt Rhule","Joe Brady","Robby Anderson","Greg Olsen","Teddy Bridgewater",618.33000000000004,7.06,4.5900000000000003E-2,1.0200000000000001E-2,33.75,1.1100000000000001,0.03,0.01,0.95,0.9,1,{"$f":"((I6*Q6*H6*Settings!$D$15)+(J6*Q6*H6*Settings!$D$16)+(K6*H6*Settings!$D$17)+(M6*L6*Settings!$G$15)+(N6*L6*Settings!$G$16)+(O6*L6*Settings!$M$15))*R6*P6","v":243.06692399999997}]
["CHI","Chicago Bears",null,"Bill Lazor","Jimmy Graham",null,"Nick Foles",588,6.29,2.5600000000000001E-2,1.7100000000000001E-2,10.8,5.75,3.8800000000000001E-2,0.01,1,1.05,1,{"$f":"((I7*Q7*H7*Settings!$D$15)+(J7*Q7*H7*Settings!$D$16)+(K7*H7*Settings!$D$17)+(M7*L7*Settings!$G$15)+(N7*L7*Settings!$G$16)+(O7*L7*Settings!$M$15))*R7*P7","v":206.95824000000005}]
["CIN","Cincinnati Bengals",null,null,"AJ Green",null,"Joe Burrow",583,6.5,3.5000000000000003E-2,0.02,43.125,4.3,2.5000000000000001E-2,0.05,1,1.1499999999999999,1,{"$f":"((I8*Q8*H8*Settings!$D$15)+(J8*Q8*H8*Settings!$D$16)+(K8*H8*Settings!$D$17)+(M8*L8*Settings!$G$15)+(N8*L8*Settings!$G$16)+(O8*L8*Settings!$M$15))*R8*P8","v":265.56}]
["CLE","Cleveland Browns","Kevin Stefanski","Alex Van Pelt","Austin Hooper",null,"Baker Mayfield",555.54999999999995,7.17,4.1200000000000001E-2,3.9300000000000002E-2,26.6,5.04,0.1071,7.1400000000000005E-2,1,1.05,1,{"$f":"((I9*Q9*H9*Settings!$D$15)+(J9*Q9*H9*Settings!$D$16)+(K9*H9*Settings!$D$17)+(M9*L9*Settings!$G$15)+(N9*L9*Settings!$G$16)+(O9*L9*Settings!$M$15))*R9*P9","v":246.46554900000001}]
["DAL","Dallas Cowboys","Mike McCarthy",null,"CeeDee Lamb","Randall Cobb, Jason Witten","Dak Prescott",584,8.2200000000000006,5.0299999999999997E-2,1.8499999999999999E-2,57,5.33,5.7700000000000001E-2,3.85E-2,1.05,0.95,0.95,{"$f":"((I10*Q10*H10*Settings!$D$15)+(J10*Q10*H10*Settings!$D$16)+(K10*H10*Settings!$D$17)+(M10*L10*Settings!$G$15)+(N10*L10*Settings!$G$16)+(O10*L10*Settings!$M$15))*R10*P10","v":317.36599649999999}]
["DEN","Denver Broncos",null,"Pat Shurmur","Jerry Jeudy, KJ Hamler, Melvin Gordon","Emmanuel Sanders","Drew Lock",524.6,6.54,4.4900000000000002E-2,1.9199999999999998E-2,41.8,4,5.0000000000000001E-3,0.16669999999999999,1,1,1.1000000000000001,{"$f":"((I11*Q11*H11*Settings!$D$15)+(J11*Q11*H11*Settings!$D$16)+(K11*H11*Settings!$D$17)+(M11*L11*Settings!$G$15)+(N11*L11*Settings!$G$16)+(O11*L11*Settings!$M$15))*R11*P11","v":236.88143600000004}]
["DET","Detroit Lions",null,null,null,null,"Matt Stafford",557.13,8.59,5.16E-2,1.8499999999999999E-2,23.1,3.04,5.0000000000000001E-3,0.24440000000000001,1,1,1,{"$f":"((I12*Q12*H12*Settings!$D$15)+(J12*Q12*H12*Settings!$D$16)+(K12*H12*Settings!$D$17)+(M12*L12*Settings!$G$15)+(N12*L12*Settings!$G$16)+(O12*L12*Settings!$M$15))*R12*P12","v":282.23181}]
["GB","Green Bay Packers",null,null,null,"Jimmy Graham, Geronimo Allison","Aaron Rodgers",598.63,7.03,4.5699999999999998E-2,7.0000000000000001E-3,48,3.98,2.1700000000000001E-2,8.6999999999999994E-2,1,1,1,{"$f":"((I13*Q13*H13*Settings!$D$15)+(J13*Q13*H13*Settings!$D$16)+(K13*H13*Settings!$D$17)+(M13*L13*Settings!$G$15)+(N13*L13*Settings!$G$16)+(O13*L13*Settings!$M$15))*R13*P13","v":286.38510000000002}]
["HOU","Houston Texans",null,null,"David Johnson, Brandin Cooks, Randall Cobb","DeAndre Hopkins","Deshaun Watson",543.11,7.78,5.2499999999999998E-2,2.4199999999999999E-2,81.900000000000006,5.04,8.5400000000000004E-2,7.3200000000000001E-2,1,0.95,1,{"$f":"((I14*Q14*H14*Settings!$D$15)+(J14*Q14*H14*Settings!$D$16)+(K14*H14*Settings!$D$17)+(M14*L14*Settings!$G$15)+(N14*L14*Settings!$G$16)+(O14*L14*Settings!$M$15))*R14*P14","v":313.88196140000002}]
["IND","Indianapolis Colts",null,null,"Michael Pittman, Jonathan Taylor","Eric Ebron","Philip Rivers",537.6,7.81,3.8899999999999997E-2,3.3799999999999997E-2,9,2.42,5.0000000000000001E-3,0.01,1.05,1,1,{"$f":"((I15*Q15*H15*Settings!$D$15)+(J15*Q15*H15*Settings!$D$16)+(K15*H15*Settings!$D$17)+(M15*L15*Settings!$G$15)+(N15*L15*Settings!$G$16)+(O15*L15*Settings!$M$15))*R15*P15","v":228.399192}]
["JAC","Jacksonville Jaguars",null,"Jay Gruden","Laviska Shenault",null,"Gardner Minshew",640.98,6.96,4.4699999999999997E-2,1.2800000000000001E-2,80,4.5,5.0000000000000001E-3,1.49E-2,1,1,0.9,{"$f":"((I16*Q16*H16*Settings!$D$15)+(J16*Q16*H16*Settings!$D$16)+(K16*H16*Settings!$D$17)+(M16*L16*Settings!$G$15)+(N16*L16*Settings!$G$16)+(O16*L16*Settings!$M$15))*R16*P16","v":281.39667120000001}]
["KC","Kansas City Chiefs",null,null,null,null,"Patrick Mahomes",557.38,8.33,5.3699999999999998E-2,1.03E-2,42.9,5.07,4.65E-2,4.65E-2,1,1,1,{"$f":"((I17*Q17*H17*Settings!$D$15)+(J17*Q17*H17*Settings!$D$16)+(K17*H17*Settings!$D$17)+(M17*L17*Settings!$G$15)+(N17*L17*Settings!$G$16)+(O17*L17*Settings!$M$15))*R17*P17","v":323.691912}]
["LAC","Los Angeles Chargers",null,"Shane Steichen",null,null,"Taylor / Herbert",507.83,6.5,0.03,0.02,56,4,5.0000000000000001E-3,0.01,1,1,1,{"$f":"((I18*Q18*H18*Settings!$D$15)+(J18*Q18*H18*Settings!$D$16)+(K18*H18*Settings!$D$17)+(M18*L18*Settings!$G$15)+(N18*L18*Settings!$G$16)+(O18*L18*Settings!$M$15))*R18*P18","v":195.62219999999999}]
["LAR","Los Angeles Rams",null,"Kevin O'Connell","Van Jefferson","Brandin Cooks, Todd Gurley","Jared Goff",634.6,7.41,4.6100000000000002E-2,2.35E-2,33.6,1.21,6.0600000000000001E-2,0.1515,1,0.95,1,{"$f":"((I19*Q19*H19*Settings!$D$15)+(J19*Q19*H19*Settings!$D$16)+(K19*H19*Settings!$D$17)+(M19*L19*Settings!$G$15)+(N19*L19*Settings!$G$16)+(O19*L19*Settings!$M$15))*R19*P19","v":266.13545600000009}]
["MIA","Miami Dolphins",null,"Chan Gailey",null,"Albert Wilson, Allen Hurns","Fitzpatrick / Tagovailoa",604.5,7.03,3.9800000000000002E-2,2.5899999999999999E-2,63,4.5,7.4099999999999999E-2,3.6999999999999998E-2,1,0.9,1,{"$f":"((I20*Q20*H20*Settings!$D$15)+(J20*Q20*H20*Settings!$D$16)+(K20*H20*Settings!$D$17)+(M20*L20*Settings!$G$15)+(N20*L20*Settings!$G$16)+(O20*L20*Settings!$M$15))*R20*P20","v":259.98432000000003}]
["MIN","Minnesota Vikings",null,"Gary Kubiak","Justin Jefferson","Stefon Diggs","Kirk Cousins",447.3,8.11,5.8599999999999999E-2,1.35E-2,22.5,2.0299999999999998,3.2300000000000002E-2,9.6799999999999997E-2,1,1,1,{"$f":"((I21*Q21*H21*Settings!$D$15)+(J21*Q21*H21*Settings!$D$16)+(K21*H21*Settings!$D$17)+(M21*L21*Settings!$G$15)+(N21*L21*Settings!$G$16)+(O21*L21*Settings!$M$15))*R21*P21","v":242.44613999999999}]
["NO","New Orleans Saints",null,null,"Emmanuel Sanders","Ted Ginn","Drew Brees",603.11,7.62,5.3999999999999999E-2,2.3300000000000001E-2,28.8,1.57,4.7899999999999998E-2,0.20799999999999999,1,1,0.97499999999999998,{"$f":"((I22*Q22*H22*Settings!$D$15)+(J22*Q22*H22*Settings!$D$16)+(K22*H22*Settings!$D$17)+(M22*L22*Settings!$G$15)+(N22*L22*Settings!$G$16)+(O22*L22*Settings!$M$15))*R22*P22","v":279.64236495000006}]
["NE","New England Patriots",null,null,null,null,"Cam Newton",585.4,7.21,5.0999999999999997E-2,2.76E-2,76.5,4.83,3.9600000000000003E-2,0.01,1,0.9,1,{"$f":"((I23*Q23*H23*Settings!$D$15)+(J23*Q23*H23*Settings!$D$16)+(K23*H23*Settings!$D$17)+(M23*L23*Settings!$G$15)+(N23*L23*Settings!$G$16)+(O23*L23*Settings!$M$15))*R23*P23","v":280.70768399999997}]
["NYG","New York Giants","Joe Judge","Jason Garrett",null,null,"Daniel Jones",578.75,6.59,5.2299999999999999E-2,2.6100000000000002E-2,54.5,6.2,4.4400000000000002E-2,0.24440000000000001,1,1,1,{"$f":"((I24*Q24*H24*Settings!$D$15)+(J24*Q24*H24*Settings!$D$16)+(K24*H24*Settings!$D$17)+(M24*L24*Settings!$G$15)+(N24*L24*Settings!$G$16)+(O24*L24*Settings!$M$15))*R24*P24","v":265.09145000000001}]
["NYJ","New York Jets",null,null,"Denzel Mims","Robby Anderson","Sam Darnold",517.25,6.86,4.3099999999999999E-2,2.9499999999999998E-2,34.5,1.88,6.0600000000000001E-2,9.0899999999999995E-2,1,1,1.05,{"$f":"((I25*Q25*H25*Settings!$D$15)+(J25*Q25*H25*Settings!$D$16)+(K25*H25*Settings!$D$17)+(M25*L25*Settings!$G$15)+(N25*L25*Settings!$G$16)+(O25*L25*Settings!$M$15))*R25*P25","v":224.01503249999999}]
["LV","Las Vegas Raiders",null,null,"Henry Ruggs, Nelson Agholor",null,"Derek Carr",547.58000000000004,7.9,4.0899999999999999E-2,1.5599999999999999E-2,22.324999999999999,3.04,7.4099999999999999E-2,0.1111,1,1,1,{"$f":"((I26*Q26*H26*Settings!$D$15)+(J26*Q26*H26*Settings!$D$16)+(K26*H26*Settings!$D$17)+(M26*L26*Settings!$G$15)+(N26*L26*Settings!$G$16)+(O26*L26*Settings!$M$15))*R26*P26","v":257.28675199999998}]
["PHI","Philadelphia Eagles",null,"NONE","Jalen Reagor","Alshon Jeffery, Nelson Agholor","Carson Wentz",602,7.06,4.7619000000000002E-2,1.3899999999999999E-2,57.5,3.92,1.61E-2,0.1129,1,1,1,{"$f":"((I27*Q27*H27*Settings!$D$15)+(J27*Q27*H27*Settings!$D$16)+(K27*H27*Settings!$D$17)+(M27*L27*Settings!$G$15)+(N27*L27*Settings!$G$16)+(O27*L27*Settings!$M$15))*R27*P27","v":283.04675200000008}]
["PIT","Pittsburgh Steelers",null,null,"Chase Claypool","James Washington, Jaylen Samuels","Ben Roethlisberger",620.80999999999995,7.6,5.04E-2,2.3699999999999999E-2,28.75,3.16,9.6799999999999997E-2,0.2258,1,0.95,0.95,{"$f":"((I28*Q28*H28*Settings!$D$15)+(J28*Q28*H28*Settings!$D$16)+(K28*H28*Settings!$D$17)+(M28*L28*Settings!$G$15)+(N28*L28*Settings!$G$16)+(O28*L28*Settings!$M$15))*R28*P28","v":267.48253693999993}]
["SEA","Seattle Seahawks",null,null,null,null,"Russell Wilson",532,7.97,6.0100000000000001E-2,9.7000000000000003E-3,71,4.5599999999999996,0.04,2.6700000000000002E-2,1,1,0.95,{"$f":"((I29*Q29*H29*Settings!$D$15)+(J29*Q29*H29*Settings!$D$16)+(K29*H29*Settings!$D$17)+(M29*L29*Settings!$G$15)+(N29*L29*Settings!$G$16)+(O29*L29*Settings!$M$15))*R29*P29","v":316.15828999999997}]
["SF","San Francisco 49ers",null,null,"Brandon Aiyuk","Emmanuel Sanders","Jimmy Garoppolo",494.03,8.36,5.67E-2,2.7300000000000001E-2,42.5,1.35,2.1700000000000001E-2,0.1087,1,1,1.05,{"$f":"((I30*Q30*H30*Settings!$D$15)+(J30*Q30*H30*Settings!$D$16)+(K30*H30*Settings!$D$17)+(M30*L30*Settings!$G$15)+(N30*L30*Settings!$G$16)+(O30*L30*Settings!$M$15))*R30*P30","v":264.92245290000005}]
["TB","Tampa Bay Buccaneers",null,null,null,"Breshad Perriman","Tom Brady",615.84,6.62,3.9199999999999999E-2,1.3100000000000001E-2,22.25,1.31,0.1154,3.85E-2,1,1.2,0.95,{"$f":"((I31*Q31*H31*Settings!$D$15)+(J31*Q31*H31*Settings!$D$16)+(K31*H31*Settings!$D$17)+(M31*L31*Settings!$G$15)+(N31*L31*Settings!$G$16)+(O31*L31*Settings!$M$15))*R31*P31","v":296.43625655999995}]
["TEN","Tennessee Titans",null,null,null,null,"Ryan Tannehill",458.72,9.59,7.0000000000000007E-2,2.1000000000000001E-2,49,4.3,9.2999999999999999E-2,0.13950000000000001,1,0.85,0.95,{"$f":"((I32*Q32*H32*Settings!$D$15)+(J32*Q32*H32*Settings!$D$16)+(K32*H32*Settings!$D$17)+(M32*L32*Settings!$G$15)+(N32*L32*Settings!$G$16)+(O32*L32*Settings!$M$15))*R32*P32","v":260.50934503999997}]
["WAS","Washington Football Team","Ron Rivera","Scott Turner",null,null,"Dwayne Haskins",486,6.72,3.4500000000000003E-2,3.4500000000000003E-2,39.5,5.05,0.01,0.1,1,1.05,1.1000000000000001,{"$f":"((I33*Q33*H33*Settings!$D$15)+(J33*Q33*H33*Settings!$D$16)+(K33*H33*Settings!$D$17)+(M33*L33*Settings!$G$15)+(N33*L33*Settings!$G$16)+(O33*L33*Settings!$M$15))*R33*P33","v":207.32089400000007}]

{"sheet":"rb data","index":5,"n_rows":87,"n_cols":24,"rows_kept":87,"cut":false,"hidden":false,"merged":[]}
["Code","Abbr","Team","New HC","New OC","Name","Position","2019 Team","OLine","OLine","2019 QB","2020 QB","xTargets","xRush","Catch %","Yds/Tar","TD/Tar","Yds/Att","TD/Att","Fum/(Att+Tar)","QB Mod","OLine Mod","OLine Mod","Final xPts"]
[{"$f":"_xlfn.CONCAT(B2,F2)","v":"ARIKenyan Drake"},{"$f":"VLOOKUP(C2,'team abbr lookup'!B:C,2,FALSE)","v":"ARI"},"Arizona Cardinals","---","---","Kenyan Drake","RB1","Miami Dolphins",292.2,286.8,"Fitzpatrick / Tagovailoa","Kyler Murray",74,188,0.73209999999999997,5.58,3.5000000000000003E-2,4.72,4.1000000000000002E-2,1.0999999999999999E-2,1,0.99539999999999995,0.99080000000000001,{"$f":"(O2*M2*Settings!$J$17)+(P2*V2*U2*M2*Settings!$J$15)+(Q2*V2*U2*M2*Settings!$J$16)+(R2*W2*N2*Settings!$G$15)+(S2*W2*N2*Settings!$G$16)+(T2*(N2+M2)*Settings!$M$15)","v":238.72412}]
[{"$f":"_xlfn.CONCAT(B3,F3)","v":"ARIChase Edmonds"},{"$f":"VLOOKUP(C3,'team abbr lookup'!B:C,2,FALSE)","v":"ARI"},"Arizona Cardinals","---","---","Chase Edmonds","RB2","Arizona Cardinals",301.8,286.8,"Kyler Murray","Kyler Murray",26,85,0.67689999999999995,4.82,2.3E-2,4.5199999999999996,0.05,6.0000000000000001E-3,1,0.98760000000000003,0.97509999999999997,{"$f":"(O3*M3*Settings!$J$17)+(P3*V3*U3*M3*Settings!$J$15)+(Q3*V3*U3*M3*Settings!$J$16)+(R3*W3*N3*Settings!$G$15)+(S3*W3*N3*Settings!$G$16)+(T3*(N3+M3)*Settings!$M$15)","v":94.515904000000006}]
["ATLTodd Gurley",{"$f":"VLOOKUP(C4,'team abbr lookup'!B:C,2,FALSE)","v":"ATL"},"Atlanta Falcons","---","---","Todd Gurley","RB1","Los Angeles Rams",318.8,301.8,"Jared Goff","Matt Ryan",62,202,0.67600000000000005,5.55,4.5999999999999999E-2,4.22,0.04,8.9999999999999993E-3,1,0.98670000000000002,0.97330000000000005,{"$f":"(O4*M4*Settings!$J$17)+(P4*V4*U4*M4*Settings!$J$15)+(Q4*V4*U4*M4*Settings!$J$16)+(R4*W4*N4*Settings!$G$15)+(S4*W4*N4*Settings!$G$16)+(T4*(N4+M4)*Settings!$M$15)","v":218.1503266}]
["ATLIto Smith",{"$f":"VLOOKUP(C5,'team abbr lookup'!B:C,2,FALSE)","v":"ATL"},"Atlanta Falcons","---","---","Ito Smith","RB2","Atlanta Falcons",326,301.8,"Matt Ryan","Matt Ryan",27,66,0.81669999999999998,5.43,0.01,3.93,4.4999999999999998E-2,6.0000000000000001E-3,1,0.98140000000000005,0.96289999999999998,{"$f":"(O5*M5*Settings!$J$17)+(P5*V5*U5*M5*Settings!$J$15)+(Q5*V5*U5*M5*Settings!$J$16)+(R5*W5*N5*Settings!$G$15)+(S5*W5*N5*Settings!$G$16)+(T5*(N5+M5)*Settings!$M$15)","v":79.047651600000009}]
["ATLBrian Hill",{"$f":"VLOOKUP(C6,'team abbr lookup'!B:C,2,FALSE)","v":"ATL"},"Atlanta Falcons","---","---","Brian Hill","RB3","Atlanta Falcons",326,301.8,"Matt Ryan","Matt Ryan",19,55,0.7,4.9000000000000004,6.3E-2,4.5599999999999996,0.02,8.0000000000000002E-3,1,0.98140000000000005,0.96289999999999998,{"$f":"(O6*M6*Settings!$J$17)+(P6*V6*U6*M6*Settings!$J$15)+(Q6*V6*U6*M6*Settings!$J$16)+(R6*W6*N6*Settings!$G$15)+(S6*W6*N6*Settings!$G$16)+(T6*(N6+M6)*Settings!$M$15)","v":58.805920800000003}]
["BALMark Ingram",{"$f":"VLOOKUP(C7,'team abbr lookup'!B:C,2,FALSE)","v":"BAL"},"Baltimore Ravens","---","---","Mark Ingram","RB1","Baltimore Ravens",321.2,328.6,"Lamar Jackson","Lamar Jackson",24,159,0.85880000000000001,7.81,0.09,4.95,4.7E-2,8.9999999999999993E-3,1,1.0058,1.0115000000000001,{"$f":"(O7*M7*Settings!$J$17)+(P7*V7*U7*M7*Settings!$J$15)+(Q7*V7*U7*M7*Settings!$J$16)+(R7*W7*N7*Settings!$G$15)+(S7*W7*N7*Settings!$G$16)+(T7*(N7+M7)*Settings!$M$15)","v":174.16882770000004}]
["BALJ.K. Dobbins",{"$f":"VLOOKUP(C8,'team abbr lookup'!B:C,2,FALSE)","v":"BAL"},"Baltimore Ravens","---","---","J.K. Dobbins","RB2","---",321.2,328.6,"---","Lamar Jackson",18,147,0.75,5.99,0.02,4.21,2.5999999999999999E-2,6.0000000000000001E-3,1,1.0058,1.0115000000000001,{"$f":"(O8*M8*Settings!$J$17)+(P8*V8*U8*M8*Settings!$J$15)+(Q8*V8*U8*M8*Settings!$J$16)+(R8*W8*N8*Settings!$G$15)+(S8*W8*N8*Settings!$G$16)+(T8*(N8+M8)*Settings!$M$15)","v":110.3314821}]
["BUFDevin Singletary",{"$f":"VLOOKUP(C9,'team abbr lookup'!B:C,2,FALSE)","v":"BUF"},"Buffalo Bills","---","---","Devin Singletary","RB1","Buffalo Bills",311.39999999999998,300.60000000000002,"Josh Allen","Josh Allen",52,175,0.70730000000000004,4.7300000000000004,4.9000000000000002E-2,5.13,0.02,2.1000000000000001E-2,1,0.99129999999999996,0.98270000000000002,{"$f":"(O9*M9*Settings!$J$17)+(P9*V9*U9*M9*Settings!$J$15)+(Q9*V9*U9*M9*Settings!$J$16)+(R9*W9*N9*Settings!$G$15)+(S9*W9*N9*Settings!$G$16)+(T9*(N9+M9)*Settings!$M$15)","v":175.64120170000001}]
["BUFZack Moss",{"$f":"VLOOKUP(C10,'team abbr lookup'!B:C,2,FALSE)","v":"BUF"},"Buffalo Bills","---","---","Zack Moss","RB2","---",311.39999999999998,300.60000000000002,"---","Josh Allen",24,150,0.75,5.99,0.02,4.21,2.5999999999999999E-2,6.0000000000000001E-3,1,0.99129999999999996,0.98270000000000002,{"$f":"(O10*M10*Settings!$J$17)+(P10*V10*U10*M10*Settings!$J$15)+(Q10*V10*U10*M10*Settings!$J$16)+(R10*W10*N10*Settings!$G$15)+(S10*W10*N10*Settings!$G$16)+(T10*(N10+M10)*Settings!$M$15)","v":118.07055779999999}]
["CARChristian McCaffrey",{"$f":"VLOOKUP(C11,'team abbr lookup'!B:C,2,FALSE)","v":"CAR"},"Carolina Panthers","Matt Rhule","Joe Brady","Christian McCaffrey","RB1","Carolina Panthers",319.2,297.8,"Kyle Allen","Teddy Bridgewater",128,235,0.83089999999999997,7.05,3.7999999999999999E-2,4.88,4.2999999999999997E-2,7.0000000000000001E-3,1,0.98319999999999996,0.96650000000000003,{"$f":"(O11*M11*Settings!$J$17)+(P11*V11*U11*M11*Settings!$J$15)+(Q11*V11*U11*M11*Settings!$J$16)+(R11*W11*N11*Settings!$G$15)+(S11*W11*N11*Settings!$G$16)+(T11*(N11+M11)*Settings!$M$15)","v":388.12799180000002}]
["CARMike Davis",{"$f":"VLOOKUP(C12,'team abbr lookup'!B:C,2,FALSE)","v":"CAR"},"Carolina Panthers","Matt Rhule","Joe Brady","Mike Davis","RB2","Chicago Bears",303.8,297.8,"Mitchell Trubisky","Teddy Bridgewater",14,45,0.8276,4.45,0.02,4.12,3.2000000000000001E-2,3.0000000000000001E-3,1.1000000000000001,0.99509999999999998,0.99009999999999998,{"$f":"(O12*M12*Settings!$J$17)+(P12*V12*U12*M12*Settings!$J$15)+(Q12*V12*U12*M12*Settings!$J$16)+(R12*W12*N12*Settings!$G$15)+(S12*W12*N12*Settings!$G$16)+(T12*(N12+M12)*Settings!$M$15)","v":46.801683100000005}]
["CARReggie Bonnafon",{"$f":"VLOOKUP(C13,'team abbr lookup'!B:C,2,FALSE)","v":"CAR"},"Carolina Panthers","Matt Rhule","Joe Brady","Reggie Bonnafon","RB3","Carolina Panthers",319.2,297.8,"Kyle Allen","Teddy Bridgewater",7,35,0.66669999999999996,6.33,0.01,5,6.3E-2,0,1,0.98319999999999996,0.96650000000000003,{"$f":"(O13*M13*Settings!$J$17)+(P13*V13*U13*M13*Settings!$J$15)+(Q13*V13*U13*M13*Settings!$J$16)+(R13*W13*N13*Settings!$G$15)+(S13*W13*N13*Settings!$G$16)+(T13*(N13+M13)*Settings!$M$15)","v":39.136948200000006}]
["CHIDavid Montgomery",{"$f":"VLOOKUP(C14,'team abbr lookup'!B:C,2,FALSE)","v":"CHI"},"Chicago Bears","---","Bill Lazor","David Montgomery","RB1","Chicago Bears",303.8,303.39999999999998,"Mitchell Trubisky","Nick Foles",27,224,0.71430000000000005,5.29,2.9000000000000001E-2,3.67,2.5000000000000001E-2,7.0000000000000001E-3,1.1000000000000001,0.99970000000000003,0.99929999999999997,{"$f":"(O14*M14*Settings!$J$17)+(P14*V14*U14*M14*Settings!$J$15)+(Q14*V14*U14*M14*Settings!$J$16)+(R14*W14*N14*Settings!$G$15)+(S14*W14*N14*Settings!$G$16)+(T14*(N14+M14)*Settings!$M$15)","v":152.37187066999999}]
["CHITarik Cohen",{"$f":"VLOOKUP(C15,'team abbr lookup'!B:C,2,FALSE)","v":"CHI"},"Chicago Bears","---","Bill Lazor","Tarik Cohen","RB2","Chicago Bears",303.8,303.39999999999998,"Mitchell Trubisky","Nick Foles",82,86,0.76590000000000003,5.47,4.1000000000000002E-2,3.83,1.7999999999999999E-2,2.5000000000000001E-2,1.1000000000000001,0.99970000000000003,0.99929999999999997,{"$f":"(O15*M15*Settings!$J$17)+(P15*V15*U15*M15*Settings!$J$15)+(Q15*V15*U15*M15*Settings!$J$16)+(R15*W15*N15*Settings!$G$15)+(S15*W15*N15*Settings!$G$16)+(T15*(N15+M15)*Settings!$M$15)","v":168.10738322}]
["CINJoe Mixon",{"$f":"VLOOKUP(C16,'team abbr lookup'!B:C,2,FALSE)","v":"CIN"},"Cincinnati Bengals","---","---","Joe Mixon","RB1","Cincinnati Bengals",300.8,274.60000000000002,"Andy Dalton","Joe Burrow",49,254,0.77929999999999999,6,0.04,4.34,0.03,4.0000000000000001E-3,1.05,0.97819999999999996,0.95640000000000003,{"$f":"(O16*M16*Settings!$J$17)+(P16*V16*U16*M16*Settings!$J$15)+(Q16*V16*U16*M16*Settings!$J$16)+(R16*W16*N16*Settings!$G$15)+(S16*W16*N16*Settings!$G$16)+(T16*(N16+M16)*Settings!$M$15)","v":227.19386599999999}]
["CINGiovani Bernard",{"$f":"VLOOKUP(C17,'team abbr lookup'!B:C,2,FALSE)","v":"CIN"},"Cincinnati Bengals","---","---","Giovani Bernard","RB2","Cincinnati Bengals",300.8,274.60000000000002,"Andy Dalton","Joe Burrow",39,73,0.70899999999999996,5.12,0.01,3.4,2.8000000000000001E-2,5.0000000000000001E-3,1.05,0.97819999999999996,0.95640000000000003,{"$f":"(O17*M17*Settings!$J$17)+(P17*V17*U17*M17*Settings!$J$15)+(Q17*V17*U17*M17*Settings!$J$16)+(R17*W17*N17*Settings!$G$15)+(S17*W17*N17*Settings!$G$16)+(T17*(N17+M17)*Settings!$M$15)","v":84.910907480000006}]
["CLENick Chubb",{"$f":"VLOOKUP(C18,'team abbr lookup'!B:C,2,FALSE)","v":"CLE"},"Cleveland Browns","Kevin Stefanski","Alex Van Pelt","Nick Chubb","RB1","Cleveland Browns",314.2,302.8,"Baker Mayfield","Baker Mayfield",30,247,0.72440000000000004,5.55,2.5999999999999999E-2,5.0599999999999996,3.3000000000000002E-2,5.0000000000000001E-3,1.05,0.9909,0.9819,{"$f":"(O18*M18*Settings!$J$17)+(P18*V18*U18*M18*Settings!$J$15)+(Q18*V18*U18*M18*Settings!$J$16)+(R18*W18*N18*Settings!$G$15)+(S18*W18*N18*Settings!$G$16)+(T18*(N18+M18)*Settings!$M$15)","v":211.89531904999998}]
["CLEKareem Hunt",{"$f":"VLOOKUP(C19,'team abbr lookup'!B:C,2,FALSE)","v":"CLE"},"Cleveland Browns","Kevin Stefanski","Alex Van Pelt","Kareem Hunt","RB2","Cleveland Browns",314.2,302.8,"Baker Mayfield","Baker Mayfield",51,104,0.81299999999999994,7.71,0.05,4.43,0.04,3.0000000000000001E-3,1.05,0.9909,0.9819,{"$f":"(O19*M19*Settings!$J$17)+(P19*V19*U19*M19*Settings!$J$15)+(Q19*V19*U19*M19*Settings!$J$16)+(R19*W19*N19*Settings!$G$15)+(S19*W19*N19*Settings!$G$16)+(T19*(N19+M19)*Settings!$M$15)","v":167.109467145}]
["DALEzekiel Elliott",{"$f":"VLOOKUP(C20,'team abbr lookup'!B:C,2,FALSE)","v":"DAL"},"Dallas Cowboys","Mike McCarthy","---","Ezekiel Elliott","RB1","Dallas Cowboys",358.6,337.2,"Dak Prescott","Dak Prescott",79,307,0.78059999999999996,5.94,0.03,4.58,0.03,1.0999999999999999E-2,0.95,0.98509999999999998,0.97019999999999995,{"$f":"(O20*M20*Settings!$J$17)+(P20*V20*U20*M20*Settings!$J$15)+(Q20*V20*U20*M20*Settings!$J$16)+(R20*W20*N20*Settings!$G$15)+(S20*W20*N20*Settings!$G$16)+(T20*(N20+M20)*Settings!$M$15)","v":300.42777156999995}]
["DALTony Pollard",{"$f":"VLOOKUP(C21,'team abbr lookup'!B:C,2,FALSE)","v":"DAL"},"Dallas Cowboys","Mike McCarthy","---","Tony Pollard","RB2","Dallas Cowboys",358.6,337.2,"Dak Prescott","Dak Prescott",34,104,0.75,5.35,0.05,5.29,2.3E-2,8.9999999999999993E-3,0.95,0.98509999999999998,0.97019999999999995,{"$f":"(O21*M21*Settings!$J$17)+(P21*V21*U21*M21*Settings!$J$15)+(Q21*V21*U21*M21*Settings!$J$16)+(R21*W21*N21*Settings!$G$15)+(S21*W21*N21*Settings!$G$16)+(T21*(N21+M21)*Settings!$M$15)","v":116.88547315000001}]
["DENMelvin Gordon",{"$f":"VLOOKUP(C22,'team abbr lookup'!B:C,2,FALSE)","v":"DEN"},"Denver Broncos","---","Pat Shurmur","Melvin Gordon","RB1","Los Angeles Chargers",304.60000000000002,284.39999999999998,"Philip Rivers","Drew Lock",48,182,0.76139999999999997,6.15,4.1000000000000002E-2,4.2300000000000004,5.2999999999999999E-2,0.01,1,0.98340000000000005,0.96679999999999999,{"$f":"(O22*M22*Settings!$J$17)+(P22*V22*U22*M22*Settings!$J$15)+(Q22*V22*U22*M22*Settings!$J$16)+(R22*W22*N22*Settings!$G$15)+(S22*W22*N22*Settings!$G$16)+(T22*(N22+M22)*Settings!$M$15)","v":202.97373680000001}]
["DENPhillip Lindsay",{"$f":"VLOOKUP(C23,'team abbr lookup'!B:C,2,FALSE)","v":"DEN"},"Denver Broncos","---","Pat Shurmur","Phillip Lindsay","RB2","Denver Broncos",301.8,284.39999999999998,"Joe Flacco","Drew Lock",37,128,0.73429999999999995,4.43,1.0999999999999999E-2,4.78,3.7999999999999999E-2,0,1.1000000000000001,0.98560000000000003,0.97119999999999995,{"$f":"(O23*M23*Settings!$J$17)+(P23*V23*U23*M23*Settings!$J$15)+(Q23*V23*U23*M23*Settings!$J$16)+(R23*W23*N23*Settings!$G$15)+(S23*W23*N23*Settings!$G$16)+(T23*(N23+M23)*Settings!$M$15)","v":135.35248687999999}]
["DENRoyce Freeman",{"$f":"VLOOKUP(C24,'team abbr lookup'!B:C,2,FALSE)","v":"DEN"},"Denver Broncos","---","Pat Shurmur","Royce Freeman","RB3","Denver Broncos",301.8,284.39999999999998,"Joe Flacco","Drew Lock",19,38,0.83330000000000004,4.87,1.4E-2,3.84,3.1E-2,3.0000000000000001E-3,1.1000000000000001,0.98560000000000003,0.97119999999999995,{"$f":"(O24*M24*Settings!$J$17)+(P24*V24*U24*M24*Settings!$J$15)+(Q24*V24*U24*M24*Settings!$J$16)+(R24*W24*N24*Settings!$G$15)+(S24*W24*N24*Settings!$G$16)+(T24*(N24+M24)*Settings!$M$15)","v":48.288943840000009}]
["DETD'Andre Swift",{"$f":"VLOOKUP(C25,'team abbr lookup'!B:C,2,FALSE)","v":"DET"},"Detroit Lions","---","---","D'Andre Swift","RB1","---",297.2,288.39999999999998,"---","Matt Stafford",41,167,0.75,5.99,0.02,4.21,2.5999999999999999E-2,6.0000000000000001E-3,1,0.99260000000000004,0.98519999999999996,{"$f":"(O25*M25*Settings!$J$17)+(P25*V25*U25*M25*Settings!$J$15)+(Q25*V25*U25*M25*Settings!$J$16)+(R25*W25*N25*Settings!$G$15)+(S25*W25*N25*Settings!$G$16)+(T25*(N25+M25)*Settings!$M$15)","v":152.44774219999999}]
["DETKerryon Johnson",{"$f":"VLOOKUP(C26,'team abbr lookup'!B:C,2,FALSE)","v":"DET"},"Detroit Lions","---","---","Kerryon Johnson","RB2","Detroit Lions",297.2,288.39999999999998,"Matt Stafford","Matt Stafford",32,153,0.75360000000000005,6.77,3.6999999999999998E-2,4.21,2.5999999999999999E-2,7.0000000000000001E-3,1.05,0.99260000000000004,0.98519999999999996,{"$f":"(O26*M26*Settings!$J$17)+(P26*V26*U26*M26*Settings!$J$15)+(Q26*V26*U26*M26*Settings!$J$16)+(R26*W26*N26*Settings!$G$15)+(S26*W26*N26*Settings!$G$16)+(T26*(N26+M26)*Settings!$M$15)","v":138.48251384}]
["GBAaron Jones",{"$f":"VLOOKUP(C27,'team abbr lookup'!B:C,2,FALSE)","v":"GB"},"Green Bay Packers","---","---","Aaron Jones","RB1","Green Bay Packers",328.2,324.8,"Aaron Rodgers","Aaron Rodgers",57,176,0.72509999999999997,6.75,3.9E-2,4.79,0.06,7.0000000000000001E-3,1,0.99739999999999995,0.99480000000000002,{"$f":"(O27*M27*Settings!$J$17)+(P27*V27*U27*M27*Settings!$J$15)+(Q27*V27*U27*M27*Settings!$J$16)+(R27*W27*N27*Settings!$G$15)+(S27*W27*N27*Settings!$G$16)+(T27*(N27+M27)*Settings!$M$15)","v":236.64313340000001}]
["GBJamaal Williams",{"$f":"VLOOKUP(C28,'team abbr lookup'!B:C,2,FALSE)","v":"GB"},"Green Bay Packers","---","---","Jamaal Williams","RB2","Green Bay Packers",328.2,324.8,"Aaron Rodgers","Aaron Rodgers",31,55,0.80149999999999999,5.47,5.8000000000000003E-2,4.13,1.7999999999999999E-2,0,1,0.99739999999999995,0.99480000000000002,{"$f":"(O28*M28*Settings!$J$17)+(P28*V28*U28*M28*Settings!$J$15)+(Q28*V28*U28*M28*Settings!$J$16)+(R28*W28*N28*Settings!$G$15)+(S28*W28*N28*Settings!$G$16)+(T28*(N28+M28)*Settings!$M$15)","v":81.025356999999985}]
["GBAJ Dillon",{"$f":"VLOOKUP(C29,'team abbr lookup'!B:C,2,FALSE)","v":"GB"},"Green Bay Packers","---","---","AJ Dillon","RB3","---",328.2,324.8,"---","Aaron Rodgers",11,91,0.75,5.99,0.02,4.21,2.5999999999999999E-2,6.0000000000000001E-3,1,0.99739999999999995,0.99480000000000002,{"$f":"(O29*M29*Settings!$J$17)+(P29*V29*U29*M29*Settings!$J$15)+(Q29*V29*U29*M29*Settings!$J$16)+(R29*W29*N29*Settings!$G$15)+(S29*W29*N29*Settings!$G$16)+(T29*(N29+M29)*Settings!$M$15)","v":67.148400199999998}]
["HOUDavid Johnson",{"$f":"VLOOKUP(C30,'team abbr lookup'!B:C,2,FALSE)","v":"HOU"},"Houston Texans","---","---","David Johnson","RB1","Arizona Cardinals",301.8,296,"Kyler Murray","Deshaun Watson",55,225,0.71760000000000002,6.98,5.7000000000000002E-2,3.65,2.5999999999999999E-2,1.4E-2,1,0.99519999999999997,0.99039999999999995,{"$f":"(O30*M30*Settings!$J$17)+(P30*V30*U30*M30*Settings!$J$15)+(Q30*V30*U30*M30*Settings!$J$16)+(R30*W30*N30*Settings!$G$15)+(S30*W30*N30*Settings!$G$16)+(T30*(N30+M30)*Settings!$M$15)","v":204.65307999999999}]
["HOUDuke Johnson",{"$f":"VLOOKUP(C31,'team abbr lookup'!B:C,2,FALSE)","v":"HOU"},"Houston Texans","---","---","Duke Johnson","RB2","Houston Texans",312.2,296,"Deshaun Watson","Deshaun Watson",51,89,0.7258,6.72,4.8000000000000001E-2,4.96,1.6E-2,1.2E-2,1,0.98699999999999999,0.97409999999999997,{"$f":"(O31*M31*Settings!$J$17)+(P31*V31*U31*M31*Settings!$J$15)+(Q31*V31*U31*M31*Settings!$J$16)+(R31*W31*N31*Settings!$G$15)+(S31*W31*N31*Settings!$G$16)+(T31*(N31+M31)*Settings!$M$15)","v":133.3027008}]
["INDJonathan Taylor",{"$f":"VLOOKUP(C32,'team abbr lookup'!B:C,2,FALSE)","v":"IND"},"Indianapolis Colts","---","---","Jonathan Taylor","RB1","---",328.6,331.8,"---","Philip Rivers",29,188,0.75,5.99,0.02,4.21,2.5999999999999999E-2,6.0000000000000001E-3,1,1.0024,1.0048999999999999,{"$f":"(O32*M32*Settings!$J$17)+(P32*V32*U32*M32*Settings!$J$15)+(Q32*V32*U32*M32*Settings!$J$16)+(R32*W32*N32*Settings!$G$15)+(S32*W32*N32*Settings!$G$16)+(T32*(N32+M32)*Settings!$M$15)","v":149.05457479999998}]
["INDMarlon Mack",{"$f":"VLOOKUP(C33,'team abbr lookup'!B:C,2,FALSE)","v":"IND"},"Indianapolis Colts","---","---","Marlon Mack","RB2","Indianapolis Colts",328.6,331.8,"Jacoby Brissett","Philip Rivers",17,162,0.75,4.45,2.3E-2,4.4800000000000004,3.7999999999999999E-2,5.0000000000000001E-3,1,1.0024,1.0048999999999999,{"$f":"(O33*M33*Settings!$J$17)+(P33*V33*U33*M33*Settings!$J$15)+(Q33*V33*U33*M33*Settings!$J$16)+(R33*W33*N33*Settings!$G$15)+(S33*W33*N33*Settings!$G$16)+(T33*(N33+M33)*Settings!$M$15)","v":130.94339520000003}]
["INDNyheim Hines",{"$f":"VLOOKUP(C34,'team abbr lookup'!B:C,2,FALSE)","v":"IND"},"Indianapolis Colts","---","---","Nyheim Hines","RB3","Indianapolis Colts",328.6,331.8,"Jacoby Brissett","Philip Rivers",50,52,0.76649999999999996,5.41,1.4E-2,3.77,2.9000000000000001E-2,7.0000000000000001E-3,1,1.0024,1.0048999999999999,{"$f":"(O34*M34*Settings!$J$17)+(P34*V34*U34*M34*Settings!$J$15)+(Q34*V34*U34*M34*Settings!$J$16)+(R34*W34*N34*Settings!$G$15)+(S34*W34*N34*Settings!$G$16)+(T34*(N34+M34)*Settings!$M$15)","v":97.014394800000005}]
["JACChris Thompson",{"$f":"VLOOKUP(C35,'team abbr lookup'!B:C,2,FALSE)","v":"JAC"},"Jacksonville Jaguars","---","Jay Gruden","Chris Thompson","RB1","Washington Football Team",322,303,"Case Keenum","Gardner Minshew",70,39,0.73099999999999998,5.99,0.02,3.88,2.5999999999999999E-2,1.7000000000000001E-2,1,0.98519999999999996,0.97050000000000003,{"$f":"(O35*M35*Settings!$J$17)+(P35*V35*U35*M35*Settings!$J$15)+(Q35*V35*U35*M35*Settings!$J$16)+(R35*W35*N35*Settings!$G$15)+(S35*W35*N35*Settings!$G$16)+(T35*(N35+M35)*Settings!$M$15)","v":117.63924400000002}]
["JACRyquell Armstead",{"$f":"VLOOKUP(C36,'team abbr lookup'!B:C,2,FALSE)","v":"JAC"},"Jacksonville Jaguars","---","Jay Gruden","Ryquell Armstead","RB2","Jacksonville Jaguars",313.39999999999998,303,"Gardner Minshew","Gardner Minshew",33,116,0.58330000000000004,6,8.3000000000000004E-2,3.09,2.5999999999999999E-2,0.01,0.95,0.99170000000000003,0.98340000000000005,{"$f":"(O36*M36*Settings!$J$17)+(P36*V36*U36*M36*Settings!$J$15)+(Q36*V36*U36*M36*Settings!$J$16)+(R36*W36*N36*Settings!$G$15)+(S36*W36*N36*Settings!$G$16)+(T36*(N36+M36)*Settings!$M$15)","v":103.45009091}]
["JACDevine Ozigbo",{"$f":"VLOOKUP(C37,'team abbr lookup'!B:C,2,FALSE)","v":"JAC"},"Jacksonville Jaguars","---","Jay Gruden","Devine Ozigbo","RB3","Jacksonville Jaguars",313.39999999999998,303,"Gardner Minshew","Gardner Minshew",21,88,0.6,4.5999999999999996,0.02,3,2.5999999999999999E-2,0.01,0.95,0.99170000000000003,0.98340000000000005,{"$f":"(O37*M37*Settings!$J$17)+(P37*V37*U37*M37*Settings!$J$15)+(Q37*V37*U37*M37*Settings!$J$16)+(R37*W37*N37*Settings!$G$15)+(S37*W37*N37*Settings!$G$16)+(T37*(N37+M37)*Settings!$M$15)","v":61.3568359}]
["KCClyde Edwards-Helaire",{"$f":"VLOOKUP(C38,'team abbr lookup'!B:C,2,FALSE)","v":"KC"},"Kansas City Chiefs","---","---","Clyde Edwards-Helaire","RB1","---",311,304.2,"---","Patrick Mahomes",63,196,0.76990000000000003,6.5,5.3999999999999999E-2,4.57,4.4999999999999998E-2,8.9999999999999993E-3,1,0.99450000000000005,0.98909999999999998,{"$f":"(O38*M38*Settings!$J$17)+(P38*V38*U38*M38*Settings!$J$15)+(Q38*V38*U38*M38*Settings!$J$16)+(R38*W38*N38*Settings!$G$15)+(S38*W38*N38*Settings!$G$16)+(T38*(N38+M38)*Settings!$M$15)","v":245.80504619999999}]
["KCDarrel Williams",{"$f":"VLOOKUP(C39,'team abbr lookup'!B:C,2,FALSE)","v":"KC"},"Kansas City Chiefs","---","---","Darrel Williams","RB2","Kansas City Chiefs",311,304.2,"Patrick Mahomes","Patrick Mahomes",16,76,0.80489999999999995,8.8000000000000007,9.0999999999999998E-2,3.43,5.6000000000000001E-2,1.2999999999999999E-2,1,0.99450000000000005,0.98909999999999998,{"$f":"(O39*M39*Settings!$J$17)+(P39*V39*U39*M39*Settings!$J$15)+(Q39*V39*U39*M39*Settings!$J$16)+(R39*W39*N39*Settings!$G$15)+(S39*W39*N39*Settings!$G$16)+(T39*(N39+M39)*Settings!$M$15)","v":84.218428399999993}]
["KCDeAndre Washington",{"$f":"VLOOKUP(C40,'team abbr lookup'!B:C,2,FALSE)","v":"KC"},"Kansas City Chiefs","---","---","DeAndre Washington","RB3","Las Vegas Raiders",320,304.2,"Derek Carr","Patrick Mahomes",11,29,0.87949999999999995,7.14,0.01,3.61,2.1999999999999999E-2,0.01,1.1000000000000001,0.98770000000000002,0.97529999999999994,{"$f":"(O40*M40*Settings!$J$17)+(P40*V40*U40*M40*Settings!$J$15)+(Q40*V40*U40*M40*Settings!$J$16)+(R40*W40*N40*Settings!$G$15)+(S40*W40*N40*Settings!$G$16)+(T40*(N40+M40)*Settings!$M$15)","v":32.068569679999996}]
["LACAustin Ekeler",{"$f":"VLOOKUP(C41,'team abbr lookup'!B:C,2,FALSE)","v":"LAC"},"Los Angeles Chargers","---","Shane Steichen","Austin Ekeler","RB1","Los Angeles Chargers",304.60000000000002,311.39999999999998,"Philip Rivers","Justin Herbert/Tyrod Taylor",80,146,0.82899999999999996,8.8800000000000008,6.8000000000000005E-2,4.51,2.5000000000000001E-2,1.2E-2,0.9,1.0056,1.0112000000000001,{"$f":"(O41*M41*Settings!$J$17)+(P41*V41*U41*M41*Settings!$J$15)+(Q41*V41*U41*M41*Settings!$J$16)+(R41*W41*N41*Settings!$G$15)+(S41*W41*N41*Settings!$G$16)+(T41*(N41+M41)*Settings!$M$15)","v":243.45930240000004}]
["LACJustin Jackson",{"$f":"VLOOKUP(C42,'team abbr lookup'!B:C,2,FALSE)","v":"LAC"},"Los Angeles Chargers","---","Shane Steichen","Justin Jackson","RB2","Los Angeles Chargers",304.60000000000002,311.39999999999998,"Philip Rivers","Justin Herbert/Tyrod Taylor",18,74,0.80489999999999995,4.37,0.01,5.61,2.5000000000000001E-2,0,0.9,1.0056,1.0112000000000001,{"$f":"(O42*M42*Settings!$J$17)+(P42*V42*U42*M42*Settings!$J$15)+(Q42*V42*U42*M42*Settings!$J$16)+(R42*W42*N42*Settings!$G$15)+(S42*W42*N42*Settings!$G$16)+(T42*(N42+M42)*Settings!$M$15)","v":75.787964640000013}]
["LACJoshua Kelley",{"$f":"VLOOKUP(C43,'team abbr lookup'!B:C,2,FALSE)","v":"LAC"},"Los Angeles Chargers","---","Shane Steichen","Joshua Kelley","RB3","---",304.60000000000002,311.39999999999998,"---","Justin Herbert/Tyrod Taylor",11,102,0.75,5.99,0.02,4.21,2.5999999999999999E-2,6.0000000000000001E-3,1,1.0056,1.0112000000000001,{"$f":"(O43*M43*Settings!$J$17)+(P43*V43*U43*M43*Settings!$J$15)+(Q43*V43*U43*M43*Settings!$J$16)+(R43*W43*N43*Settings!$G$15)+(S43*W43*N43*Settings!$G$16)+(T43*(N43+M43)*Settings!$M$15)","v":74.360455200000018}]
["LARCam Akers",{"$f":"VLOOKUP(C44,'team abbr lookup'!B:C,2,FALSE)","v":"LAR"},"Los Angeles Rams","---","Kevin O'Connell","Cam Akers","RB1","---",318.8,304.2,"---","Jared Goff",40,165,0.77270000000000005,6.15,3.7999999999999999E-2,4.57,3.5999999999999997E-2,8.9999999999999993E-3,1,0.98860000000000003,0.97709999999999997,{"$f":"(O44*M44*Settings!$J$17)+(P44*V44*U44*M44*Settings!$J$15)+(Q44*V44*U44*M44*Settings!$J$16)+(R44*W44*N44*Settings!$G$15)+(S44*W44*N44*Settings!$G$16)+(T44*(N44+M44)*Settings!$M$15)","v":169.05566150000004}]
["LARDarrell Henderson",{"$f":"VLOOKUP(C45,'team abbr lookup'!B:C,2,FALSE)","v":"LAR"},"Los Angeles Rams","---","Kevin O'Connell","Darrell Henderson","RB2","Los Angeles Rams",318.8,304.2,"Jared Goff","Jared Goff",32,114,0.75,5.99,0.02,4.21,2.5999999999999999E-2,6.0000000000000001E-3,0.95,0.98860000000000003,0.97709999999999997,{"$f":"(O45*M45*Settings!$J$17)+(P45*V45*U45*M45*Settings!$J$15)+(Q45*V45*U45*M45*Settings!$J$16)+(R45*W45*N45*Settings!$G$15)+(S45*W45*N45*Settings!$G$16)+(T45*(N45+M45)*Settings!$M$15)","v":108.12810716}]
["LARMalcolm Brown",{"$f":"VLOOKUP(C46,'team abbr lookup'!B:C,2,FALSE)","v":"LAR"},"Los Angeles Rams","---","Kevin O'Connell","Malcolm Brown","RB3","Los Angeles Rams",318.8,304.2,"Jared Goff","Jared Goff",14,64,0.47370000000000001,4.42,7.6999999999999999E-2,3.99,4.4999999999999998E-2,8.9999999999999993E-3,0.95,0.98860000000000003,0.97709999999999997,{"$f":"(O46*M46*Settings!$J$17)+(P46*V46*U46*M46*Settings!$J$15)+(Q46*V46*U46*M46*Settings!$J$16)+(R46*W46*N46*Settings!$G$15)+(S46*W46*N46*Settings!$G$16)+(T46*(N46+M46)*Settings!$M$15)","v":58.949449119999997}]
["MIAMatt Breida",{"$f":"VLOOKUP(C47,'team abbr lookup'!B:C,2,FALSE)","v":"MIA"},"Miami Dolphins","---","Chan Gailey","Matt Breida","RB1","San Francisco 49ers",326.39999999999998,283.2,"Jimmy Garoppolo","Ryan Fitzpatrick",36,109,0.86670000000000003,6.68,5.7000000000000002E-2,5.16,1.4E-2,8.9999999999999993E-3,1,0.96689999999999998,0.93379999999999996,{"$f":"(O47*M47*Settings!$J$17)+(P47*V47*U47*M47*Settings!$J$15)+(Q47*V47*U47*M47*Settings!$J$16)+(R47*W47*N47*Settings!$G$15)+(S47*W47*N47*Settings!$G$16)+(T47*(N47+M47)*Settings!$M$15)","v":124.81820400000001}]
["MIAJordan Howard",{"$f":"VLOOKUP(C48,'team abbr lookup'!B:C,2,FALSE)","v":"MIA"},"Miami Dolphins","---","Chan Gailey","Jordan Howard","RB2","Philadelphia Eagles",342,283.2,"Carson Wentz","Ryan Fitzpatrick",20,132,0.74070000000000003,5.24,2.5000000000000001E-2,4.07,4.1000000000000002E-2,5.0000000000000001E-3,1,0.95699999999999996,0.91400000000000003,{"$f":"(O48*M48*Settings!$J$17)+(P48*V48*U48*M48*Settings!$J$15)+(Q48*V48*U48*M48*Settings!$J$16)+(R48*W48*N48*Settings!$G$15)+(S48*W48*N48*Settings!$G$16)+(T48*(N48+M48)*Settings!$M$15)","v":104.97750400000002}]
["MINDalvin Cook",{"$f":"VLOOKUP(C49,'team abbr lookup'!B:C,2,FALSE)","v":"MIN"},"Minnesota Vikings","---","Gary Kubiak","Dalvin Cook","RB1","Minnesota Vikings",298.60000000000002,289.2,"Kirk Cousins","Kirk Cousins",61,283,0.83430000000000004,7.67,1.7999999999999999E-2,4.5599999999999996,3.9E-2,1.2E-2,1,0.99209999999999998,0.98429999999999995,{"$f":"(O49*M49*Settings!$J$17)+(P49*V49*U49*M49*Settings!$J$15)+(Q49*V49*U49*M49*Settings!$J$16)+(R49*W49*N49*Settings!$G$15)+(S49*W49*N49*Settings!$G$16)+(T49*(N49+M49)*Settings!$M$15)","v":287.79389849999995}]
["MINAlexander Mattison",{"$f":"VLOOKUP(C50,'team abbr lookup'!B:C,2,FALSE)","v":"MIN"},"Minnesota Vikings","---","Gary Kubiak","Alexander Mattison","RB2","Minnesota Vikings",298.60000000000002,289.2,"Kirk Cousins","Kirk Cousins",13,137,0.83330000000000004,6.83,0.01,4.62,0.01,8.9999999999999993E-3,1,0.99209999999999998,0.98429999999999995,{"$f":"(O50*M50*Settings!$J$17)+(P50*V50*U50*M50*Settings!$J$15)+(Q50*V50*U50*M50*Settings!$J$16)+(R50*W50*N50*Settings!$G$15)+(S50*W50*N50*Settings!$G$16)+(T50*(N50+M50)*Settings!$M$15)","v":88.106824099999997}]
["NOAlvin Kamara",{"$f":"VLOOKUP(C51,'team abbr lookup'!B:C,2,FALSE)","v":"NO"},"New Orleans Saints","---","---","Alvin Kamara","RB1","New Orleans Saints",320.60000000000002,328.4,"Drew Brees","Drew Brees",99,202,0.81599999999999995,6.02,2.1000000000000001E-2,4.66,4.3999999999999997E-2,1.2E-2,0.98,1.0061,1.0122,{"$f":"(O51*M51*Settings!$J$17)+(P51*V51*U51*M51*Settings!$J$15)+(Q51*V51*U51*M51*Settings!$J$16)+(R51*W51*N51*Settings!$G$15)+(S51*W51*N51*Settings!$G$16)+(T51*(N51+M51)*Settings!$M$15)","v":293.880418416}]
["NOLatavius Murray",{"$f":"VLOOKUP(C52,'team abbr lookup'!B:C,2,FALSE)","v":"NO"},"New Orleans Saints","---","---","Latavius Murray","RB2","New Orleans Saints",320.60000000000002,328.4,"Drew Brees","Drew Brees",26,136,0.80359999999999998,5.46,1.4E-2,4.29,3.7999999999999999E-2,6.0000000000000001E-3,0.98,1.0061,1.0122,{"$f":"(O52*M52*Settings!$J$17)+(P52*V52*U52*M52*Settings!$J$15)+(Q52*V52*U52*M52*Settings!$J$16)+(R52*W52*N52*Settings!$G$15)+(S52*W52*N52*Settings!$G$16)+(T52*(N52+M52)*Settings!$M$15)","v":125.54201404}]
["NEJames White",{"$f":"VLOOKUP(C53,'team abbr lookup'!B:C,2,FALSE)","v":"NE"},"New England Patriots","---","---","James White","RB1","New England Patriots",330.8,314,"Tom Brady","Cam Newton",93,41,0.73799999999999999,6.52,5.5E-2,4.17,3.6999999999999998E-2,1E-3,0.8,0.98729999999999996,0.97460000000000002,{"$f":"(O53*M53*Settings!$J$17)+(P53*V53*U53*M53*Settings!$J$15)+(Q53*V53*U53*M53*Settings!$J$16)+(R53*W53*N53*Settings!$G$15)+(S53*W53*N53*Settings!$G$16)+(T53*(N53+M53)*Settings!$M$15)","v":166.03247324}]
["NESony Michel",{"$f":"VLOOKUP(C54,'team abbr lookup'!B:C,2,FALSE)","v":"NE"},"New England Patriots","---","---","Sony Michel","RB2","New England Patriots",330.8,314,"Tom Brady","Cam Newton",22,111,0.60780000000000001,4.67,0.01,3.92,2.9000000000000001E-2,6.0000000000000001E-3,0.8,0.98729999999999996,0.97460000000000002,{"$f":"(O54*M54*Settings!$J$17)+(P54*V54*U54*M54*Settings!$J$15)+(Q54*V54*U54*M54*Settings!$J$16)+(R54*W54*N54*Settings!$G$15)+(S54*W54*N54*Settings!$G$16)+(T54*(N54+M54)*Settings!$M$15)","v":82.163224560000003}]
["NERex Burkhead",{"$f":"VLOOKUP(C55,'team abbr lookup'!B:C,2,FALSE)","v":"NE"},"New England Patriots","---","---","Rex Burkhead","RB3","New England Patriots",330.8,314,"Tom Brady","Cam Newton",31,35,0.70830000000000004,7.18,1.7000000000000001E-2,4.22,2.5000000000000001E-2,1.4999999999999999E-2,0.8,0.98729999999999996,0.97460000000000002,{"$f":"(O55*M55*Settings!$J$17)+(P55*V55*U55*M55*Settings!$J$15)+(Q55*V55*U55*M55*Settings!$J$16)+(R55*W55*N55*Settings!$G$15)+(S55*W55*N55*Settings!$G$16)+(T55*(N55+M55)*Settings!$M$15)","v":59.566524799999996}]
["NEDamien Harris",{"$f":"VLOOKUP(C56,'team abbr lookup'!B:C,2,FALSE)","v":"NE"},"New England Patriots","---","---","Damien Harris","RB4","New England Patriots",330.8,314,"Tom Brady","Cam Newton",10,90,0.75,5.99,0.02,4.21,2.5999999999999999E-2,6.0000000000000001E-3,0.8,0.98729999999999996,0.97460000000000002,{"$f":"(O56*M56*Settings!$J$17)+(P56*V56*U56*M56*Settings!$J$15)+(Q56*V56*U56*M56*Settings!$J$16)+(R56*W56*N56*Settings!$G$15)+(S56*W56*N56*Settings!$G$16)+(T56*(N56+M56)*Settings!$M$15)","v":62.589927599999996}]
["NELamar Miller",{"$f":"VLOOKUP(C57,'team abbr lookup'!B:C,2,FALSE)","v":"NE"},"New England Patriots","---","---","Lamar Miller","RB5","Houston Texans",312.2,314,"---","Cam Newton",17,60,0.74780000000000002,5.68,0.05,4.3099999999999996,1.7999999999999999E-2,6.0000000000000001E-3,1,1.0014000000000001,1.0028999999999999,{"$f":"(O57*M57*Settings!$J$17)+(P57*V57*U57*M57*Settings!$J$15)+(Q57*V57*U57*M57*Settings!$J$16)+(R57*W57*N57*Settings!$G$15)+(S57*W57*N57*Settings!$G$16)+(T57*(N57+M57)*Settings!$M$15)","v":58.999044399999995}]
["NYGSaquon Barkley",{"$f":"VLOOKUP(C58,'team abbr lookup'!B:C,2,FALSE)","v":"NYG"},"New York Giants","Joe Judge","Jason Garrett","Saquon Barkley","RB1","New York Giants",311.8,292,"Daniel Jones","Daniel Jones",83,286,0.73029999999999995,5.98,3.1E-2,4.7699999999999996,3.5999999999999997E-2,1E-3,1,0.98409999999999997,0.96819999999999995,{"$f":"(O58*M58*Settings!$J$17)+(P58*V58*U58*M58*Settings!$J$15)+(Q58*V58*U58*M58*Settings!$J$16)+(R58*W58*N58*Settings!$G$15)+(S58*W58*N58*Settings!$G$16)+(T58*(N58+M58)*Settings!$M$15)","v":315.80955880000005}]
["NYGDion Lewis",{"$f":"VLOOKUP(C59,'team abbr lookup'!B:C,2,FALSE)","v":"NYG"},"New York Giants","Joe Judge","Jason Garrett","Dion Lewis","RB2","Tennessee Titans",310.2,292,"Ryan Tannehill","Daniel Jones",25,54,0.83209999999999995,5.56,0.02,3.56,5.0000000000000001E-3,8.0000000000000002E-3,1,0.98529999999999995,0.97070000000000001,{"$f":"(O59*M59*Settings!$J$17)+(P59*V59*U59*M59*Settings!$J$15)+(Q59*V59*U59*M59*Settings!$J$16)+(R59*W59*N59*Settings!$G$15)+(S59*W59*N59*Settings!$G$16)+(T59*(N59+M59)*Settings!$M$15)","v":56.423340799999998}]
["NYJLe'Veon Bell",{"$f":"VLOOKUP(C60,'team abbr lookup'!B:C,2,FALSE)","v":"NYJ"},"New York Jets","---","---","Le'Veon Bell","RB1","New York Jets",304.8,295.39999999999998,"Sam Darnold","Sam Darnold",62,207,0.82820000000000005,6.02,1.6E-2,3.54,2.1000000000000001E-2,5.0000000000000001E-3,1.05,0.99229999999999996,0.98460000000000003,{"$f":"(O60*M60*Settings!$J$17)+(P60*V60*U60*M60*Settings!$J$15)+(Q60*V60*U60*M60*Settings!$J$16)+(R60*W60*N60*Settings!$G$15)+(S60*W60*N60*Settings!$G$16)+(T60*(N60+M60)*Settings!$M$15)","v":191.57816954}]
["NYJFrank Gore",{"$f":"VLOOKUP(C61,'team abbr lookup'!B:C,2,FALSE)","v":"NYJ"},"New York Jets","---","---","Frank Gore","RB2","Buffalo Bills",311.39999999999998,295.39999999999998,"Josh Allen","Sam Darnold",13,104,0.79169999999999996,6.75,3.1E-2,3.93,6.0000000000000001E-3,1.0999999999999999E-2,1,0.98719999999999997,0.97430000000000005,{"$f":"(O61*M61*Settings!$J$17)+(P61*V61*U61*M61*Settings!$J$15)+(Q61*V61*U61*M61*Settings!$J$16)+(R61*W61*N61*Settings!$G$15)+(S61*W61*N61*Settings!$G$16)+(T61*(N61+M61)*Settings!$M$15)","v":62.237198400000011}]
["NYJLamical Perine",{"$f":"VLOOKUP(C62,'team abbr lookup'!B:C,2,FALSE)","v":"NYJ"},"New York Jets","---","---","Lamical Perine","RB3","---",304.8,295.39999999999998,"---","Sam Darnold",13,37,0.75360000000000005,5.56,0.02,4.21,2.5999999999999999E-2,6.0000000000000001E-3,1,0.99229999999999996,0.98460000000000003,{"$f":"(O62*M62*Settings!$J$17)+(P62*V62*U62*M62*Settings!$J$15)+(Q62*V62*U62*M62*Settings!$J$16)+(R62*W62*N62*Settings!$G$15)+(S62*W62*N62*Settings!$G$16)+(T62*(N62+M62)*Settings!$M$15)","v":38.937357800000001}]
["LVJosh Jacobs",{"$f":"VLOOKUP(C63,'team abbr lookup'!B:C,2,FALSE)","v":"LV"},"Las Vegas Raiders","---","---","Josh Jacobs","RB1","Las Vegas Raiders",320,339,"Derek Carr","Derek Carr",35,272,0.74070000000000003,6.15,3.7999999999999999E-2,4.75,2.9000000000000001E-2,4.0000000000000001E-3,1,1.0147999999999999,1.0297000000000001,{"$f":"(O63*M63*Settings!$J$17)+(P63*V63*U63*M63*Settings!$J$15)+(Q63*V63*U63*M63*Settings!$J$16)+(R63*W63*N63*Settings!$G$15)+(S63*W63*N63*Settings!$G$16)+(T63*(N63+M63)*Settings!$M$15)","v":235.18105560000006}]
["LVJalen Richard",{"$f":"VLOOKUP(C64,'team abbr lookup'!B:C,2,FALSE)","v":"LV"},"Las Vegas Raiders","---","---","Jalen Richard","RB2","Las Vegas Raiders",320,339,"Derek Carr","Derek Carr",31,72,0.83830000000000005,7.5,0.01,4.13,1.0999999999999999E-2,0.03,1,1.0147999999999999,1.0297000000000001,{"$f":"(O64*M64*Settings!$J$17)+(P64*V64*U64*M64*Settings!$J$15)+(Q64*V64*U64*M64*Settings!$J$16)+(R64*W64*N64*Settings!$G$15)+(S64*W64*N64*Settings!$G$16)+(T64*(N64+M64)*Settings!$M$15)","v":80.801221599999991}]
["LVLynn Bowden Jr.",{"$f":"VLOOKUP(C65,'team abbr lookup'!B:C,2,FALSE)","v":"LV"},"Las Vegas Raiders","---","---","Lynn Bowden Jr.","RB3","---",320,339,"---","Derek Carr",19,36,0.75,5.99,0.02,4.21,2.5999999999999999E-2,6.0000000000000001E-3,1,1.0147999999999999,1.0297000000000001,{"$f":"(O65*M65*Settings!$J$17)+(P65*V65*U65*M65*Settings!$J$15)+(Q65*V65*U65*M65*Settings!$J$16)+(R65*W65*N65*Settings!$G$15)+(S65*W65*N65*Settings!$G$16)+(T65*(N65+M65)*Settings!$M$15)","v":48.842111200000005}]
["PHIMiles Sanders",{"$f":"VLOOKUP(C66,'team abbr lookup'!B:C,2,FALSE)","v":"PHI"},"Philadelphia Eagles","---","NONE","Miles Sanders","RB1","Philadelphia Eagles",342,337.8,"Carson Wentz","Carson Wentz",60,248,0.79369999999999996,8.08,4.8000000000000001E-2,4.57,1.7000000000000001E-2,8.0000000000000002E-3,1,0.99690000000000001,0.99390000000000001,{"$f":"(O66*M66*Settings!$J$17)+(P66*V66*U66*M66*Settings!$J$15)+(Q66*V66*U66*M66*Settings!$J$16)+(R66*W66*N66*Settings!$G$15)+(S66*W66*N66*Settings!$G$16)+(T66*(N66+M66)*Settings!$M$15)","v":246.03648880000003}]
[{"$f":"_xlfn.CONCAT(B67,F67)","v":"PHIBoston Scott"},{"$f":"VLOOKUP(C67,'team abbr lookup'!B:C,2,FALSE)","v":"PHI"},"Philadelphia Eagles","---","NONE","Boston Scott","RB2","Philadelphia Eagles",342,337.8,"Carson Wentz","Carson Wentz",27,104,0.92310000000000003,7.85,0.01,4.0199999999999996,0.06,4.5999999999999999E-2,1,0.99690000000000001,0.99390000000000001,{"$f":"(O67*M67*Settings!$J$17)+(P67*V67*U67*M67*Settings!$J$15)+(Q67*V67*U67*M67*Settings!$J$16)+(R67*W67*N67*Settings!$G$15)+(S67*W67*N67*Settings!$G$16)+(T67*(N67+M67)*Settings!$M$15)","v":114.38056070000002}]
["PITJames Conner",{"$f":"VLOOKUP(C68,'team abbr lookup'!B:C,2,FALSE)","v":"PIT"},"Pittsburgh Steelers","---","---","James Conner","RB1","Pittsburgh Steelers",326.2,320.39999999999998,"Mason Rudolph","Ben Roethlisberger",50,192,0.8367,6.8,3.6999999999999998E-2,4.25,4.8000000000000001E-2,1.0999999999999999E-2,1.05,0.99560000000000004,0.99109999999999998,{"$f":"(O68*M68*Settings!$J$17)+(P68*V68*U68*M68*Settings!$J$15)+(Q68*V68*U68*M68*Settings!$J$16)+(R68*W68*N68*Settings!$G$15)+(S68*W68*N68*Settings!$G$16)+(T68*(N68+M68)*Settings!$M$15)","v":219.33526359999999}]
["PITAnthony McFarland Jr.",{"$f":"VLOOKUP(C69,'team abbr lookup'!B:C,2,FALSE)","v":"PIT"},"Pittsburgh Steelers","---","---","Anthony McFarland Jr.","RB2","---",326.2,320.39999999999998,"---","Ben Roethlisberger",22,33,0.75,5.99,0.02,4.21,2.5999999999999999E-2,6.0000000000000001E-3,1,0.99560000000000004,0.99109999999999998,{"$f":"(O69*M69*Settings!$J$17)+(P69*V69*U69*M69*Settings!$J$15)+(Q69*V69*U69*M69*Settings!$J$16)+(R69*W69*N69*Settings!$G$15)+(S69*W69*N69*Settings!$G$16)+(T69*(N69+M69)*Settings!$M$15)","v":50.459935900000005}]
["PITBenny Snell Jr.",{"$f":"VLOOKUP(C70,'team abbr lookup'!B:C,2,FALSE)","v":"PIT"},"Pittsburgh Steelers","---","---","Benny Snell Jr.","RB3","Pittsburgh Steelers",326.2,320.39999999999998,"Mason Rudolph","Ben Roethlisberger",9,81,0.75,5.75,0.01,3.94,1.9E-2,8.9999999999999993E-3,1,0.99560000000000004,0.99109999999999998,{"$f":"(O70*M70*Settings!$J$17)+(P70*V70*U70*M70*Settings!$J$15)+(Q70*V70*U70*M70*Settings!$J$16)+(R70*W70*N70*Settings!$G$15)+(S70*W70*N70*Settings!$G$16)+(T70*(N70+M70)*Settings!$M$15)","v":51.601636800000001}]
["PITJaylen Samuels",{"$f":"VLOOKUP(C71,'team abbr lookup'!B:C,2,FALSE)","v":"PIT"},"Pittsburgh Steelers","---","---","Jaylen Samuels","RB4","Pittsburgh Steelers",326.2,320.39999999999998,"Mason Rudolph","Ben Roethlisberger",18,29,0.83919999999999995,5.66,4.7E-2,3.22,8.0000000000000002E-3,0.01,1,0.99560000000000004,0.99109999999999998,{"$f":"(O71*M71*Settings!$J$17)+(P71*V71*U71*M71*Settings!$J$15)+(Q71*V71*U71*M71*Settings!$J$16)+(R71*W71*N71*Settings!$G$15)+(S71*W71*N71*Settings!$G$16)+(T71*(N71+M71)*Settings!$M$15)","v":39.996941400000004}]
["SEAChris Carson",{"$f":"VLOOKUP(C72,'team abbr lookup'!B:C,2,FALSE)","v":"SEA"},"Seattle Seahawks","---","---","Chris Carson","RB1","Seattle Seahawks",307.2,295.39999999999998,"Russell Wilson","Russell Wilson",35,230,0.79659999999999997,5.89,2.8000000000000001E-2,4.5,0.03,1.4999999999999999E-2,0.95,0.99039999999999995,0.98080000000000001,{"$f":"(O72*M72*Settings!$J$17)+(P72*V72*U72*M72*Settings!$J$15)+(Q72*V72*U72*M72*Settings!$J$16)+(R72*W72*N72*Settings!$G$15)+(S72*W72*N72*Settings!$G$16)+(T72*(N72+M72)*Settings!$M$15)","v":186.97753560000001}]
["SEARashaad Penny",{"$f":"VLOOKUP(C73,'team abbr lookup'!B:C,2,FALSE)","v":"SEA"},"Seattle Seahawks","---","---","Rashaad Penny","RB2","Seattle Seahawks",307.2,295.39999999999998,"Russell Wilson","Russell Wilson",13,52,0.73529999999999995,7.09,4.2999999999999997E-2,5.39,3.3000000000000002E-2,6.0000000000000001E-3,0.95,0.99039999999999995,0.98080000000000001,{"$f":"(O73*M73*Settings!$J$17)+(P73*V73*U73*M73*Settings!$J$15)+(Q73*V73*U73*M73*Settings!$J$16)+(R73*W73*N73*Settings!$G$15)+(S73*W73*N73*Settings!$G$16)+(T73*(N73+M73)*Settings!$M$15)","v":58.194881679999995}]
["SEACarlos Hyde",{"$f":"VLOOKUP(C74,'team abbr lookup'!B:C,2,FALSE)","v":"SEA"},"Seattle Seahawks","---","---","Carlos Hyde","RB3","Houston Texans",312.2,295.39999999999998,"Deshaun Watson","Russell Wilson",9,71,0.625,2.44,0.01,4.0999999999999996,2.5999999999999999E-2,1.2E-2,1.05,0.98650000000000004,0.97309999999999997,{"$f":"(O74*M74*Settings!$J$17)+(P74*V74*U74*M74*Settings!$J$15)+(Q74*V74*U74*M74*Settings!$J$16)+(R74*W74*N74*Settings!$G$15)+(S74*W74*N74*Settings!$G$16)+(T74*(N74+M74)*Settings!$M$15)","v":45.644013800000003}]
["SFRaheem Mostert",{"$f":"VLOOKUP(C75,'team abbr lookup'!B:C,2,FALSE)","v":"SF"},"San Francisco 49ers","---","---","Raheem Mostert","RB1","San Francisco 49ers",326.39999999999998,324.2,"Jimmy Garoppolo","Jimmy Garoppolo",24,148,0.66669999999999996,7.55,6.9000000000000006E-2,5.86,5.2999999999999999E-2,2.4E-2,1.03,0.99829999999999997,0.99660000000000004,{"$f":"(O75*M75*Settings!$J$17)+(P75*V75*U75*M75*Settings!$J$15)+(Q75*V75*U75*M75*Settings!$J$16)+(R75*W75*N75*Settings!$G$15)+(S75*W75*N75*Settings!$G$16)+(T75*(N75+M75)*Settings!$M$15)","v":169.93046114400002}]
["SFTevin Coleman",{"$f":"VLOOKUP(C76,'team abbr lookup'!B:C,2,FALSE)","v":"SF"},"San Francisco 49ers","---","---","Tevin Coleman","RB2","San Francisco 49ers",326.39999999999998,324.2,"Jimmy Garoppolo","Jimmy Garoppolo",17,131,0.71150000000000002,6.12,8.1000000000000003E-2,4.28,3.3000000000000002E-2,8.0000000000000002E-3,1.03,0.99829999999999997,0.99660000000000004,{"$f":"(O76*M76*Settings!$J$17)+(P76*V76*U76*M76*Settings!$J$15)+(Q76*V76*U76*M76*Settings!$J$16)+(R76*W76*N76*Settings!$G$15)+(S76*W76*N76*Settings!$G$16)+(T76*(N76+M76)*Settings!$M$15)","v":110.647975434}]
["SFJerick McKinnon",{"$f":"VLOOKUP(C77,'team abbr lookup'!B:C,2,FALSE)","v":"SF"},"San Francisco 49ers","---","---","Jerick McKinnon","RB3","San Francisco 49ers",326.39999999999998,324.2,"Jimmy Garoppolo","Jimmy Garoppolo",28,86,0.76719999999999999,5.8,3.3000000000000002E-2,3.66,1.6E-2,5.0000000000000001E-3,1.03,0.99829999999999997,0.99660000000000004,{"$f":"(O77*M77*Settings!$J$17)+(P77*V77*U77*M77*Settings!$J$15)+(Q77*V77*U77*M77*Settings!$J$16)+(R77*W77*N77*Settings!$G$15)+(S77*W77*N77*Settings!$G$16)+(T77*(N77+M77)*Settings!$M$15)","v":82.337887416000001}]
["SFKyle Juszczyk",{"$f":"VLOOKUP(C78,'team abbr lookup'!B:C,2,FALSE)","v":"SF"},"San Francisco 49ers","---","---","Kyle Juszczyk","RB4","San Francisco 49ers",326.39999999999998,324.2,"Jimmy Garoppolo","Jimmy Garoppolo",25,9,0.78649999999999998,9.01,3.1E-2,3.14,0.01,2.5999999999999999E-2,1.03,0.99829999999999997,0.99660000000000004,{"$f":"(O78*M78*Settings!$J$17)+(P78*V78*U78*M78*Settings!$J$15)+(Q78*V78*U78*M78*Settings!$J$16)+(R78*W78*N78*Settings!$G$15)+(S78*W78*N78*Settings!$G$16)+(T78*(N78+M78)*Settings!$M$15)","v":49.191722175000002}]
["TBLeonard Fournette",{"$f":"VLOOKUP(C79,'team abbr lookup'!B:C,2,FALSE)","v":"TB"},"Tampa Bay Buccaneers","---","---","Leonard Fournette","RB1","Jacksonville Jaguars",313.39999999999998,297.39999999999998,"Gardner Minshew","Tom Brady",37,183,0.76990000000000003,5.44,8.0000000000000002E-3,4.1399999999999997,0.02,4.0000000000000001E-3,1.05,0.98719999999999997,0.97450000000000003,{"$f":"(O79*M79*Settings!$J$17)+(P79*V79*U79*M79*Settings!$J$15)+(Q79*V79*U79*M79*Settings!$J$16)+(R79*W79*N79*Settings!$G$15)+(S79*W79*N79*Settings!$G$16)+(T79*(N79+M79)*Settings!$M$15)","v":144.66119924}]
["TBRonald Jones II",{"$f":"VLOOKUP(C80,'team abbr lookup'!B:C,2,FALSE)","v":"TB"},"Tampa Bay Buccaneers","---","---","Ronald Jones II","RB2","Tampa Bay Buccaneers",314.60000000000002,297.39999999999998,"Jameis Winston","Tom Brady",34,142,0.77529999999999999,7.31,1.7000000000000001E-2,4.07,3.5999999999999997E-2,1.2E-2,0.95,0.98629999999999995,0.97270000000000001,{"$f":"(O80*M80*Settings!$J$17)+(P80*V80*U80*M80*Settings!$J$15)+(Q80*V80*U80*M80*Settings!$J$16)+(R80*W80*N80*Settings!$G$15)+(S80*W80*N80*Settings!$G$16)+(T80*(N80+M80)*Settings!$M$15)","v":134.72436737000001}]
["TBKe'Shawn Vaughn",{"$f":"VLOOKUP(C81,'team abbr lookup'!B:C,2,FALSE)","v":"TB"},"Tampa Bay Buccaneers","---","---","Ke'Shawn Vaughn","RB3","---",314.60000000000002,297.39999999999998,"---","Tom Brady",7,22,0.75,5.99,0.02,4.21,2.5999999999999999E-2,6.0000000000000001E-3,1,0.98629999999999995,0.97270000000000001,{"$f":"(O81*M81*Settings!$J$17)+(P81*V81*U81*M81*Settings!$J$15)+(Q81*V81*U81*M81*Settings!$J$16)+(R81*W81*N81*Settings!$G$15)+(S81*W81*N81*Settings!$G$16)+(T81*(N81+M81)*Settings!$M$15)","v":22.213501700000002}]
["TBLeSean McCoy",{"$f":"VLOOKUP(C82,'team abbr lookup'!B:C,2,FALSE)","v":"TB"},"Tampa Bay Buccaneers","---","---","LeSean McCoy","RB4","Kansas City Chiefs",311,297.39999999999998,"Patrick Mahomes","Tom Brady",17,39,0.78949999999999998,5.26,1.2999999999999999E-2,3.98,2.7E-2,8.0000000000000002E-3,0.95,0.98909999999999998,0.97809999999999997,{"$f":"(O82*M82*Settings!$J$17)+(P82*V82*U82*M82*Settings!$J$15)+(Q82*V82*U82*M82*Settings!$J$16)+(R82*W82*N82*Settings!$G$15)+(S82*W82*N82*Settings!$G$16)+(T82*(N82+M82)*Settings!$M$15)","v":43.535478859999998}]
[{"$f":"_xlfn.CONCAT(B83,F83)","v":"TENDerrick Henry"},{"$f":"VLOOKUP(C83,'team abbr lookup'!B:C,2,FALSE)","v":"TEN"},"Tennessee Titans","---","---","Derrick Henry","RB1","Tennessee Titans",310.2,310.60000000000002,"Ryan Tannehill","Ryan Tannehill",29,296,0.72309999999999997,8.43,7.2999999999999995E-2,4.8899999999999997,4.3999999999999997E-2,8.0000000000000002E-3,0.95,1.0003,1.0005999999999999,{"$f":"(O83*M83*Settings!$J$17)+(P83*V83*U83*M83*Settings!$J$15)+(Q83*V83*U83*M83*Settings!$J$16)+(R83*W83*N83*Settings!$G$15)+(S83*W83*N83*Settings!$G$16)+(T83*(N83+M83)*Settings!$M$15)","v":274.09377026499993}]
["TENDarrynton Evans",{"$f":"VLOOKUP(C84,'team abbr lookup'!B:C,2,FALSE)","v":"TEN"},"Tennessee Titans","---","---","Darrynton Evans","RB2","---",310.2,310.60000000000002,"---","Ryan Tannehill",29,74,0.75,5.99,0.02,4.21,2.5999999999999999E-2,6.0000000000000001E-3,1,1.0003,1.0005999999999999,{"$f":"(O84*M84*Settings!$J$17)+(P84*V84*U84*M84*Settings!$J$15)+(Q84*V84*U84*M84*Settings!$J$16)+(R84*W84*N84*Settings!$G$15)+(S84*W84*N84*Settings!$G$16)+(T84*(N84+M84)*Settings!$M$15)","v":84.094874099999984}]
["WASAntonio Gibson",{"$f":"VLOOKUP(C85,'team abbr lookup'!B:C,2,FALSE)","v":"WAS"},"Washington Football Team","Ron Rivera","Scott Turner","Antonio Gibson","RB1","---",322,300,"---","Dwayne Haskins",50,90,0.75,5.99,0.02,4.21,2.5999999999999999E-2,6.0000000000000001E-3,1,0.9829,0.96579999999999999,{"$f":"(O85*M85*Settings!$J$17)+(P85*V85*U85*M85*Settings!$J$15)+(Q85*V85*U85*M85*Settings!$J$16)+(R85*W85*N85*Settings!$G$15)+(S85*W85*N85*Settings!$G$16)+(T85*(N85+M85)*Settings!$M$15)","v":121.30924899999999}]
["WASAdrian Peterson",{"$f":"VLOOKUP(C86,'team abbr lookup'!B:C,2,FALSE)","v":"WAS"},"Washington Football Team","Ron Rivera","Scott Turner","Adrian Peterson","RB2","Washington Football Team",322,300,"Case Keenum","Dwayne Haskins",20,136,0.75,6.83,0.02,4.22,2.5999999999999999E-2,1.4E-2,1,0.9829,0.96579999999999999,{"$f":"(O86*M86*Settings!$J$17)+(P86*V86*U86*M86*Settings!$J$15)+(Q86*V86*U86*M86*Settings!$J$16)+(R86*W86*N86*Settings!$G$15)+(S86*W86*N86*Settings!$G$16)+(T86*(N86+M86)*Settings!$M$15)","v":102.3369804}]
[{"$f":"_xlfn.CONCAT(B87,F87)","v":"WASBryce Love"},{"$f":"VLOOKUP(C87,'team abbr lookup'!B:C,2,FALSE)","v":"WAS"},"Washington Football Team","Ron Rivera","Scott Turner","Bryce Love","RB3","---",322,300,"---","Dwayne Haskins",14,64,0.75,5.99,0.02,4.21,2.5999999999999999E-2,6.0000000000000001E-3,1,0.9829,0.96579999999999999,{"$f":"(O87*M87*Settings!$J$17)+(P87*V87*U87*M87*Settings!$J$15)+(Q87*V87*U87*M87*Settings!$J$16)+(R87*W87*N87*Settings!$G$15)+(S87*W87*N87*Settings!$G$16)+(T87*(N87+M87)*Settings!$M$15)","v":55.122933800000006}]

{"sheet":"wr data","index":6,"n_rows":118,"n_cols":24,"rows_kept":118,"cut":false,"hidden":false,"merged":[]}
["Code","Abbr","Team","New HC","New OC","Name","Position","2019 Team","OLine","OLine","2019 QB","2020 QB","xTargets","xRush","Catch %","Yds/Tar","TD/Tar","Yds/Att","TD/Att","Fum/(Att+Tar)","QB Mod","OLine Mod","OLine Mod","Final xPts"]
[{"$f":"_xlfn.CONCAT(B2,F2)","v":"ARIDeAndre Hopkins"},{"$f":"VLOOKUP(C2,'team abbr lookup'!B:C,2,FALSE)","v":"ARI"},"Arizona Cardinals","---","---","DeAndre Hopkins","WR1","Houston Texans",312.2,286.8,"Deshaun Watson","Kyler Murray",138,0,0.6976,8.43,5.8000000000000003E-2,5.8,0.01,7.0000000000000001E-3,1,0.97970000000000002,0.95930000000000004,{"$f":"(O2*M2*Settings!$J$17)+(P2*V2*U2*M2*Settings!$J$15)+(Q2*V2*U2*M2*Settings!$J$16)+(R2*W2*N2*Settings!$G$15)+(S2*W2*N2*Settings!$G$16)+(T2*(N2+M2)*Settings!$M$15)","v":255.35833260000001}]
[{"$f":"_xlfn.CONCAT(B3,F3)","v":"ARIChristian Kirk"},{"$f":"VLOOKUP(C3,'team abbr lookup'!B:C,2,FALSE)","v":"ARI"},"Arizona Cardinals","---","---","Christian Kirk","WR2","Arizona Cardinals",301.8,286.8,"Kyler Murray","Kyler Murray",109,5,0.63029999999999997,7.07,3.4000000000000002E-2,9.61,0.01,0,1,0.98760000000000003,0.97509999999999997,{"$f":"(O3*M3*Settings!$J$17)+(P3*V3*U3*M3*Settings!$J$15)+(Q3*V3*U3*M3*Settings!$J$16)+(R3*W3*N3*Settings!$G$15)+(S3*W3*N3*Settings!$G$16)+(T3*(N3+M3)*Settings!$M$15)","v":171.74827790000001}]
["ARILarry Fitzgerald",{"$f":"VLOOKUP(C4,'team abbr lookup'!B:C,2,FALSE)","v":"ARI"},"Arizona Cardinals","---","---","Larry Fitzgerald","WR3","Arizona Cardinals",301.8,286.8,"Kyler Murray","Kyler Murray",76,0,0.66359999999999997,7.1,4.4999999999999998E-2,0,0.01,6.0000000000000001E-3,1,0.98760000000000003,0.97509999999999997,{"$f":"(O4*M4*Settings!$J$17)+(P4*V4*U4*M4*Settings!$J$15)+(Q4*V4*U4*M4*Settings!$J$16)+(R4*W4*N4*Settings!$G$15)+(S4*W4*N4*Settings!$G$16)+(T4*(N4+M4)*Settings!$M$15)","v":123.078048}]
["ARIAndy Isabella",{"$f":"VLOOKUP(C5,'team abbr lookup'!B:C,2,FALSE)","v":"ARI"},"Arizona Cardinals","---","---","Andy Isabella","WR4","Arizona Cardinals",301.8,286.8,"Kyler Murray","Kyler Murray",28,2,0.69230000000000003,12,7.6999999999999999E-2,3.75,0.01,0,1,0.98760000000000003,0.97509999999999997,{"$f":"(O5*M5*Settings!$J$17)+(P5*V5*U5*M5*Settings!$J$15)+(Q5*V5*U5*M5*Settings!$J$16)+(R5*W5*N5*Settings!$G$15)+(S5*W5*N5*Settings!$G$16)+(T5*(N5+M5)*Settings!$M$15)","v":66.191690600000001}]
["ATLJulio Jones",{"$f":"VLOOKUP(C6,'team abbr lookup'!B:C,2,FALSE)","v":"ATL"},"Atlanta Falcons","---","---","Julio Jones","WR1","Atlanta Falcons",326,301.8,"Matt Ryan","Matt Ryan",162,1,0.64259999999999995,9.23,4.2999999999999997E-2,1,0.01,8.9999999999999993E-3,1,0.98140000000000005,0.96289999999999998,{"$f":"(O6*M6*Settings!$J$17)+(P6*V6*U6*M6*Settings!$J$15)+(Q6*V6*U6*M6*Settings!$J$16)+(R6*W6*N6*Settings!$G$15)+(S6*W6*N6*Settings!$G$16)+(T6*(N6+M6)*Settings!$M$15)","v":289.08467479999996}]
["ATLCalvin Ridley",{"$f":"VLOOKUP(C7,'team abbr lookup'!B:C,2,FALSE)","v":"ATL"},"Atlanta Falcons","---","---","Calvin Ridley","WR2","Atlanta Falcons",326,301.8,"Matt Ryan","Matt Ryan",117,2,0.6835,8.6300000000000008,7.2999999999999995E-2,9.5,0.01,0.01,1,0.98140000000000005,0.96289999999999998,{"$f":"(O7*M7*Settings!$J$17)+(P7*V7*U7*M7*Settings!$J$15)+(Q7*V7*U7*M7*Settings!$J$16)+(R7*W7*N7*Settings!$G$15)+(S7*W7*N7*Settings!$G$16)+(T7*(N7+M7)*Settings!$M$15)","v":228.92032180000001}]
["ATLRussell Gage",{"$f":"VLOOKUP(C8,'team abbr lookup'!B:C,2,FALSE)","v":"ATL"},"Atlanta Falcons","---","---","Russell Gage","WR3","Atlanta Falcons",326,301.8,"Matt Ryan","Matt Ryan",58,3,0.65820000000000001,6.04,1.2E-2,3,0.01,1.0999999999999999E-2,1,0.98140000000000005,0.96289999999999998,{"$f":"(O8*M8*Settings!$J$17)+(P8*V8*U8*M8*Settings!$J$15)+(Q8*V8*U8*M8*Settings!$J$16)+(R8*W8*N8*Settings!$G$15)+(S8*W8*N8*Settings!$G$16)+(T8*(N8+M8)*Settings!$M$15)","v":76.35226320000001}]
["BALMarquise Brown",{"$f":"VLOOKUP(C9,'team abbr lookup'!B:C,2,FALSE)","v":"BAL"},"Baltimore Ravens","---","---","Marquise Brown","WR1","Baltimore Ravens",321.2,328.6,"Lamar Jackson","Lamar Jackson",84,6,0.64790000000000003,8.23,9.9000000000000005E-2,0,0.01,0,1,1.0058,1.0115000000000001,{"$f":"(O9*M9*Settings!$J$17)+(P9*V9*U9*M9*Settings!$J$15)+(Q9*V9*U9*M9*Settings!$J$16)+(R9*W9*N9*Settings!$G$15)+(S9*W9*N9*Settings!$G$16)+(T9*(N9+M9)*Settings!$M$15)","v":174.5061024}]
["BALWillie Snead",{"$f":"VLOOKUP(C10,'team abbr lookup'!B:C,2,FALSE)","v":"BAL"},"Baltimore Ravens","---","---","Willie Snead","WR2","Baltimore Ravens",321.2,328.6,"Lamar Jackson","Lamar Jackson",42,1,0.66310000000000002,7.11,4.2999999999999997E-2,3.4,0.01,1.4E-2,1,1.0058,1.0115000000000001,{"$f":"(O10*M10*Settings!$J$17)+(P10*V10*U10*M10*Settings!$J$15)+(Q10*V10*U10*M10*Settings!$J$16)+(R10*W10*N10*Settings!$G$15)+(S10*W10*N10*Settings!$G$16)+(T10*(N10+M10)*Settings!$M$15)","v":67.98484839999999}]
["BALMiles Boykin",{"$f":"VLOOKUP(C11,'team abbr lookup'!B:C,2,FALSE)","v":"BAL"},"Baltimore Ravens","---","---","Miles Boykin","WR3","Baltimore Ravens",321.2,328.6,"Lamar Jackson","Lamar Jackson",41,0,0.59089999999999998,9,0.1,0,0.01,0,1,1.0058,1.0115000000000001,{"$f":"(O11*M11*Settings!$J$17)+(P11*V11*U11*M11*Settings!$J$15)+(Q11*V11*U11*M11*Settings!$J$16)+(R11*W11*N11*Settings!$G$15)+(S11*W11*N11*Settings!$G$16)+(T11*(N11+M11)*Settings!$M$15)","v":86.083600000000004}]
["BALDevin Duvernay",{"$f":"VLOOKUP(C12,'team abbr lookup'!B:C,2,FALSE)","v":"BAL"},"Baltimore Ravens","---","---","Devin Duvernay","WR4","---",321.2,328.6,"---","Lamar Jackson",30,1,0.64090000000000003,7.75,5.3999999999999999E-2,3.13,0.01,8.9999999999999993E-3,1,1.0058,1.0115000000000001,{"$f":"(O12*M12*Settings!$J$17)+(P12*V12*U12*M12*Settings!$J$15)+(Q12*V12*U12*M12*Settings!$J$16)+(R12*W12*N12*Settings!$G$15)+(S12*W12*N12*Settings!$G$16)+(T12*(N12+M12)*Settings!$M$15)","v":52.207515500000007}]
["BUFStefon Diggs",{"$f":"VLOOKUP(C13,'team abbr lookup'!B:C,2,FALSE)","v":"BUF"},"Buffalo Bills","---","---","Stefon Diggs","WR1","Minnesota Vikings",298.60000000000002,300.60000000000002,"Kirk Cousins","Josh Allen",101,8,0.67659999999999998,9.74,6.2E-2,9.1999999999999993,0.01,1.0999999999999999E-2,0.95,1.0017,1.0033000000000001,{"$f":"(O13*M13*Settings!$J$17)+(P13*V13*U13*M13*Settings!$J$15)+(Q13*V13*U13*M13*Settings!$J$16)+(R13*W13*N13*Settings!$G$15)+(S13*W13*N13*Settings!$G$16)+(T13*(N13+M13)*Settings!$M$15)","v":203.17272479000002}]
["BUFJohn Brown",{"$f":"VLOOKUP(C14,'team abbr lookup'!B:C,2,FALSE)","v":"BUF"},"Buffalo Bills","---","---","John Brown","WR2","Buffalo Bills",311.39999999999998,300.60000000000002,"Josh Allen","Josh Allen",96,3,0.56879999999999997,8.67,5.1999999999999998E-2,2.57,0.01,4.0000000000000001E-3,1,0.99129999999999996,0.98270000000000002,{"$f":"(O14*M14*Settings!$J$17)+(P14*V14*U14*M14*Settings!$J$15)+(Q14*V14*U14*M14*Settings!$J$16)+(R14*W14*N14*Settings!$G$15)+(S14*W14*N14*Settings!$G$16)+(T14*(N14+M14)*Settings!$M$15)","v":166.94664689999999}]
["BUFCole Beasley",{"$f":"VLOOKUP(C15,'team abbr lookup'!B:C,2,FALSE)","v":"BUF"},"Buffalo Bills","---","---","Cole Beasley","WR3","Buffalo Bills",311.39999999999998,300.60000000000002,"Josh Allen","Josh Allen",85,0,0.66559999999999997,7.45,4.7E-2,0,0.01,8.9999999999999993E-3,1,0.99129999999999996,0.98270000000000002,{"$f":"(O15*M15*Settings!$J$17)+(P15*V15*U15*M15*Settings!$J$15)+(Q15*V15*U15*M15*Settings!$J$16)+(R15*W15*N15*Settings!$G$15)+(S15*W15*N15*Settings!$G$16)+(T15*(N15+M15)*Settings!$M$15)","v":141.58153350000001}]
["CARD.J. Moore",{"$f":"VLOOKUP(C16,'team abbr lookup'!B:C,2,FALSE)","v":"CAR"},"Carolina Panthers","Matt Rhule","Joe Brady","D.J. Moore","WR1","Carolina Panthers",319.2,297.8,"Kyle Allen","Teddy Bridgewater",137,5,0.65059999999999996,8.91,2.8000000000000001E-2,10.08,0.01,2.5000000000000001E-2,1,0.98319999999999996,0.96650000000000003,{"$f":"(O16*M16*Settings!$J$17)+(P16*V16*U16*M16*Settings!$J$15)+(Q16*V16*U16*M16*Settings!$J$16)+(R16*W16*N16*Settings!$G$15)+(S16*W16*N16*Settings!$G$16)+(T16*(N16+M16)*Settings!$M$15)","v":229.83891560000001}]
["CARRobby Anderson",{"$f":"VLOOKUP(C17,'team abbr lookup'!B:C,2,FALSE)","v":"CAR"},"Carolina Panthers","Matt Rhule","Joe Brady","Robby Anderson","WR2","New York Jets",304.8,297.8,"Sam Darnold","Teddy Bridgewater",96,1,0.53849999999999998,8.08,5.8000000000000003E-2,0,0.01,0.01,1.05,0.99429999999999996,0.98850000000000005,{"$f":"(O17*M17*Settings!$J$17)+(P17*V17*U17*M17*Settings!$J$15)+(Q17*V17*U17*M17*Settings!$J$16)+(R17*W17*N17*Settings!$G$15)+(S17*W17*N17*Settings!$G$16)+(T17*(N17+M17)*Settings!$M$15)","v":165.67591864000005}]
["CARCurtis Samuel",{"$f":"VLOOKUP(C18,'team abbr lookup'!B:C,2,FALSE)","v":"CAR"},"Carolina Panthers","Matt Rhule","Joe Brady","Curtis Samuel","WR3","Carolina Panthers",319.2,297.8,"Kyle Allen","Teddy Bridgewater",87,14,0.53449999999999998,6.36,6.5000000000000002E-2,7.48,0.111,4.0000000000000001E-3,1,0.98319999999999996,0.96650000000000003,{"$f":"(O18*M18*Settings!$J$17)+(P18*V18*U18*M18*Settings!$J$15)+(Q18*V18*U18*M18*Settings!$J$16)+(R18*W18*N18*Settings!$G$15)+(S18*W18*N18*Settings!$G$16)+(T18*(N18+M18)*Settings!$M$15)","v":152.58873240000003}]
["CHIAllen Robinson",{"$f":"VLOOKUP(C19,'team abbr lookup'!B:C,2,FALSE)","v":"CHI"},"Chicago Bears","---","Bill Lazor","Allen Robinson","WR1","Chicago Bears",303.8,303.39999999999998,"Mitchell Trubisky","Nick Foles",131,1,0.62439999999999996,7.58,4.3999999999999997E-2,4.33,0.01,3.0000000000000001E-3,1.1000000000000001,0.99970000000000003,0.99929999999999997,{"$f":"(O19*M19*Settings!$J$17)+(P19*V19*U19*M19*Settings!$J$15)+(Q19*V19*U19*M19*Settings!$J$16)+(R19*W19*N19*Settings!$G$15)+(S19*W19*N19*Settings!$G$16)+(T19*(N19+M19)*Settings!$M$15)","v":228.72307384000001}]
["CHIAnthony Miller",{"$f":"VLOOKUP(C20,'team abbr lookup'!B:C,2,FALSE)","v":"CHI"},"Chicago Bears","---","Bill Lazor","Anthony Miller","WR2","Chicago Bears",303.8,303.39999999999998,"Mitchell Trubisky","Nick Foles",91,3,0.61160000000000003,7.75,6.5000000000000002E-2,3,0.01,1.4E-2,1.1000000000000001,0.99970000000000003,0.99929999999999997,{"$f":"(O20*M20*Settings!$J$17)+(P20*V20*U20*M20*Settings!$J$15)+(Q20*V20*U20*M20*Settings!$J$16)+(R20*W20*N20*Settings!$G$15)+(S20*W20*N20*Settings!$G$16)+(T20*(N20+M20)*Settings!$M$15)","v":170.68435905000001}]
["CHITed Ginn",{"$f":"VLOOKUP(C21,'team abbr lookup'!B:C,2,FALSE)","v":"CHI"},"Chicago Bears","---","Bill Lazor","Ted Ginn","WR3","New Orleans Saints",320.60000000000002,303.39999999999998,"Drew Brees","Nick Foles",32,3,0.5423,7.4,4.7E-2,6.89,0.01,2.9000000000000001E-2,0.9,0.98660000000000003,0.97319999999999995,{"$f":"(O21*M21*Settings!$J$17)+(P21*V21*U21*M21*Settings!$J$15)+(Q21*V21*U21*M21*Settings!$J$16)+(R21*W21*N21*Settings!$G$15)+(S21*W21*N21*Settings!$G$16)+(T21*(N21+M21)*Settings!$M$15)","v":46.549570160000009}]
["CINA.J. Green",{"$f":"VLOOKUP(C22,'team abbr lookup'!B:C,2,FALSE)","v":"CIN"},"Cincinnati Bengals","---","---","A.J. Green","WR1","Cincinnati Bengals",300.8,274.60000000000002,"Andy Dalton","Joe Burrow",119,0,0.56230000000000002,8.3000000000000007,6.4000000000000001E-2,0,0.01,1.2E-2,1,0.97819999999999996,0.95640000000000003,{"$f":"(O22*M22*Settings!$J$17)+(P22*V22*U22*M22*Settings!$J$15)+(Q22*V22*U22*M22*Settings!$J$16)+(R22*W22*N22*Settings!$G$15)+(S22*W22*N22*Settings!$G$16)+(T22*(N22+M22)*Settings!$M$15)","v":205.37434120000006}]
["CINTyler Boyd",{"$f":"VLOOKUP(C23,'team abbr lookup'!B:C,2,FALSE)","v":"CIN"},"Cincinnati Bengals","---","---","Tyler Boyd","WR2","Cincinnati Bengals",300.8,274.60000000000002,"Andy Dalton","Joe Burrow",114,2,0.63370000000000004,7.72,4.7E-2,4.9000000000000004,0.01,8.0000000000000002E-3,1,0.97819999999999996,0.95640000000000003,{"$f":"(O23*M23*Settings!$J$17)+(P23*V23*U23*M23*Settings!$J$15)+(Q23*V23*U23*M23*Settings!$J$16)+(R23*W23*N23*Settings!$G$15)+(S23*W23*N23*Settings!$G$16)+(T23*(N23+M23)*Settings!$M$15)","v":188.97443919999998}]
["CINTee Higgins",{"$f":"VLOOKUP(C24,'team abbr lookup'!B:C,2,FALSE)","v":"CIN"},"Cincinnati Bengals","---","---","Tee Higgins","WR3","---",300.8,274.60000000000002,"---","Joe Burrow",54,0,0.64090000000000003,7.75,5.3999999999999999E-2,3.13,0.01,8.9999999999999993E-3,1,0.97819999999999996,0.95640000000000003,{"$f":"(O24*M24*Settings!$J$17)+(P24*V24*U24*M24*Settings!$J$15)+(Q24*V24*U24*M24*Settings!$J$16)+(R24*W24*N24*Settings!$G$15)+(S24*W24*N24*Settings!$G$16)+(T24*(N24+M24)*Settings!$M$15)","v":91.688857200000001}]
["CINJohn Ross",{"$f":"VLOOKUP(C25,'team abbr lookup'!B:C,2,FALSE)","v":"CIN"},"Cincinnati Bengals","---","---","John Ross","WR4","Cincinnati Bengals",300.8,274.60000000000002,"Andy Dalton","Joe Burrow",65,3,0.45290000000000002,7.19,8.7999999999999995E-2,1.7,0.01,1.6E-2,1.05,0.97819999999999996,0.95640000000000003,{"$f":"(O25*M25*Settings!$J$17)+(P25*V25*U25*M25*Settings!$J$15)+(Q25*V25*U25*M25*Settings!$J$16)+(R25*W25*N25*Settings!$G$15)+(S25*W25*N25*Settings!$G$16)+(T25*(N25+M25)*Settings!$M$15)","v":111.17481705}]
["CLEOdell Beckham Jr.",{"$f":"VLOOKUP(C26,'team abbr lookup'!B:C,2,FALSE)","v":"CLE"},"Cleveland Browns","Kevin Stefanski","Alex Van Pelt","Odell Beckham Jr.","WR1","Cleveland Browns",314.2,302.8,"Baker Mayfield","Baker Mayfield",114,2,0.57689999999999997,8.01,4.3999999999999997E-2,3.55,0.01,1.2E-2,1.05,0.9909,0.9819,{"$f":"(O26*M26*Settings!$J$17)+(P26*V26*U26*M26*Settings!$J$15)+(Q26*V26*U26*M26*Settings!$J$16)+(R26*W26*N26*Settings!$G$15)+(S26*W26*N26*Settings!$G$16)+(T26*(N26+M26)*Settings!$M$15)","v":190.11800445000003}]
["CLEJarvis Landry",{"$f":"VLOOKUP(C27,'team abbr lookup'!B:C,2,FALSE)","v":"CLE"},"Cleveland Browns","Kevin Stefanski","Alex Van Pelt","Jarvis Landry","WR2","Cleveland Browns",314.2,302.8,"Baker Mayfield","Baker Mayfield",109,1,0.58120000000000005,7.82,3.5000000000000003E-2,12,0.2,1.7000000000000001E-2,1.05,0.9909,0.9819,{"$f":"(O27*M27*Settings!$J$17)+(P27*V27*U27*M27*Settings!$J$15)+(Q27*V27*U27*M27*Settings!$J$16)+(R27*W27*N27*Settings!$G$15)+(S27*W27*N27*Settings!$G$16)+(T27*(N27+M27)*Settings!$M$15)","v":174.46859696000001}]
["CLERashard Higgins",{"$f":"VLOOKUP(C28,'team abbr lookup'!B:C,2,FALSE)","v":"CLE"},"Cleveland Browns","Kevin Stefanski","Alex Van Pelt","Rashard Higgins","WR3","Cleveland Browns",314.2,302.8,"Baker Mayfield","Baker Mayfield",18,0,0.62670000000000003,9.09,7.8E-2,0,0.01,2.4E-2,1.05,0.9909,0.9819,{"$f":"(O28*M28*Settings!$J$17)+(P28*V28*U28*M28*Settings!$J$15)+(Q28*V28*U28*M28*Settings!$J$16)+(R28*W28*N28*Settings!$G$15)+(S28*W28*N28*Settings!$G$16)+(T28*(N28+M28)*Settings!$M$15)","v":36.205069770000009}]
["DALAmari Cooper",{"$f":"VLOOKUP(C29,'team abbr lookup'!B:C,2,FALSE)","v":"DAL"},"Dallas Cowboys","Mike McCarthy","---","Amari Cooper","WR1","Dallas Cowboys",358.6,337.2,"Dak Prescott","Dak Prescott",119,1,0.6754,9.81,6.6000000000000003E-2,8,0.01,0.01,0.95,0.98509999999999998,0.97019999999999995,{"$f":"(O29*M29*Settings!$J$17)+(P29*V29*U29*M29*Settings!$J$15)+(Q29*V29*U29*M29*Settings!$J$16)+(R29*W29*N29*Settings!$G$15)+(S29*W29*N29*Settings!$G$16)+(T29*(N29+M29)*Settings!$M$15)","v":232.15734123500002}]
["DALMichael Gallup",{"$f":"VLOOKUP(C30,'team abbr lookup'!B:C,2,FALSE)","v":"DAL"},"Dallas Cowboys","Mike McCarthy","---","Michael Gallup","WR2","Dallas Cowboys",358.6,337.2,"Dak Prescott","Dak Prescott",115,0,0.56120000000000003,9.26,4.3999999999999997E-2,0,0.01,0,0.95,0.98509999999999998,0.97019999999999995,{"$f":"(O30*M30*Settings!$J$17)+(P30*V30*U30*M30*Settings!$J$15)+(Q30*V30*U30*M30*Settings!$J$16)+(R30*W30*N30*Settings!$G$15)+(S30*W30*N30*Settings!$G$16)+(T30*(N30+M30)*Settings!$M$15)","v":192.60838825000002}]
["DALCeeDee Lamb",{"$f":"VLOOKUP(C31,'team abbr lookup'!B:C,2,FALSE)","v":"DAL"},"Dallas Cowboys","Mike McCarthy","---","CeeDee Lamb","WR3","---",358.6,337.2,"---","Dak Prescott",88,1,0.64090000000000003,7.75,5.3999999999999999E-2,3.13,0.01,8.9999999999999993E-3,1,0.98509999999999998,0.97019999999999995,{"$f":"(O31*M31*Settings!$J$17)+(P31*V31*U31*M31*Settings!$J$15)+(Q31*V31*U31*M31*Settings!$J$16)+(R31*W31*N31*Settings!$G$15)+(S31*W31*N31*Settings!$G$16)+(T31*(N31+M31)*Settings!$M$15)","v":150.4300758}]
["DENCourtland Sutton",{"$f":"VLOOKUP(C32,'team abbr lookup'!B:C,2,FALSE)","v":"DEN"},"Denver Broncos","---","Pat Shurmur","Courtland Sutton","WR1","Denver Broncos",301.8,284.39999999999998,"Joe Flacco","Drew Lock",110,1,0.55689999999999995,8.77,4.8000000000000001E-2,4.71,0.01,8.9999999999999993E-3,1.1000000000000001,0.98560000000000003,0.97119999999999995,{"$f":"(O32*M32*Settings!$J$17)+(P32*V32*U32*M32*Settings!$J$15)+(Q32*V32*U32*M32*Settings!$J$16)+(R32*W32*N32*Settings!$G$15)+(S32*W32*N32*Settings!$G$16)+(T32*(N32+M32)*Settings!$M$15)","v":198.71181120000003}]
["DENJerry Jeudy",{"$f":"VLOOKUP(C33,'team abbr lookup'!B:C,2,FALSE)","v":"DEN"},"Denver Broncos","---","Pat Shurmur","Jerry Jeudy","WR2","---",301.8,284.39999999999998,"---","Drew Lock",75,1,0.61280000000000001,8.4700000000000006,5.6000000000000001E-2,4.83,0.01,1.0999999999999999E-2,1,0.98560000000000003,0.97119999999999995,{"$f":"(O33*M33*Settings!$J$17)+(P33*V33*U33*M33*Settings!$J$15)+(Q33*V33*U33*M33*Settings!$J$16)+(R33*W33*N33*Settings!$G$15)+(S33*W33*N33*Settings!$G$16)+(T33*(N33+M33)*Settings!$M$15)","v":132.26272159999999}]
["DENKJ Hamler",{"$f":"VLOOKUP(C34,'team abbr lookup'!B:C,2,FALSE)","v":"DEN"},"Denver Broncos","---","Pat Shurmur","KJ Hamler","WR3","---",301.8,284.39999999999998,"---","Drew Lock",37,1,0.64090000000000003,7.75,5.3999999999999999E-2,3.13,0.01,8.9999999999999993E-3,1,0.98560000000000003,0.97119999999999995,{"$f":"(O34*M34*Settings!$J$17)+(P34*V34*U34*M34*Settings!$J$15)+(Q34*V34*U34*M34*Settings!$J$16)+(R34*W34*N34*Settings!$G$15)+(S34*W34*N34*Settings!$G$16)+(T34*(N34+M34)*Settings!$M$15)","v":63.469010400000016}]
["DETKenny Golladay",{"$f":"VLOOKUP(C35,'team abbr lookup'!B:C,2,FALSE)","v":"DET"},"Detroit Lions","---","---","Kenny Golladay","WR1","Detroit Lions",297.2,288.39999999999998,"Matt Stafford","Matt Stafford",117,0,0.56979999999999997,9.81,7.6999999999999999E-2,8,0.01,7.0000000000000001E-3,1.05,0.99260000000000004,0.98519999999999996,{"$f":"(O35*M35*Settings!$J$17)+(P35*V35*U35*M35*Settings!$J$15)+(Q35*V35*U35*M35*Settings!$J$16)+(R35*W35*N35*Settings!$G$15)+(S35*W35*N35*Settings!$G$16)+(T35*(N35+M35)*Settings!$M$15)","v":240.98933313000001}]
["DETMarvin Jones",{"$f":"VLOOKUP(C36,'team abbr lookup'!B:C,2,FALSE)","v":"DET"},"Detroit Lions","---","---","Marvin Jones","WR2","Detroit Lions",297.2,288.39999999999998,"Matt Stafford","Matt Stafford",89,1,0.65159999999999996,8.4700000000000006,9.1999999999999998E-2,0,0.01,0,1.05,0.99260000000000004,0.98519999999999996,{"$f":"(O36*M36*Settings!$J$17)+(P36*V36*U36*M36*Settings!$J$15)+(Q36*V36*U36*M36*Settings!$J$16)+(R36*W36*N36*Settings!$G$15)+(S36*W36*N36*Settings!$G$16)+(T36*(N36+M36)*Settings!$M$15)","v":187.82061153000001}]
["DETDanny Amendola",{"$f":"VLOOKUP(C37,'team abbr lookup'!B:C,2,FALSE)","v":"DET"},"Detroit Lions","---","---","Danny Amendola","WR3","Detroit Lions",297.2,288.39999999999998,"Matt Stafford","Matt Stafford",82,0,0.67030000000000001,7.07,1.0999999999999999E-2,-2,0.01,2.3E-2,1.05,0.99260000000000004,0.98519999999999996,{"$f":"(O37*M37*Settings!$J$17)+(P37*V37*U37*M37*Settings!$J$15)+(Q37*V37*U37*M37*Settings!$J$16)+(R37*W37*N37*Settings!$G$15)+(S37*W37*N37*Settings!$G$16)+(T37*(N37+M37)*Settings!$M$15)","v":117.25539078000001}]
["GBDavante Adams",{"$f":"VLOOKUP(C38,'team abbr lookup'!B:C,2,FALSE)","v":"GB"},"Green Bay Packers","---","---","Davante Adams","WR1","Green Bay Packers",328.2,324.8,"Aaron Rodgers","Aaron Rodgers",155,0,0.65480000000000005,7.99,6.0999999999999999E-2,0,0.01,6.0000000000000001E-3,1,0.99739999999999995,0.99480000000000002,{"$f":"(O38*M38*Settings!$J$17)+(P38*V38*U38*M38*Settings!$J$15)+(Q38*V38*U38*M38*Settings!$J$16)+(R38*W38*N38*Settings!$G$15)+(S38*W38*N38*Settings!$G$16)+(T38*(N38+M38)*Settings!$M$15)","v":279.73950500000001}]
["GBAllen Lazard",{"$f":"VLOOKUP(C39,'team abbr lookup'!B:C,2,FALSE)","v":"GB"},"Green Bay Packers","---","---","Allen Lazard","WR2","Green Bay Packers",328.2,324.8,"Aaron Rodgers","Aaron Rodgers",72,1,0.67620000000000002,9.15,5.7000000000000002E-2,12,0.01,0,1,0.99739999999999995,0.99480000000000002,{"$f":"(O39*M39*Settings!$J$17)+(P39*V39*U39*M39*Settings!$J$15)+(Q39*V39*U39*M39*Settings!$J$16)+(R39*W39*N39*Settings!$G$15)+(S39*W39*N39*Settings!$G$16)+(T39*(N39+M39)*Settings!$M$15)","v":140.2085376}]
["GBMarquez Valdes-Scantling",{"$f":"VLOOKUP(C40,'team abbr lookup'!B:C,2,FALSE)","v":"GB"},"Green Bay Packers","---","---","Marquez Valdes-Scantling","WR3","Green Bay Packers",328.2,324.8,"Aaron Rodgers","Aaron Rodgers",41,1,0.48649999999999999,8.0299999999999994,3.1E-2,7.83,0.01,0,1,0.99739999999999995,0.99480000000000002,{"$f":"(O40*M40*Settings!$J$17)+(P40*V40*U40*M40*Settings!$J$15)+(Q40*V40*U40*M40*Settings!$J$16)+(R40*W40*N40*Settings!$G$15)+(S40*W40*N40*Settings!$G$16)+(T40*(N40+M40)*Settings!$M$15)","v":61.228688999999996}]
["GBEquanimeous St. Brown",{"$f":"VLOOKUP(C41,'team abbr lookup'!B:C,2,FALSE)","v":"GB"},"Green Bay Packers","---","---","Equanimeous St. Brown","WR4","Green Bay Packers",328.2,324.8,"Aaron Rodgers","Aaron Rodgers",39,0,0.58330000000000004,9.11,0.01,5,0.01,0,1,0.99739999999999995,0.99480000000000002,{"$f":"(O41*M41*Settings!$J$17)+(P41*V41*U41*M41*Settings!$J$15)+(Q41*V41*U41*M41*Settings!$J$16)+(R41*W41*N41*Settings!$G$15)+(S41*W41*N41*Settings!$G$16)+(T41*(N41+M41)*Settings!$M$15)","v":60.519240600000003}]
["GBJake Kumerow",{"$f":"VLOOKUP(C42,'team abbr lookup'!B:C,2,FALSE)","v":"GB"},"Green Bay Packers","---","---","Jake Kumerow","WR5","Green Bay Packers",328.2,324.8,"Aaron Rodgers","Aaron Rodgers",26,0,0.6038,10.210000000000001,6.3E-2,0,0.01,0,1,0.99739999999999995,0.99480000000000002,{"$f":"(O42*M42*Settings!$J$17)+(P42*V42*U42*M42*Settings!$J$15)+(Q42*V42*U42*M42*Settings!$J$16)+(R42*W42*N42*Settings!$G$15)+(S42*W42*N42*Settings!$G$16)+(T42*(N42+M42)*Settings!$M$15)","v":51.978227599999997}]
["HOUBrandin Cooks",{"$f":"VLOOKUP(C43,'team abbr lookup'!B:C,2,FALSE)","v":"HOU"},"Houston Texans","---","---","Brandin Cooks","WR1","Los Angeles Rams",318.8,296,"Jared Goff","Deshaun Watson",90,5,0.62839999999999996,9.08,4.8000000000000001E-2,7.82,6.3E-2,6.0000000000000001E-3,1,0.98209999999999997,0.96419999999999995,{"$f":"(O43*M43*Settings!$J$17)+(P43*V43*U43*M43*Settings!$J$15)+(Q43*V43*U43*M43*Settings!$J$16)+(R43*W43*N43*Settings!$G$15)+(S43*W43*N43*Settings!$G$16)+(T43*(N43+M43)*Settings!$M$15)","v":166.72160400000001}]
["HOUWill Fuller",{"$f":"VLOOKUP(C44,'team abbr lookup'!B:C,2,FALSE)","v":"HOU"},"Houston Texans","---","---","Will Fuller","WR2","Houston Texans",312.2,296,"Deshaun Watson","Deshaun Watson",84,3,0.69520000000000004,9.86,8.3000000000000004E-2,4.5,0.01,1.0999999999999999E-2,1,0.98699999999999999,0.97409999999999997,{"$f":"(O44*M44*Settings!$J$17)+(P44*V44*U44*M44*Settings!$J$15)+(Q44*V44*U44*M44*Settings!$J$16)+(R44*W44*N44*Settings!$G$15)+(S44*W44*N44*Settings!$G$16)+(T44*(N44+M44)*Settings!$M$15)","v":181.00864500000003}]
["HOURandall Cobb",{"$f":"VLOOKUP(C45,'team abbr lookup'!B:C,2,FALSE)","v":"HOU"},"Houston Texans","---","---","Randall Cobb","WR3","Dallas Cowboys",358.6,296,"Dak Prescott","Deshaun Watson",64,3,0.65200000000000002,8.98,3.5000000000000003E-2,3.67,0.01,2.1999999999999999E-2,1,0.95640000000000003,0.91269999999999996,{"$f":"(O45*M45*Settings!$J$17)+(P45*V45*U45*M45*Settings!$J$15)+(Q45*V45*U45*M45*Settings!$J$16)+(R45*W45*N45*Settings!$G$15)+(S45*W45*N45*Settings!$G$16)+(T45*(N45+M45)*Settings!$M$15)","v":107.76940550000002}]
["HOUKenny Stills",{"$f":"VLOOKUP(C46,'team abbr lookup'!B:C,2,FALSE)","v":"HOU"},"Houston Texans","---","---","Kenny Stills","WR4","Dallas Cowboys",358.6,296,"Dak Prescott","Deshaun Watson",43,0,0.6724,9.6300000000000008,8.4000000000000005E-2,0,0.01,1.2E-2,1,0.95640000000000003,0.91269999999999996,{"$f":"(O46*M46*Settings!$J$17)+(P46*V46*U46*M46*Settings!$J$15)+(Q46*V46*U46*M46*Settings!$J$16)+(R46*W46*N46*Settings!$G$15)+(S46*W46*N46*Settings!$G$16)+(T46*(N46+M46)*Settings!$M$15)","v":88.211868400000014}]
["INDT.Y. Hilton",{"$f":"VLOOKUP(C47,'team abbr lookup'!B:C,2,FALSE)","v":"IND"},"Indianapolis Colts","---","---","T.Y. Hilton","WR1","Indianapolis Colts",328.6,331.8,"Jacoby Brissett","Philip Rivers",103,0,0.64839999999999998,8.8800000000000008,5.8999999999999997E-2,0,0.01,8.0000000000000002E-3,1,1.0024,1.0048999999999999,{"$f":"(O47*M47*Settings!$J$17)+(P47*V47*U47*M47*Settings!$J$15)+(Q47*V47*U47*M47*Settings!$J$16)+(R47*W47*N47*Settings!$G$15)+(S47*W47*N47*Settings!$G$16)+(T47*(N47+M47)*Settings!$M$15)","v":193.37022240000002}]
["INDMichael Pittman Jr.",{"$f":"VLOOKUP(C48,'team abbr lookup'!B:C,2,FALSE)","v":"IND"},"Indianapolis Colts","---","---","Michael Pittman Jr.","WR2","---",328.6,331.8,"---","Philip Rivers",73,1,0.61280000000000001,8.4700000000000006,5.6000000000000001E-2,4.83,0.01,1.0999999999999999E-2,1,1.0024,1.0048999999999999,{"$f":"(O48*M48*Settings!$J$17)+(P48*V48*U48*M48*Settings!$J$15)+(Q48*V48*U48*M48*Settings!$J$16)+(R48*W48*N48*Settings!$G$15)+(S48*W48*N48*Settings!$G$16)+(T48*(N48+M48)*Settings!$M$15)","v":130.21832230000001}]
["INDParris Campbell",{"$f":"VLOOKUP(C49,'team abbr lookup'!B:C,2,FALSE)","v":"IND"},"Indianapolis Colts","---","---","Parris Campbell","WR3","Indianapolis Colts",328.6,331.8,"Jacoby Brissett","Philip Rivers",47,3,0.75,5.29,4.2000000000000003E-2,8.5,0.01,0.107,1,1.0024,1.0048999999999999,{"$f":"(O49*M49*Settings!$J$17)+(P49*V49*U49*M49*Settings!$J$15)+(Q49*V49*U49*M49*Settings!$J$16)+(R49*W49*N49*Settings!$G$15)+(S49*W49*N49*Settings!$G$16)+(T49*(N49+M49)*Settings!$M$15)","v":64.088473799999989}]
["INDZach Pascal",{"$f":"VLOOKUP(C50,'team abbr lookup'!B:C,2,FALSE)","v":"IND"},"Indianapolis Colts","---","---","Zach Pascal","WR4","Indianapolis Colts",328.6,331.8,"Jacoby Brissett","Philip Rivers",38,1,0.57369999999999999,7.8,5.8999999999999997E-2,7,0.01,0,1,1.0024,1.0048999999999999,{"$f":"(O50*M50*Settings!$J$17)+(P50*V50*U50*M50*Settings!$J$15)+(Q50*V50*U50*M50*Settings!$J$16)+(R50*W50*N50*Settings!$G$15)+(S50*W50*N50*Settings!$G$16)+(T50*(N50+M50)*Settings!$M$15)","v":65.759744799999993}]
["JACDJ Chark",{"$f":"VLOOKUP(C51,'team abbr lookup'!B:C,2,FALSE)","v":"JAC"},"Jacksonville Jaguars","---","Jay Gruden","DJ Chark","WR1","Jacksonville Jaguars",313.39999999999998,303,"Gardner Minshew","Gardner Minshew",135,1,0.59699999999999998,8.17,5.2999999999999999E-2,10,0.01,7.0000000000000001E-3,0.95,0.99170000000000003,0.98340000000000005,{"$f":"(O51*M51*Settings!$J$17)+(P51*V51*U51*M51*Settings!$J$15)+(Q51*V51*U51*M51*Settings!$J$16)+(R51*W51*N51*Settings!$G$15)+(S51*W51*N51*Settings!$G$16)+(T51*(N51+M51)*Settings!$M$15)","v":224.08897487499999}]
["JACDede Westbrook",{"$f":"VLOOKUP(C52,'team abbr lookup'!B:C,2,FALSE)","v":"JAC"},"Jacksonville Jaguars","---","Jay Gruden","Dede Westbrook","WR2","Jacksonville Jaguars",313.39999999999998,303,"Gardner Minshew","Gardner Minshew",68,3,0.65349999999999997,6.72,0.04,8,0.01,1.9E-2,0.95,0.99170000000000003,0.98340000000000005,{"$f":"(O52*M52*Settings!$J$17)+(P52*V52*U52*M52*Settings!$J$15)+(Q52*V52*U52*M52*Settings!$J$16)+(R52*W52*N52*Settings!$G$15)+(S52*W52*N52*Settings!$G$16)+(T52*(N52+M52)*Settings!$M$15)","v":102.70337583999999}]
["JACChris Conley",{"$f":"VLOOKUP(C53,'team abbr lookup'!B:C,2,FALSE)","v":"JAC"},"Jacksonville Jaguars","---","Jay Gruden","Chris Conley","WR3","Jacksonville Jaguars",313.39999999999998,303,"Gardner Minshew","Gardner Minshew",100,0,0.54310000000000003,8.1199999999999992,7.0000000000000007E-2,0,0.01,1.2E-2,0.95,0.99170000000000003,0.98340000000000005,{"$f":"(O53*M53*Settings!$J$17)+(P53*V53*U53*M53*Settings!$J$15)+(Q53*V53*U53*M53*Settings!$J$16)+(R53*W53*N53*Settings!$G$15)+(S53*W53*N53*Settings!$G$16)+(T53*(N53+M53)*Settings!$M$15)","v":167.97856799999997}]
["JACLaviska Shenault Jr.",{"$f":"VLOOKUP(C54,'team abbr lookup'!B:C,2,FALSE)","v":"JAC"},"Jacksonville Jaguars","---","Jay Gruden","Laviska Shenault Jr.","WR4","---",313.39999999999998,303,"---","Gardner Minshew",57,14,0.64090000000000003,7.75,5.3999999999999999E-2,3.13,0.01,8.9999999999999993E-3,1,0.99170000000000003,0.98340000000000005,{"$f":"(O54*M54*Settings!$J$17)+(P54*V54*U54*M54*Settings!$J$15)+(Q54*V54*U54*M54*Settings!$J$16)+(R54*W54*N54*Settings!$G$15)+(S54*W54*N54*Settings!$G$16)+(T54*(N54+M54)*Settings!$M$15)","v":102.51167789999998}]
["JACKeelan Cole",{"$f":"VLOOKUP(C55,'team abbr lookup'!B:C,2,FALSE)","v":"JAC"},"Jacksonville Jaguars","---","Jay Gruden","Keelan Cole","WR5","Jacksonville Jaguars",313.39999999999998,303,"Gardner Minshew","Gardner Minshew",41,1,0.61429999999999996,8.66,3.7999999999999999E-2,6,0.01,2.1000000000000001E-2,0.95,0.99170000000000003,0.98340000000000005,{"$f":"(O55*M55*Settings!$J$17)+(P55*V55*U55*M55*Settings!$J$15)+(Q55*V55*U55*M55*Settings!$J$16)+(R55*W55*N55*Settings!$G$15)+(S55*W55*N55*Settings!$G$16)+(T55*(N55+M55)*Settings!$M$15)","v":66.328970210000008}]
["KCTyreek Hill",{"$f":"VLOOKUP(C56,'team abbr lookup'!B:C,2,FALSE)","v":"KC"},"Kansas City Chiefs","---","---","Tyreek Hill","WR1","Kansas City Chiefs",311,304.2,"Patrick Mahomes","Patrick Mahomes",121,9,0.64439999999999997,10.16,8.4000000000000005E-2,5.18,3.3000000000000002E-2,1.2E-2,1,0.99450000000000005,0.98909999999999998,{"$f":"(O56*M56*Settings!$J$17)+(P56*V56*U56*M56*Settings!$J$15)+(Q56*V56*U56*M56*Settings!$J$16)+(R56*W56*N56*Settings!$G$15)+(S56*W56*N56*Settings!$G$16)+(T56*(N56+M56)*Settings!$M$15)","v":264.13460040000007}]
["KCSammy Watkins",{"$f":"VLOOKUP(C57,'team abbr lookup'!B:C,2,FALSE)","v":"KC"},"Kansas City Chiefs","---","---","Sammy Watkins","WR2","Kansas City Chiefs",311,304.2,"Patrick Mahomes","Patrick Mahomes",83,2,0.61280000000000001,7.94,4.1000000000000002E-2,8.44,0.01,8.0000000000000002E-3,1,0.99450000000000005,0.98909999999999998,{"$f":"(O57*M57*Settings!$J$17)+(P57*V57*U57*M57*Settings!$J$15)+(Q57*V57*U57*M57*Settings!$J$16)+(R57*W57*N57*Settings!$G$15)+(S57*W57*N57*Settings!$G$16)+(T57*(N57+M57)*Settings!$M$15)","v":137.13593280000001}]
["KCMecole Hardman",{"$f":"VLOOKUP(C58,'team abbr lookup'!B:C,2,FALSE)","v":"KC"},"Kansas City Chiefs","---","---","Mecole Hardman","WR3","Kansas City Chiefs",311,304.2,"Patrick Mahomes","Patrick Mahomes",53,7,0.6341,12,0.1,4.25,0.01,4.3999999999999997E-2,1,0.99450000000000005,0.98909999999999998,{"$f":"(O58*M58*Settings!$J$17)+(P58*V58*U58*M58*Settings!$J$15)+(Q58*V58*U58*M58*Settings!$J$16)+(R58*W58*N58*Settings!$G$15)+(S58*W58*N58*Settings!$G$16)+(T58*(N58+M58)*Settings!$M$15)","v":126.56059450000004}]
["KCDemarcus Robinson",{"$f":"VLOOKUP(C59,'team abbr lookup'!B:C,2,FALSE)","v":"KC"},"Kansas City Chiefs","---","---","Demarcus Robinson","WR4","Kansas City Chiefs",311,304.2,"Patrick Mahomes","Patrick Mahomes",26,0,0.60140000000000005,8.2899999999999991,9.0999999999999998E-2,0,0,0,1,0.99450000000000005,0.98909999999999998,{"$f":"(O59*M59*Settings!$J$17)+(P59*V59*U59*M59*Settings!$J$15)+(Q59*V59*U59*M59*Settings!$J$16)+(R59*W59*N59*Settings!$G$15)+(S59*W59*N59*Settings!$G$16)+(T59*(N59+M59)*Settings!$M$15)","v":51.189775000000004}]
["LACKeenan Allen",{"$f":"VLOOKUP(C60,'team abbr lookup'!B:C,2,FALSE)","v":"LAC"},"Los Angeles Chargers","---","Shane Steichen","Keenan Allen","WR1","Los Angeles Chargers",304.60000000000002,311.39999999999998,"Philip Rivers","Justin Herbert/Tyrod Taylor",122,4,0.70279999999999998,8.2799999999999994,4.2000000000000003E-2,7.13,0.01,1.2E-2,0.9,1.0056,1.0112000000000001,{"$f":"(O60*M60*Settings!$J$17)+(P60*V60*U60*M60*Settings!$J$15)+(Q60*V60*U60*M60*Settings!$J$16)+(R60*W60*N60*Settings!$G$15)+(S60*W60*N60*Settings!$G$16)+(T60*(N60+M60)*Settings!$M$15)","v":205.09230079999998}]
["LACMike Williams",{"$f":"VLOOKUP(C61,'team abbr lookup'!B:C,2,FALSE)","v":"LAC"},"Los Angeles Chargers","---","Shane Steichen","Mike Williams","WR2","Los Angeles Chargers",304.60000000000002,311.39999999999998,"Philip Rivers","Justin Herbert/Tyrod Taylor",77,3,0.57320000000000004,10.84,7.6999999999999999E-2,3.56,0.125,0,0.9,1.0056,1.0112000000000001,{"$f":"(O61*M61*Settings!$J$17)+(P61*V61*U61*M61*Settings!$J$15)+(Q61*V61*U61*M61*Settings!$J$16)+(R61*W61*N61*Settings!$G$15)+(S61*W61*N61*Settings!$G$16)+(T61*(N61+M61)*Settings!$M$15)","v":155.22933328000002}]
["LACJoe Reed",{"$f":"VLOOKUP(C62,'team abbr lookup'!B:C,2,FALSE)","v":"LAC"},"Los Angeles Chargers","---","Shane Steichen","Joe Reed","WR3","---",304.60000000000002,311.39999999999998,"---","Justin Herbert/Tyrod Taylor",29,1,0.64090000000000003,7.75,5.3999999999999999E-2,3.13,0.01,8.9999999999999993E-3,1,1.0056,1.0112000000000001,{"$f":"(O62*M62*Settings!$J$17)+(P62*V62*U62*M62*Settings!$J$15)+(Q62*V62*U62*M62*Settings!$J$16)+(R62*W62*N62*Settings!$G$15)+(S62*W62*N62*Settings!$G$16)+(T62*(N62+M62)*Settings!$M$15)","v":50.472755199999995}]
["LARRobert Woods",{"$f":"VLOOKUP(C63,'team abbr lookup'!B:C,2,FALSE)","v":"LAR"},"Los Angeles Rams","---","Kevin O'Connell","Robert Woods","WR1","Los Angeles Rams",318.8,304.2,"Jared Goff","Jared Goff",137,13,0.65200000000000002,8.5500000000000007,0.03,7.3,5.6000000000000001E-2,5.0000000000000001E-3,0.95,0.98860000000000003,0.97709999999999997,{"$f":"(O63*M63*Settings!$J$17)+(P63*V63*U63*M63*Settings!$J$15)+(Q63*V63*U63*M63*Settings!$J$16)+(R63*W63*N63*Settings!$G$15)+(S63*W63*N63*Settings!$G$16)+(T63*(N63+M63)*Settings!$M$15)","v":234.53426195000006}]
["LARCooper Kupp",{"$f":"VLOOKUP(C64,'team abbr lookup'!B:C,2,FALSE)","v":"LAR"},"Los Angeles Rams","---","Kevin O'Connell","Cooper Kupp","WR2","Los Angeles Rams",318.8,304.2,"Jared Goff","Jared Goff",124,1,0.70589999999999997,8.66,6.5000000000000002E-2,4.13,0.01,1.4E-2,0.95,0.98860000000000003,0.97709999999999997,{"$f":"(O64*M64*Settings!$J$17)+(P64*V64*U64*M64*Settings!$J$15)+(Q64*V64*U64*M64*Settings!$J$16)+(R64*W64*N64*Settings!$G$15)+(S64*W64*N64*Settings!$G$16)+(T64*(N64+M64)*Settings!$M$15)","v":230.76386078000004}]
["LARJosh Reynolds",{"$f":"VLOOKUP(C65,'team abbr lookup'!B:C,2,FALSE)","v":"LAR"},"Los Angeles Rams","---","Kevin O'Connell","Josh Reynolds","WR3","Los Angeles Rams",318.8,304.2,"Jared Goff","Jared Goff",69,4,0.51080000000000003,7.58,6.3E-2,4.5,0.01,0,0.95,0.98860000000000003,0.97709999999999997,{"$f":"(O65*M65*Settings!$J$17)+(P65*V65*U65*M65*Settings!$J$15)+(Q65*V65*U65*M65*Settings!$J$16)+(R65*W65*N65*Settings!$G$15)+(S65*W65*N65*Settings!$G$16)+(T65*(N65+M65)*Settings!$M$15)","v":110.85438528000002}]
["LARVan Jefferson",{"$f":"VLOOKUP(C66,'team abbr lookup'!B:C,2,FALSE)","v":"LAR"},"Los Angeles Rams","---","Kevin O'Connell","Van Jefferson","WR4","---",318.8,304.2,"---","Jared Goff",45,1,0.64090000000000003,7.75,5.3999999999999999E-2,3.13,0.01,8.9999999999999993E-3,1,0.98860000000000003,0.97709999999999997,{"$f":"(O66*M66*Settings!$J$17)+(P66*V66*U66*M66*Settings!$J$15)+(Q66*V66*U66*M66*Settings!$J$16)+(R66*W66*N66*Settings!$G$15)+(S66*W66*N66*Settings!$G$16)+(T66*(N66+M66)*Settings!$M$15)","v":77.268171300000006}]
[{"$f":"_xlfn.CONCAT(B67,F67)","v":"MIADeVante Parker"},{"$f":"VLOOKUP(C67,'team abbr lookup'!B:C,2,FALSE)","v":"MIA"},"Miami Dolphins","---","Chan Gailey","DeVante Parker","WR1","Miami Dolphins",292.2,283.2,"Fitzpatrick / Tagovailoa","Ryan Fitzpatrick",123,0,0.55449999999999999,8.9499999999999993,5.7000000000000002E-2,0,0.01,2E-3,1,0.99229999999999996,0.98460000000000003,{"$f":"(O67*M67*Settings!$J$17)+(P67*V67*U67*M67*Settings!$J$15)+(Q67*V67*U67*M67*Settings!$J$16)+(R67*W67*N67*Settings!$G$15)+(S67*W67*N67*Settings!$G$16)+(T67*(N67+M67)*Settings!$M$15)","v":218.69093730000003}]
["MIAPreston Williams",{"$f":"VLOOKUP(C68,'team abbr lookup'!B:C,2,FALSE)","v":"MIA"},"Miami Dolphins","---","Chan Gailey","Preston Williams","WR2","Miami Dolphins",292.2,283.2,"Fitzpatrick / Tagovailoa","Ryan Fitzpatrick",109,1,0.5333,7.13,0.05,0,0.01,3.3000000000000002E-2,1,0.99229999999999996,0.98460000000000003,{"$f":"(O68*M68*Settings!$J$17)+(P68*V68*U68*M68*Settings!$J$15)+(Q68*V68*U68*M68*Settings!$J$16)+(R68*W68*N68*Settings!$G$15)+(S68*W68*N68*Settings!$G$16)+(T68*(N68+M68)*Settings!$M$15)","v":160.49556510000002}]
["MIAJakeem Grant",{"$f":"VLOOKUP(C69,'team abbr lookup'!B:C,2,FALSE)","v":"MIA"},"Miami Dolphins","---","Chan Gailey","Jakeem Grant","WR3","Miami Dolphins",292.2,283.2,"Fitzpatrick / Tagovailoa","Ryan Fitzpatrick",61,3,0.59,5.96,0.03,1.67,0.2,2.8000000000000001E-2,1,0.99229999999999996,0.98460000000000003,{"$f":"(O69*M69*Settings!$J$17)+(P69*V69*U69*M69*Settings!$J$15)+(Q69*V69*U69*M69*Settings!$J$16)+(R69*W69*N69*Settings!$G$15)+(S69*W69*N69*Settings!$G$16)+(T69*(N69+M69)*Settings!$M$15)","v":83.415357399999991}]
["MIAIsaiah Ford",{"$f":"VLOOKUP(C70,'team abbr lookup'!B:C,2,FALSE)","v":"MIA"},"Miami Dolphins","---","Chan Gailey","Isaiah Ford","WR6","Miami Dolphins",292.2,283.2,"Fitzpatrick / Tagovailoa","Ryan Fitzpatrick",34,0,0.65710000000000002,6.97,0.01,11,0.01,0,1,0.99229999999999996,0.98460000000000003,{"$f":"(O70*M70*Settings!$J$17)+(P70*V70*U70*M70*Settings!$J$15)+(Q70*V70*U70*M70*Settings!$J$16)+(R70*W70*N70*Settings!$G$15)+(S70*W70*N70*Settings!$G$16)+(T70*(N70+M70)*Settings!$M$15)","v":47.881217400000004}]
["MINAdam Thielen",{"$f":"VLOOKUP(C71,'team abbr lookup'!B:C,2,FALSE)","v":"MIN"},"Minnesota Vikings","---","Gary Kubiak","Adam Thielen","WR1","Minnesota Vikings",298.60000000000002,289.2,"Kirk Cousins","Kirk Cousins",98,4,0.69479999999999997,9.14,7.8E-2,4.43,0.14299999999999999,5.0000000000000001E-3,1,0.99209999999999998,0.98429999999999995,{"$f":"(O71*M71*Settings!$J$17)+(P71*V71*U71*M71*Settings!$J$15)+(Q71*V71*U71*M71*Settings!$J$16)+(R71*W71*N71*Settings!$G$15)+(S71*W71*N71*Settings!$G$16)+(T71*(N71+M71)*Settings!$M$15)","v":206.55875280000001}]
["MINJustin Jefferson",{"$f":"VLOOKUP(C72,'team abbr lookup'!B:C,2,FALSE)","v":"MIN"},"Minnesota Vikings","---","Gary Kubiak","Justin Jefferson","WR2","---",298.60000000000002,289.2,"---","Kirk Cousins",71,2,0.61280000000000001,8.4700000000000006,5.6000000000000001E-2,4.83,0.01,1.0999999999999999E-2,1,0.99209999999999998,0.98429999999999995,{"$f":"(O72*M72*Settings!$J$17)+(P72*V72*U72*M72*Settings!$J$15)+(Q72*V72*U72*M72*Settings!$J$16)+(R72*W72*N72*Settings!$G$15)+(S72*W72*N72*Settings!$G$16)+(T72*(N72+M72)*Settings!$M$15)","v":126.30120510000002}]
["MINOlabisi Johnson",{"$f":"VLOOKUP(C73,'team abbr lookup'!B:C,2,FALSE)","v":"MIN"},"Minnesota Vikings","---","Gary Kubiak","Olabisi Johnson","WR3","Minnesota Vikings",298.60000000000002,289.2,"Kirk Cousins","Kirk Cousins",34,1,0.68889999999999996,6.53,6.7000000000000004E-2,6,0.01,0,1,0.99209999999999998,0.98429999999999995,{"$f":"(O73*M73*Settings!$J$17)+(P73*V73*U73*M73*Settings!$J$15)+(Q73*V73*U73*M73*Settings!$J$16)+(R73*W73*N73*Settings!$G$15)+(S73*W73*N73*Settings!$G$16)+(T73*(N73+M73)*Settings!$M$15)","v":59.658864999999999}]
["NOMichael Thomas",{"$f":"VLOOKUP(C74,'team abbr lookup'!B:C,2,FALSE)","v":"NO"},"New Orleans Saints","---","---","Michael Thomas","WR1","New Orleans Saints",320.60000000000002,328.4,"Drew Brees","Drew Brees",151,0,0.81820000000000004,9.39,5.3999999999999999E-2,-9,0.01,8.0000000000000002E-3,0.98,1.0061,1.0122,{"$f":"(O74*M74*Settings!$J$17)+(P74*V74*U74*M74*Settings!$J$15)+(Q74*V74*U74*M74*Settings!$J$16)+(R74*W74*N74*Settings!$G$15)+(S74*W74*N74*Settings!$G$16)+(T74*(N74+M74)*Settings!$M$15)","v":309.17102231399997}]
["NOEmmanuel Sanders",{"$f":"VLOOKUP(C75,'team abbr lookup'!B:C,2,FALSE)","v":"NO"},"New Orleans Saints","---","---","Emmanuel Sanders","WR2","San Francisco 49ers",326.39999999999998,328.4,"Jimmy Garoppolo","Drew Brees",81,1,0.69369999999999998,9,4.7E-2,12,0.2,1.0999999999999999E-2,1.03,1.0015000000000001,1.0031000000000001,{"$f":"(O75*M75*Settings!$J$17)+(P75*V75*U75*M75*Settings!$J$15)+(Q75*V75*U75*M75*Settings!$J$16)+(R75*W75*N75*Settings!$G$15)+(S75*W75*N75*Settings!$G$16)+(T75*(N75+M75)*Settings!$M$15)","v":155.55532138999999}]
["NOTre'Quan Smith",{"$f":"VLOOKUP(C76,'team abbr lookup'!B:C,2,FALSE)","v":"NO"},"New Orleans Saints","---","---","Tre'Quan Smith","WR3","New Orleans Saints",320.60000000000002,328.4,"Drew Brees","Drew Brees",33,0,0.68089999999999995,9.52,0.1,0,0.01,0,0.98,1.0061,1.0122,{"$f":"(O76*M76*Settings!$J$17)+(P76*V76*U76*M76*Settings!$J$15)+(Q76*V76*U76*M76*Settings!$J$16)+(R76*W76*N76*Settings!$G$15)+(S76*W76*N76*Settings!$G$16)+(T76*(N76+M76)*Settings!$M$15)","v":72.967549247999997}]
["NEJulian Edelman",{"$f":"VLOOKUP(C77,'team abbr lookup'!B:C,2,FALSE)","v":"NE"},"New England Patriots","---","---","Julian Edelman","WR1","New England Patriots",330.8,314,"Tom Brady","Cam Newton",131,7,0.66180000000000005,7.45,4.5999999999999999E-2,6.44,0.01,2.5999999999999999E-2,0.8,0.98729999999999996,0.97460000000000002,{"$f":"(O77*M77*Settings!$J$17)+(P77*V77*U77*M77*Settings!$J$15)+(Q77*V77*U77*M77*Settings!$J$16)+(R77*W77*N77*Settings!$G$15)+(S77*W77*N77*Settings!$G$16)+(T77*(N77+M77)*Settings!$M$15)","v":189.96451864000005}]
["NEN'Keal Harry",{"$f":"VLOOKUP(C78,'team abbr lookup'!B:C,2,FALSE)","v":"NE"},"New England Patriots","---","---","N'Keal Harry","WR2","New England Patriots",330.8,314,"Tom Brady","Cam Newton",88,4,0.61280000000000001,8.4700000000000006,5.6000000000000001E-2,4.83,0.01,1.0999999999999999E-2,0.8,0.98729999999999996,0.97460000000000002,{"$f":"(O78*M78*Settings!$J$17)+(P78*V78*U78*M78*Settings!$J$15)+(Q78*V78*U78*M78*Settings!$J$16)+(R78*W78*N78*Settings!$G$15)+(S78*W78*N78*Settings!$G$16)+(T78*(N78+M78)*Settings!$M$15)","v":136.24473456000001}]
["NEJakobi Meyers",{"$f":"VLOOKUP(C79,'team abbr lookup'!B:C,2,FALSE)","v":"NE"},"New England Patriots","---","---","Jakobi Meyers","WR4","New England Patriots",330.8,314,"Tom Brady","Cam Newton",54,0,0.6341,8.76,0.01,0,0.01,0,0.8,0.98729999999999996,0.97460000000000002,{"$f":"(O79*M79*Settings!$J$17)+(P79*V79*U79*M79*Settings!$J$15)+(Q79*V79*U79*M79*Settings!$J$16)+(R79*W79*N79*Settings!$G$15)+(S79*W79*N79*Settings!$G$16)+(T79*(N79+M79)*Settings!$M$15)","v":74.163072960000008}]
["NYGSterling Shepard",{"$f":"VLOOKUP(C80,'team abbr lookup'!B:C,2,FALSE)","v":"NYG"},"New York Giants","Joe Judge","Jason Garrett","Sterling Shepard","WR1","New York Giants",311.8,292,"Daniel Jones","Daniel Jones",99,5,0.6593,7.41,3.6999999999999998E-2,11.8,0.01,5.0000000000000001E-3,1,0.98409999999999997,0.96819999999999995,{"$f":"(O80*M80*Settings!$J$17)+(P80*V80*U80*M80*Settings!$J$15)+(Q80*V80*U80*M80*Settings!$J$16)+(R80*W80*N80*Settings!$G$15)+(S80*W80*N80*Settings!$G$16)+(T80*(N80+M80)*Settings!$M$15)","v":164.0546817}]
["NYGGolden Tate",{"$f":"VLOOKUP(C81,'team abbr lookup'!B:C,2,FALSE)","v":"NYG"},"New York Giants","Joe Judge","Jason Garrett","Golden Tate","WR2","New York Giants",311.8,292,"Daniel Jones","Daniel Jones",95,2,0.60780000000000001,7.59,5.0999999999999997E-2,11,0.01,1.4999999999999999E-2,1,0.98409999999999997,0.96819999999999995,{"$f":"(O81*M81*Settings!$J$17)+(P81*V81*U81*M81*Settings!$J$15)+(Q81*V81*U81*M81*Settings!$J$16)+(R81*W81*N81*Settings!$G$15)+(S81*W81*N81*Settings!$G$16)+(T81*(N81+M81)*Settings!$M$15)","v":156.6435415}]
["NYGDarius Slayton",{"$f":"VLOOKUP(C82,'team abbr lookup'!B:C,2,FALSE)","v":"NYG"},"New York Giants","Joe Judge","Jason Garrett","Darius Slayton","WR3","New York Giants",311.8,292,"Daniel Jones","Daniel Jones",81,0,0.57140000000000002,8.81,9.5000000000000001E-2,0,0.01,0,1,0.98409999999999997,0.96819999999999995,{"$f":"(O82*M82*Settings!$J$17)+(P82*V82*U82*M82*Settings!$J$15)+(Q82*V82*U82*M82*Settings!$J$16)+(R82*W82*N82*Settings!$G$15)+(S82*W82*N82*Settings!$G$16)+(T82*(N82+M82)*Settings!$M$15)","v":161.94565710000001}]
["NYJJamison Crowder",{"$f":"VLOOKUP(C83,'team abbr lookup'!B:C,2,FALSE)","v":"NYJ"},"New York Jets","---","---","Jamison Crowder","WR1","New York Jets",304.8,295.39999999999998,"Sam Darnold","Sam Darnold",111,1,0.62929999999999997,6.99,4.7E-2,6.33,0.01,2.5999999999999999E-2,1.05,0.99229999999999996,0.98460000000000003,{"$f":"(O83*M83*Settings!$J$17)+(P83*V83*U83*M83*Settings!$J$15)+(Q83*V83*U83*M83*Settings!$J$16)+(R83*W83*N83*Settings!$G$15)+(S83*W83*N83*Settings!$G$16)+(T83*(N83+M83)*Settings!$M$15)","v":178.165794065}]
["NYJBreshad Perriman",{"$f":"VLOOKUP(C84,'team abbr lookup'!B:C,2,FALSE)","v":"NYJ"},"New York Jets","---","---","Breshad Perriman","WR2","Tampa Bay Buccaneers",314.60000000000002,295.39999999999998,"Jameis Winston","Sam Darnold",81,2,0.53990000000000005,10,8.5000000000000006E-2,4.25,0.01,0,1,0.98470000000000002,0.96950000000000003,{"$f":"(O84*M84*Settings!$J$17)+(P84*V84*U84*M84*Settings!$J$15)+(Q84*V84*U84*M84*Settings!$J$16)+(R84*W84*N84*Settings!$G$15)+(S84*W84*N84*Settings!$G$16)+(T84*(N84+M84)*Settings!$M$15)","v":165.11097200000003}]
["NYJDenzel Mims",{"$f":"VLOOKUP(C85,'team abbr lookup'!B:C,2,FALSE)","v":"NYJ"},"New York Jets","---","---","Denzel Mims","WR3","---",304.8,295.39999999999998,"---","Sam Darnold",42,1,0.64090000000000003,7.75,5.3999999999999999E-2,3.13,0.01,8.9999999999999993E-3,1,0.99229999999999996,0.98460000000000003,{"$f":"(O85*M85*Settings!$J$17)+(P85*V85*U85*M85*Settings!$J$15)+(Q85*V85*U85*M85*Settings!$J$16)+(R85*W85*N85*Settings!$G$15)+(S85*W85*N85*Settings!$G$16)+(T85*(N85+M85)*Settings!$M$15)","v":72.313639200000011}]
["LVHenry Ruggs III",{"$f":"VLOOKUP(C86,'team abbr lookup'!B:C,2,FALSE)","v":"LV"},"Las Vegas Raiders","---","---","Henry Ruggs III","WR1","---",320,339,"---","Derek Carr",83,4,0.61280000000000001,8.4700000000000006,5.6000000000000001E-2,4.83,0.01,1.0999999999999999E-2,1,1.0147999999999999,1.0297000000000001,{"$f":"(O86*M86*Settings!$J$17)+(P86*V86*U86*M86*Settings!$J$15)+(Q86*V86*U86*M86*Settings!$J$16)+(R86*W86*N86*Settings!$G$15)+(S86*W86*N86*Settings!$G$16)+(T86*(N86+M86)*Settings!$M$15)","v":150.82710560000001}]
["LVHunter Renfrow",{"$f":"VLOOKUP(C87,'team abbr lookup'!B:C,2,FALSE)","v":"LV"},"Las Vegas Raiders","---","---","Hunter Renfrow","WR2","Las Vegas Raiders",320,339,"Derek Carr","Derek Carr",69,0,0.69010000000000005,8.52,5.6000000000000001E-2,0,0.01,1.4E-2,1,1.0147999999999999,1.0297000000000001,{"$f":"(O87*M87*Settings!$J$17)+(P87*V87*U87*M87*Settings!$J$15)+(Q87*V87*U87*M87*Settings!$J$16)+(R87*W87*N87*Settings!$G$15)+(S87*W87*N87*Settings!$G$16)+(T87*(N87+M87)*Settings!$M$15)","v":128.87008560000001}]
["LVBryan Edwards",{"$f":"VLOOKUP(C88,'team abbr lookup'!B:C,2,FALSE)","v":"LV"},"Las Vegas Raiders","---","---","Bryan Edwards","WR4","---",320,339,"---","Derek Carr",68,1,0.64090000000000003,7.75,5.3999999999999999E-2,3.13,0.01,8.9999999999999993E-3,1,1.0147999999999999,1.0297000000000001,{"$f":"(O88*M88*Settings!$J$17)+(P88*V88*U88*M88*Settings!$J$15)+(Q88*V88*U88*M88*Settings!$J$16)+(R88*W88*N88*Settings!$G$15)+(S88*W88*N88*Settings!$G$16)+(T88*(N88+M88)*Settings!$M$15)","v":118.56131169999999}]
["LVNelson Agholor",{"$f":"VLOOKUP(C89,'team abbr lookup'!B:C,2,FALSE)","v":"LV"},"Las Vegas Raiders","---","---","Nelson Agholor","WR5","Philadelphia Eagles",342,339,"Carson Wentz","Derek Carr",36,1,0.60429999999999995,6.22,4.2000000000000003E-2,6.57,0,1.2999999999999999E-2,1,0.99780000000000002,0.99560000000000004,{"$f":"(O89*M89*Settings!$J$17)+(P89*V89*U89*M89*Settings!$J$15)+(Q89*V89*U89*M89*Settings!$J$16)+(R89*W89*N89*Settings!$G$15)+(S89*W89*N89*Settings!$G$16)+(T89*(N89+M89)*Settings!$M$15)","v":52.841688400000002}]
["PHIJalen Reagor",{"$f":"VLOOKUP(C90,'team abbr lookup'!B:C,2,FALSE)","v":"PHI"},"Philadelphia Eagles","---","NONE","Jalen Reagor","WR1","---",342,337.8,"---","Carson Wentz",75,2,0.61280000000000001,8.4700000000000006,5.6000000000000001E-2,4.83,0.01,1.0999999999999999E-2,1,0.99690000000000001,0.99390000000000001,{"$f":"(O90*M90*Settings!$J$17)+(P90*V90*U90*M90*Settings!$J$15)+(Q90*V90*U90*M90*Settings!$J$16)+(R90*W90*N90*Settings!$G$15)+(S90*W90*N90*Settings!$G$16)+(T90*(N90+M90)*Settings!$M$15)","v":133.79532790000002}]
["PHIDeSean Jackson",{"$f":"VLOOKUP(C91,'team abbr lookup'!B:C,2,FALSE)","v":"PHI"},"Philadelphia Eagles","---","NONE","DeSean Jackson","WR2","Philadelphia Eagles",342,337.8,"Carson Wentz","Carson Wentz",88,5,0.55459999999999998,9.31,4.2999999999999997E-2,6.4,0.111,1.2999999999999999E-2,1,0.99690000000000001,0.99390000000000001,{"$f":"(O91*M91*Settings!$J$17)+(P91*V91*U91*M91*Settings!$J$15)+(Q91*V91*U91*M91*Settings!$J$16)+(R91*W91*N91*Settings!$G$15)+(S91*W91*N91*Settings!$G$16)+(T91*(N91+M91)*Settings!$M$15)","v":157.18460780000001}]
["PHIAlshon Jeffery",{"$f":"VLOOKUP(C92,'team abbr lookup'!B:C,2,FALSE)","v":"PHI"},"Philadelphia Eagles","---","NONE","Alshon Jeffery","WR3","Philadelphia Eagles",342,337.8,"Carson Wentz","Carson Wentz",50,0,0.70650000000000002,9.16,6.0999999999999999E-2,2,0.1,7.0000000000000001E-3,1,0.99690000000000001,0.99390000000000001,{"$f":"(O92*M92*Settings!$J$17)+(P92*V92*U92*M92*Settings!$J$15)+(Q92*V92*U92*M92*Settings!$J$16)+(R92*W92*N92*Settings!$G$15)+(S92*W92*N92*Settings!$G$16)+(T92*(N92+M92)*Settings!$M$15)","v":98.526290000000003}]
["PHIGreg Ward",{"$f":"VLOOKUP(C93,'team abbr lookup'!B:C,2,FALSE)","v":"PHI"},"Philadelphia Eagles","---","NONE","Greg Ward","WR4","Philadelphia Eagles",342,337.8,"Carson Wentz","Carson Wentz",31,1,0.7,6.35,2.5000000000000001E-2,5,0,0,1,0.99690000000000001,0.99390000000000001,{"$f":"(O93*M93*Settings!$J$17)+(P93*V93*U93*M93*Settings!$J$15)+(Q93*V93*U93*M93*Settings!$J$16)+(R93*W93*N93*Settings!$G$15)+(S93*W93*N93*Settings!$G$16)+(T93*(N93+M93)*Settings!$M$15)","v":46.456511499999998}]
["PITJuJu Smith-Schuster",{"$f":"VLOOKUP(C94,'team abbr lookup'!B:C,2,FALSE)","v":"PIT"},"Pittsburgh Steelers","---","---","JuJu Smith-Schuster","WR1","Pittsburgh Steelers",326.2,320.39999999999998,"Mason Rudolph","Ben Roethlisberger",132,0,0.63729999999999998,8.27,4.2000000000000003E-2,12,0.01,6.0000000000000001E-3,1.05,0.99560000000000004,0.99109999999999998,{"$f":"(O94*M94*Settings!$J$17)+(P94*V94*U94*M94*Settings!$J$15)+(Q94*V94*U94*M94*Settings!$J$16)+(R94*W94*N94*Settings!$G$15)+(S94*W94*N94*Settings!$G$16)+(T94*(N94+M94)*Settings!$M$15)","v":231.43098263999997}]
["PITDiontae Johnson",{"$f":"VLOOKUP(C95,'team abbr lookup'!B:C,2,FALSE)","v":"PIT"},"Pittsburgh Steelers","---","---","Diontae Johnson","WR2","Pittsburgh Steelers",326.2,320.39999999999998,"Mason Rudolph","Ben Roethlisberger",105,3,0.64129999999999998,7.39,5.3999999999999999E-2,10.25,0.01,5.1999999999999998E-2,1.05,0.99560000000000004,0.99109999999999998,{"$f":"(O95*M95*Settings!$J$17)+(P95*V95*U95*M95*Settings!$J$15)+(Q95*V95*U95*M95*Settings!$J$16)+(R95*W95*N95*Settings!$G$15)+(S95*W95*N95*Settings!$G$16)+(T95*(N95+M95)*Settings!$M$15)","v":176.01061920000001}]
["PITJames Washington",{"$f":"VLOOKUP(C96,'team abbr lookup'!B:C,2,FALSE)","v":"PIT"},"Pittsburgh Steelers","---","---","James Washington","WR3","Pittsburgh Steelers",326.2,320.39999999999998,"Mason Rudolph","Ben Roethlisberger",64,0,0.52529999999999999,8.52,3.4000000000000002E-2,0,0.01,8.0000000000000002E-3,1.05,0.99560000000000004,0.99109999999999998,{"$f":"(O96*M96*Settings!$J$17)+(P96*V96*U96*M96*Settings!$J$15)+(Q96*V96*U96*M96*Settings!$J$16)+(R96*W96*N96*Settings!$G$15)+(S96*W96*N96*Settings!$G$16)+(T96*(N96+M96)*Settings!$M$15)","v":103.24616191999999}]
["PITChase Claypool",{"$f":"VLOOKUP(C97,'team abbr lookup'!B:C,2,FALSE)","v":"PIT"},"Pittsburgh Steelers","---","---","Chase Claypool","WR4","---",326.2,320.39999999999998,"---","Ben Roethlisberger",45,1,0.64090000000000003,7.75,5.3999999999999999E-2,3.13,0.01,8.9999999999999993E-3,1,0.99560000000000004,0.99109999999999998,{"$f":"(O97*M97*Settings!$J$17)+(P97*V97*U97*M97*Settings!$J$15)+(Q97*V97*U97*M97*Settings!$J$16)+(R97*W97*N97*Settings!$G$15)+(S97*W97*N97*Settings!$G$16)+(T97*(N97+M97)*Settings!$M$15)","v":77.619578300000001}]
["SEATyler Lockett",{"$f":"VLOOKUP(C98,'team abbr lookup'!B:C,2,FALSE)","v":"SEA"},"Seattle Seahawks","---","---","Tyler Lockett","WR1","Seattle Seahawks",307.2,295.39999999999998,"Russell Wilson","Russell Wilson",80,5,0.7621,10.62,0.1,2.81,0.01,8.9999999999999993E-3,0.95,0.99039999999999995,0.98080000000000001,{"$f":"(O98*M98*Settings!$J$17)+(P98*V98*U98*M98*Settings!$J$15)+(Q98*V98*U98*M98*Settings!$J$16)+(R98*W98*N98*Settings!$G$15)+(S98*W98*N98*Settings!$G$16)+(T98*(N98+M98)*Settings!$M$15)","v":186.20966880000003}]
["SEAD.K. Metcalf",{"$f":"VLOOKUP(C99,'team abbr lookup'!B:C,2,FALSE)","v":"SEA"},"Seattle Seahawks","---","---","D.K. Metcalf","WR2","Seattle Seahawks",307.2,295.39999999999998,"Russell Wilson","Russell Wilson",98,1,0.57999999999999996,9,7.0000000000000007E-2,5.5,0.01,2.9000000000000001E-2,0.95,0.99039999999999995,0.98080000000000001,{"$f":"(O99*M99*Settings!$J$17)+(P99*V99*U99*M99*Settings!$J$15)+(Q99*V99*U99*M99*Settings!$J$16)+(R99*W99*N99*Settings!$G$15)+(S99*W99*N99*Settings!$G$16)+(T99*(N99+M99)*Settings!$M$15)","v":173.40852480000004}]
["SEAPhillip Dorsett",{"$f":"VLOOKUP(C100,'team abbr lookup'!B:C,2,FALSE)","v":"SEA"},"Seattle Seahawks","---","---","Phillip Dorsett","WR3","New England Patriots",330.8,295.39999999999998,"Tom Brady","Russell Wilson",22,0,0.6,7.23,8.3000000000000004E-2,7.1,0.01,1.2999999999999999E-2,1,0.97319999999999995,0.94650000000000001,{"$f":"(O100*M100*Settings!$J$17)+(P100*V100*U100*M100*Settings!$J$15)+(Q100*V100*U100*M100*Settings!$J$16)+(R100*W100*N100*Settings!$G$15)+(S100*W100*N100*Settings!$G$16)+(T100*(N100+M100)*Settings!$M$15)","v":38.770098399999995}]
["SEADavid Moore",{"$f":"VLOOKUP(C101,'team abbr lookup'!B:C,2,FALSE)","v":"SEA"},"Seattle Seahawks","---","---","David Moore","WR4","Seattle Seahawks",307.2,295.39999999999998,"Russell Wilson","Russell Wilson",33,1,0.49590000000000001,8.65,0.08,7.86,0.01,4.3999999999999997E-2,0.95,0.99039999999999995,0.98080000000000001,{"$f":"(O101*M101*Settings!$J$17)+(P101*V101*U101*M101*Settings!$J$15)+(Q101*V101*U101*M101*Settings!$J$16)+(R101*W101*N101*Settings!$G$15)+(S101*W101*N101*Settings!$G$16)+(T101*(N101+M101)*Settings!$M$15)","v":55.963415599999998}]
["SEAPaul Richardson",{"$f":"VLOOKUP(C102,'team abbr lookup'!B:C,2,FALSE)","v":"SEA"},"Seattle Seahawks","---","---","Paul Richardson","WR5","Washington Football Team",322,295.39999999999998,"Case Keenum","Russell Wilson",34,0,0.63870000000000005,6.32,5.1999999999999998E-2,2.25,0,4.0000000000000001E-3,1.1000000000000001,0.97929999999999995,0.9587,{"$f":"(O102*M102*Settings!$J$17)+(P102*V102*U102*M102*Settings!$J$15)+(Q102*V102*U102*M102*Settings!$J$16)+(R102*W102*N102*Settings!$G$15)+(S102*W102*N102*Settings!$G$16)+(T102*(N102+M102)*Settings!$M$15)","v":56.018574080000008}]
["SEAJosh Gordon",{"$f":"VLOOKUP(C103,'team abbr lookup'!B:C,2,FALSE)","v":"SEA"},"Seattle Seahawks","---","---","Josh Gordon","WR6","Seattle Seahawks",307.2,295.39999999999998,"Russell Wilson","Russell Wilson",54,0,0.57579999999999998,9.6300000000000008,4.2000000000000003E-2,1,0,2E-3,1,0.99039999999999995,0.98080000000000001,{"$f":"(O103*M103*Settings!$J$17)+(P103*V103*U103*M103*Settings!$J$15)+(Q103*V103*U103*M103*Settings!$J$16)+(R103*W103*N103*Settings!$G$15)+(S103*W103*N103*Settings!$G$16)+(T103*(N103+M103)*Settings!$M$15)","v":95.857343999999998}]
["SFDeebo Samuel",{"$f":"VLOOKUP(C104,'team abbr lookup'!B:C,2,FALSE)","v":"SF"},"San Francisco 49ers","---","---","Deebo Samuel","WR1","San Francisco 49ers",326.39999999999998,324.2,"Jimmy Garoppolo","Jimmy Garoppolo",70,9,0.70369999999999999,9.9,3.6999999999999998E-2,11.36,0.2,2.1000000000000001E-2,1.03,0.99829999999999997,0.99660000000000004,{"$f":"(O104*M104*Settings!$J$17)+(P104*V104*U104*M104*Settings!$J$15)+(Q104*V104*U104*M104*Settings!$J$16)+(R104*W104*N104*Settings!$G$15)+(S104*W104*N104*Settings!$G$16)+(T104*(N104+M104)*Settings!$M$15)","v":154.13016356}]
["SFBrandon Aiyuk",{"$f":"VLOOKUP(C105,'team abbr lookup'!B:C,2,FALSE)","v":"SF"},"San Francisco 49ers","---","---","Brandon Aiyuk","WR2","---",326.39999999999998,324.2,"---","Jimmy Garoppolo",66,2,0.61280000000000001,8.4700000000000006,5.6000000000000001E-2,4.83,0.01,1.0999999999999999E-2,1,0.99829999999999997,0.99660000000000004,{"$f":"(O105*M105*Settings!$J$17)+(P105*V105*U105*M105*Settings!$J$15)+(Q105*V105*U105*M105*Settings!$J$16)+(R105*W105*N105*Settings!$G$15)+(S105*W105*N105*Settings!$G$16)+(T105*(N105+M105)*Settings!$M$15)","v":117.97637499999999}]
["SFKendrick Bourne",{"$f":"VLOOKUP(C106,'team abbr lookup'!B:C,2,FALSE)","v":"SF"},"San Francisco 49ers","---","---","Kendrick Bourne","WR3","San Francisco 49ers",326.39999999999998,324.2,"Jimmy Garoppolo","Jimmy Garoppolo",39,1,0.6623,7.81,8.2000000000000003E-2,0,0.01,7.0000000000000001E-3,1.03,0.99829999999999997,0.99660000000000004,{"$f":"(O106*M106*Settings!$J$17)+(P106*V106*U106*M106*Settings!$J$15)+(Q106*V106*U106*M106*Settings!$J$16)+(R106*W106*N106*Settings!$G$15)+(S106*W106*N106*Settings!$G$16)+(T106*(N106+M106)*Settings!$M$15)","v":76.378974103000004}]
["SFTrent Taylor",{"$f":"VLOOKUP(C107,'team abbr lookup'!B:C,2,FALSE)","v":"SF"},"San Francisco 49ers","---","---","Trent Taylor","WR4","San Francisco 49ers",326.39999999999998,324.2,"Jimmy Garoppolo","Jimmy Garoppolo",30,0,0.66900000000000004,6.06,0.03,0,0,0.02,1.03,0.99829999999999997,0.99660000000000004,{"$f":"(O107*M107*Settings!$J$17)+(P107*V107*U107*M107*Settings!$J$15)+(Q107*V107*U107*M107*Settings!$J$16)+(R107*W107*N107*Settings!$G$15)+(S107*W107*N107*Settings!$G$16)+(T107*(N107+M107)*Settings!$M$15)","v":43.116111419999989}]
["SFDante Pettis",{"$f":"VLOOKUP(C108,'team abbr lookup'!B:C,2,FALSE)","v":"SF"},"San Francisco 49ers","---","---","Dante Pettis","WR5","San Francisco 49ers",326.39999999999998,324.2,"Jimmy Garoppolo","Jimmy Garoppolo",9,0,0.52690000000000003,7.37,0.10100000000000001,-2,0,2.9000000000000001E-2,1.03,0.99829999999999997,0.99660000000000004,{"$f":"(O108*M108*Settings!$J$17)+(P108*V108*U108*M108*Settings!$J$15)+(Q108*V108*U108*M108*Settings!$J$16)+(R108*W108*N108*Settings!$G$15)+(S108*W108*N108*Settings!$G$16)+(T108*(N108+M108)*Settings!$M$15)","v":16.648545663}]
["TBChris Godwin",{"$f":"VLOOKUP(C109,'team abbr lookup'!B:C,2,FALSE)","v":"TB"},"Tampa Bay Buccaneers","---","---","Chris Godwin","WR1","Tampa Bay Buccaneers",314.60000000000002,297.39999999999998,"Jameis Winston","Tom Brady",119,1,0.68959999999999999,10.47,7.3999999999999996E-2,8,0.01,1.4999999999999999E-2,0.95,0.98629999999999995,0.97270000000000001,{"$f":"(O109*M109*Settings!$J$17)+(P109*V109*U109*M109*Settings!$J$15)+(Q109*V109*U109*M109*Settings!$J$16)+(R109*W109*N109*Settings!$G$15)+(S109*W109*N109*Settings!$G$16)+(T109*(N109+M109)*Settings!$M$15)","v":245.54723356499997}]
["TBMike Evans",{"$f":"VLOOKUP(C110,'team abbr lookup'!B:C,2,FALSE)","v":"TB"},"Tampa Bay Buccaneers","---","---","Mike Evans","WR2","Tampa Bay Buccaneers",314.60000000000002,297.39999999999998,"Jameis Winston","Tom Brady",125,1,0.58819999999999995,10.26,6.3E-2,0,0.01,5.0000000000000001E-3,0.95,0.98629999999999995,0.97270000000000001,{"$f":"(O110*M110*Settings!$J$17)+(P110*V110*U110*M110*Settings!$J$15)+(Q110*V110*U110*M110*Settings!$J$16)+(R110*W110*N110*Settings!$G$15)+(S110*W110*N110*Settings!$G$16)+(T110*(N110+M110)*Settings!$M$15)","v":236.76422949999997}]
["TBScott Miller",{"$f":"VLOOKUP(C111,'team abbr lookup'!B:C,2,FALSE)","v":"TB"},"Tampa Bay Buccaneers","---","---","Scott Miller","WR3","Tampa Bay Buccaneers",314.60000000000002,297.39999999999998,"Jameis Winston","Tom Brady",41,1,0.5,7.69,3.7999999999999999E-2,8,0.01,0,0.95,0.98629999999999995,0.97270000000000001,{"$f":"(O111*M111*Settings!$J$17)+(P111*V111*U111*M111*Settings!$J$15)+(Q111*V111*U111*M111*Settings!$J$16)+(R111*W111*N111*Settings!$G$15)+(S111*W111*N111*Settings!$G$16)+(T111*(N111+M111)*Settings!$M$15)","v":59.637657845000007}]
["TENA.J. Brown",{"$f":"VLOOKUP(C112,'team abbr lookup'!B:C,2,FALSE)","v":"TEN"},"Tennessee Titans","---","---","A.J. Brown","WR1","Tennessee Titans",310.2,310.60000000000002,"Ryan Tannehill","Ryan Tannehill",100,5,0.61899999999999999,10.75,9.5000000000000001E-2,12,0.2,1.0999999999999999E-2,0.95,1.0003,1.0005999999999999,{"$f":"(O112*M112*Settings!$J$17)+(P112*V112*U112*M112*Settings!$J$15)+(Q112*V112*U112*M112*Settings!$J$16)+(R112*W112*N112*Settings!$G$15)+(S112*W112*N112*Settings!$G$16)+(T112*(N112+M112)*Settings!$M$15)","v":227.9190825}]
["TENCorey Davis",{"$f":"VLOOKUP(C113,'team abbr lookup'!B:C,2,FALSE)","v":"TEN"},"Tennessee Titans","---","---","Corey Davis","WR2","Tennessee Titans",310.2,310.60000000000002,"Ryan Tannehill","Ryan Tannehill",76,2,0.60399999999999998,8.3699999999999992,3.3000000000000002E-2,9.17,0.01,1.2E-2,0.95,1.0003,1.0005999999999999,{"$f":"(O113*M113*Settings!$J$17)+(P113*V113*U113*M113*Settings!$J$15)+(Q113*V113*U113*M113*Settings!$J$16)+(R113*W113*N113*Settings!$G$15)+(S113*W113*N113*Settings!$G$16)+(T113*(N113+M113)*Settings!$M$15)","v":120.73659049999998}]
["TENAdam Humphries",{"$f":"VLOOKUP(C114,'team abbr lookup'!B:C,2,FALSE)","v":"TEN"},"Tennessee Titans","---","---","Adam Humphries","WR3","Tennessee Titans",310.2,310.60000000000002,"Ryan Tannehill","Ryan Tannehill",53,1,0.75380000000000003,7.86,4.5999999999999999E-2,3.25,0.01,1.9E-2,0.95,1.0003,1.0005999999999999,{"$f":"(O114*M114*Settings!$J$17)+(P114*V114*U114*M114*Settings!$J$15)+(Q114*V114*U114*M114*Settings!$J$16)+(R114*W114*N114*Settings!$G$15)+(S114*W114*N114*Settings!$G$16)+(T114*(N114+M114)*Settings!$M$15)","v":91.772372509999983}]
[{"$f":"_xlfn.CONCAT(B115,F115)","v":"WASTerry McLaurin"},{"$f":"VLOOKUP(C115,'team abbr lookup'!B:C,2,FALSE)","v":"WAS"},"Washington Football Team","Ron Rivera","Scott Turner","Terry McLaurin","WR1","Washington Football Team",322,300,"Case Keenum","Dwayne Haskins",108,0,0.62370000000000003,9.8800000000000008,7.4999999999999997E-2,0,0.01,0,1,0.9829,0.96579999999999999,{"$f":"(O115*M115*Settings!$J$17)+(P115*V115*U115*M115*Settings!$J$15)+(Q115*V115*U115*M115*Settings!$J$16)+(R115*W115*N115*Settings!$G$15)+(S115*W115*N115*Settings!$G$16)+(T115*(N115+M115)*Settings!$M$15)","v":220.00790160000003}]
["WASSteven Sims",{"$f":"VLOOKUP(C116,'team abbr lookup'!B:C,2,FALSE)","v":"WAS"},"Washington Football Team","Ron Rivera","Scott Turner","Steven Sims","WR2","Washington Football Team",322,300,"Case Keenum","Dwayne Haskins",78,8,0.60709999999999997,5.54,7.0999999999999994E-2,9.44,0.111,1.4999999999999999E-2,1,0.9829,0.96579999999999999,{"$f":"(O116*M116*Settings!$J$17)+(P116*V116*U116*M116*Settings!$J$15)+(Q116*V116*U116*M116*Settings!$J$16)+(R116*W116*N116*Settings!$G$15)+(S116*W116*N116*Settings!$G$16)+(T116*(N116+M116)*Settings!$M$15)","v":132.34618}]
["WASAntonio Gandy-Golden",{"$f":"VLOOKUP(C117,'team abbr lookup'!B:C,2,FALSE)","v":"WAS"},"Washington Football Team","Ron Rivera","Scott Turner","Antonio Gandy-Golden","WR3","---",322,300,"---","Dwayne Haskins",34,0,0.64090000000000003,7.75,5.3999999999999999E-2,3.13,0.01,8.9999999999999993E-3,1,0.9829,0.96579999999999999,{"$f":"(O117*M117*Settings!$J$17)+(P117*V117*U117*M117*Settings!$J$15)+(Q117*V117*U117*M117*Settings!$J$16)+(R117*W117*N117*Settings!$G$15)+(S117*W117*N117*Settings!$G$16)+(T117*(N117+M117)*Settings!$M$15)","v":57.9056414}]
["WASDontrelle Inman",{"$f":"VLOOKUP(C118,'team abbr lookup'!B:C,2,FALSE)","v":"WAS"},"Washington Football Team","Ron Rivera","Scott Turner","Dontrelle Inman","WR4","Los Angeles Chargers",304.60000000000002,300,"Philip Rivers","Dwayne Haskins",49,0,0.64200000000000002,8.2200000000000006,0.05,0,0,7.0000000000000001E-3,0.9,0.99619999999999997,0.99239999999999995,{"$f":"(O118*M118*Settings!$J$17)+(P118*V118*U118*M118*Settings!$J$15)+(Q118*V118*U118*M118*Settings!$J$16)+(R118*W118*N118*Settings!$G$15)+(S118*W118*N118*Settings!$G$16)+(T118*(N118+M118)*Settings!$M$15)","v":80.064175240000012}]

{"sheet":"te data","index":7,"n_rows":53,"n_cols":24,"rows_kept":53,"cut":false,"hidden":false,"merged":[]}
["Code","Abbr","Team","New HC","New OC","Name","Position","2019 Team","OLine","OLine","2019 QB","2020 QB","xTargets","xRush","Catch %","Yds/Tar","TD/Tar","Yds/Att","TD/Att","Fum/(Att+Tar)","QB Mod","OLine Mod","OLine Mod","Final xPts"]
[{"$f":"_xlfn.CONCAT(B2,F2)","v":"ARIDan Arnold"},{"$f":"VLOOKUP(C2,'team abbr lookup'!B:C,2,FALSE)","v":"ARI"},"Arizona Cardinals","---","---","Dan Arnold","TE1","Arizona Cardinals",301.8,286.8,"Kyler Murray","Kyler Murray",36,0,0.59570000000000001,8.6,9.0999999999999998E-2,0,0.01,0.03,1,0.98760000000000003,0.97509999999999997,{"$f":"(O2*M2*Settings!$J$17)+(P2*V2*U2*M2*Settings!$J$15)+(Q2*V2*U2*M2*Settings!$J$16)+(R2*W2*N2*Settings!$G$15)+(S2*W2*N2*Settings!$G$16)+(T2*(N2+M2)*Settings!$M$15)","v":69.273561599999994}]
[{"$f":"_xlfn.CONCAT(B3,F3)","v":"ARIMaxx Williams"},{"$f":"VLOOKUP(C3,'team abbr lookup'!B:C,2,FALSE)","v":"ARI"},"Arizona Cardinals","---","---","Maxx Williams","TE2","Arizona Cardinals",301.8,286.8,"Kyler Murray","Kyler Murray",26,0,0.83640000000000003,9.9499999999999993,5.6000000000000001E-2,2.67,0.01,1.9E-2,1,0.98760000000000003,0.97509999999999997,{"$f":"(O3*M3*Settings!$J$17)+(P3*V3*U3*M3*Settings!$J$15)+(Q3*V3*U3*M3*Settings!$J$16)+(R3*W3*N3*Settings!$G$15)+(S3*W3*N3*Settings!$G$16)+(T3*(N3+M3)*Settings!$M$15)","v":54.935285600000007}]
["ATLHayden Hurst",{"$f":"VLOOKUP(C4,'team abbr lookup'!B:C,2,FALSE)","v":"ATL"},"Atlanta Falcons","---","---","Hayden Hurst","TE1","Baltimore Ravens",321.2,301.8,"Lamar Jackson","Matt Ryan",80,0,0.7228,8.52,4.8000000000000001E-2,0,0.01,0,1,0.9849,0.9698,{"$f":"(O4*M4*Settings!$J$17)+(P4*V4*U4*M4*Settings!$J$15)+(Q4*V4*U4*M4*Settings!$J$16)+(R4*W4*N4*Settings!$G$15)+(S4*W4*N4*Settings!$G$16)+(T4*(N4+M4)*Settings!$M$15)","v":147.64687999999998}]
["BALMark Andrews",{"$f":"VLOOKUP(C5,'team abbr lookup'!B:C,2,FALSE)","v":"BAL"},"Baltimore Ravens","---","---","Mark Andrews","TE1","Baltimore Ravens",321.2,328.6,"Lamar Jackson","Lamar Jackson",80,0,0.65849999999999997,9.17,8.7999999999999995E-2,0,0.01,1.4E-2,1,1.0058,1.0115000000000001,{"$f":"(O5*M5*Settings!$J$17)+(P5*V5*U5*M5*Settings!$J$15)+(Q5*V5*U5*M5*Settings!$J$16)+(R5*W5*N5*Settings!$G$15)+(S5*W5*N5*Settings!$G$16)+(T5*(N5+M5)*Settings!$M$15)","v":166.71047999999999}]
["BALNick Boyle",{"$f":"VLOOKUP(C6,'team abbr lookup'!B:C,2,FALSE)","v":"BAL"},"Baltimore Ravens","---","---","Nick Boyle","TE2","Baltimore Ravens",321.2,328.6,"Lamar Jackson","Lamar Jackson",38,0,0.69110000000000005,6.95,2.5000000000000001E-2,0,0.01,0,1,1.0058,1.0115000000000001,{"$f":"(O6*M6*Settings!$J$17)+(P6*V6*U6*M6*Settings!$J$15)+(Q6*V6*U6*M6*Settings!$J$16)+(R6*W6*N6*Settings!$G$15)+(S6*W6*N6*Settings!$G$16)+(T6*(N6+M6)*Settings!$M$15)","v":58.558038000000003}]
["BUFDawson Knox",{"$f":"VLOOKUP(C7,'team abbr lookup'!B:C,2,FALSE)","v":"BUF"},"Buffalo Bills","---","---","Dawson Knox","TE1","Buffalo Bills",311.39999999999998,300.60000000000002,"Josh Allen","Josh Allen",64,0,0.56000000000000005,7.76,0.04,9,0.01,0,1,0.99129999999999996,0.98270000000000002,{"$f":"(O7*M7*Settings!$J$17)+(P7*V7*U7*M7*Settings!$J$15)+(Q7*V7*U7*M7*Settings!$J$16)+(R7*W7*N7*Settings!$G$15)+(S7*W7*N7*Settings!$G$16)+(T7*(N7+M7)*Settings!$M$15)","v":100.29829119999999}]
["CARIan Thomas",{"$f":"VLOOKUP(C8,'team abbr lookup'!B:C,2,FALSE)","v":"CAR"},"Carolina Panthers","Matt Rhule","Joe Brady","Ian Thomas","TE1","Carolina Panthers",319.2,297.8,"Kyle Allen","Teddy Bridgewater",86,0,0.62390000000000001,5.55,3.7999999999999999E-2,0,0.01,0,1,0.98319999999999996,0.96650000000000003,{"$f":"(O8*M8*Settings!$J$17)+(P8*V8*U8*M8*Settings!$J$15)+(Q8*V8*U8*M8*Settings!$J$16)+(R8*W8*N8*Settings!$G$15)+(S8*W8*N8*Settings!$G$16)+(T8*(N8+M8)*Settings!$M$15)","v":119.86212160000001}]
["CHIJimmy Graham",{"$f":"VLOOKUP(C9,'team abbr lookup'!B:C,2,FALSE)","v":"CHI"},"Chicago Bears","---","Bill Lazor","Jimmy Graham","TE1","Green Bay Packers",328.2,303.39999999999998,"Aaron Rodgers","Nick Foles",61,0,0.62680000000000002,7.32,3.4000000000000002E-2,0,0.01,8.0000000000000002E-3,0.9,0.98109999999999997,0.96220000000000006,{"$f":"(O9*M9*Settings!$J$17)+(P9*V9*U9*M9*Settings!$J$15)+(Q9*V9*U9*M9*Settings!$J$16)+(R9*W9*N9*Settings!$G$15)+(S9*W9*N9*Settings!$G$16)+(T9*(N9+M9)*Settings!$M$15)","v":87.673997040000017}]
["CHICole Kmet",{"$f":"VLOOKUP(C10,'team abbr lookup'!B:C,2,FALSE)","v":"CHI"},"Chicago Bears","---","Bill Lazor","Cole Kmet","TE2","---",303.8,303.39999999999998,"---","Nick Foles",38,0,0.67010000000000003,7.84,4.9000000000000002E-2,0,0.01,6.0000000000000001E-3,1,0.99970000000000003,0.99929999999999997,{"$f":"(O10*M10*Settings!$J$17)+(P10*V10*U10*M10*Settings!$J$15)+(Q10*V10*U10*M10*Settings!$J$16)+(R10*W10*N10*Settings!$G$15)+(S10*W10*N10*Settings!$G$16)+(T10*(N10+M10)*Settings!$M$15)","v":65.959510800000004}]
["CINC.J. Uzomah",{"$f":"VLOOKUP(C11,'team abbr lookup'!B:C,2,FALSE)","v":"CIN"},"Cincinnati Bengals","---","---","C.J. Uzomah","TE1","Cincinnati Bengals",300.8,274.60000000000002,"Andy Dalton","Joe Burrow",55,0,0.67359999999999998,6.41,4.8000000000000001E-2,0,0.01,0,1.05,0.97819999999999996,0.95640000000000003,{"$f":"(O11*M11*Settings!$J$17)+(P11*V11*U11*M11*Settings!$J$15)+(Q11*V11*U11*M11*Settings!$J$16)+(R11*W11*N11*Settings!$G$15)+(S11*W11*N11*Settings!$G$16)+(T11*(N11+M11)*Settings!$M$15)","v":89.528185449999995}]
["CLEAustin Hooper",{"$f":"VLOOKUP(C12,'team abbr lookup'!B:C,2,FALSE)","v":"CLE"},"Cleveland Browns","Kevin Stefanski","Alex Van Pelt","Austin Hooper","TE1","Atlanta Falcons",326,302.8,"Matt Ryan","Baker Mayfield",62,0,0.78369999999999995,7.92,5.3999999999999999E-2,0,0.01,0,0.95,0.98219999999999996,0.96440000000000003,{"$f":"(O12*M12*Settings!$J$17)+(P12*V12*U12*M12*Settings!$J$15)+(Q12*V12*U12*M12*Settings!$J$16)+(R12*W12*N12*Settings!$G$15)+(S12*W12*N12*Settings!$G$16)+(T12*(N12+M12)*Settings!$M$15)","v":113.15176328}]
["CLEDavid Njoku",{"$f":"VLOOKUP(C13,'team abbr lookup'!B:C,2,FALSE)","v":"CLE"},"Cleveland Browns","Kevin Stefanski","Alex Van Pelt","David Njoku","TE2","Cleveland Browns",314.2,302.8,"Baker Mayfield","Baker Mayfield",49,0,0.61109999999999998,6.68,5.0999999999999997E-2,0,0.01,0,1.05,0.9909,0.9819,{"$f":"(O13*M13*Settings!$J$17)+(P13*V13*U13*M13*Settings!$J$15)+(Q13*V13*U13*M13*Settings!$J$16)+(R13*W13*N13*Settings!$G$15)+(S13*W13*N13*Settings!$G$16)+(T13*(N13+M13)*Settings!$M$15)","v":79.600178069999998}]
["DALBlake Jarwin",{"$f":"VLOOKUP(C14,'team abbr lookup'!B:C,2,FALSE)","v":"DAL"},"Dallas Cowboys","Mike McCarthy","---","Blake Jarwin","TE1","Dallas Cowboys",358.6,337.2,"Dak Prescott","Dak Prescott",63,0,0.75419999999999998,8.7899999999999991,7.8E-2,0,0.01,1.2999999999999999E-2,0.95,0.98509999999999998,0.97019999999999995,{"$f":"(O14*M14*Settings!$J$17)+(P14*V14*U14*M14*Settings!$J$15)+(Q14*V14*U14*M14*Settings!$J$16)+(R14*W14*N14*Settings!$G$15)+(S14*W14*N14*Settings!$G$16)+(T14*(N14+M14)*Settings!$M$15)","v":125.29334254499997}]
["DENNoah Fant",{"$f":"VLOOKUP(C15,'team abbr lookup'!B:C,2,FALSE)","v":"DEN"},"Denver Broncos","---","Pat Shurmur","Noah Fant","TE1","Denver Broncos",301.8,284.39999999999998,"Joe Flacco","Drew Lock",73,0,0.60609999999999997,8.52,4.4999999999999998E-2,-4,0.01,1.4E-2,1.1000000000000001,0.98560000000000003,0.97119999999999995,{"$f":"(O15*M15*Settings!$J$17)+(P15*V15*U15*M15*Settings!$J$15)+(Q15*V15*U15*M15*Settings!$J$16)+(R15*W15*N15*Settings!$G$15)+(S15*W15*N15*Settings!$G$16)+(T15*(N15+M15)*Settings!$M$15)","v":131.00050896000002}]
["DETT.J. Hockenson",{"$f":"VLOOKUP(C16,'team abbr lookup'!B:C,2,FALSE)","v":"DET"},"Detroit Lions","---","---","T.J. Hockenson","TE1","Detroit Lions",297.2,288.39999999999998,"Matt Stafford","Matt Stafford",88,0,0.54239999999999999,6.22,3.4000000000000002E-2,0,0.01,0,1.05,0.99260000000000004,0.98519999999999996,{"$f":"(O16*M16*Settings!$J$17)+(P16*V16*U16*M16*Settings!$J$15)+(Q16*V16*U16*M16*Settings!$J$16)+(R16*W16*N16*Settings!$G$15)+(S16*W16*N16*Settings!$G$16)+(T16*(N16+M16)*Settings!$M$15)","v":123.48881424000001}]
["DETJesse James",{"$f":"VLOOKUP(C17,'team abbr lookup'!B:C,2,FALSE)","v":"DET"},"Detroit Lions","---","---","Jesse James","TE2","Detroit Lions",297.2,288.39999999999998,"Matt Stafford","Matt Stafford",28,0,0.66669999999999996,7.6,0.03,0,0.01,0,1.05,0.99260000000000004,0.98519999999999996,{"$f":"(O17*M17*Settings!$J$17)+(P17*V17*U17*M17*Settings!$J$15)+(Q17*V17*U17*M17*Settings!$J$16)+(R17*W17*N17*Settings!$G$15)+(S17*W17*N17*Settings!$G$16)+(T17*(N17+M17)*Settings!$M$15)","v":46.099093600000003}]
["GBJace Sternberger",{"$f":"VLOOKUP(C18,'team abbr lookup'!B:C,2,FALSE)","v":"GB"},"Green Bay Packers","---","---","Jace Sternberger","TE1","Green Bay Packers",328.2,324.8,"Aaron Rodgers","Aaron Rodgers",52,0,0.67010000000000003,7.84,4.9000000000000002E-2,0,0.01,6.0000000000000001E-3,1,0.99739999999999995,0.99480000000000002,{"$f":"(O18*M18*Settings!$J$17)+(P18*V18*U18*M18*Settings!$J$15)+(Q18*V18*U18*M18*Settings!$J$16)+(R18*W18*N18*Settings!$G$15)+(S18*W18*N18*Settings!$G$16)+(T18*(N18+M18)*Settings!$M$15)","v":90.131454399999996}]
["HOUDarren Fells",{"$f":"VLOOKUP(C19,'team abbr lookup'!B:C,2,FALSE)","v":"HOU"},"Houston Texans","---","---","Darren Fells","TE1","Houston Texans",312.2,296,"Deshaun Watson","Deshaun Watson",42,0,0.73150000000000004,7.4,0.1,0,0.01,0,1,0.98699999999999999,0.97409999999999997,{"$f":"(O19*M19*Settings!$J$17)+(P19*V19*U19*M19*Settings!$J$15)+(Q19*V19*U19*M19*Settings!$J$16)+(R19*W19*N19*Settings!$G$15)+(S19*W19*N19*Settings!$G$16)+(T19*(N19+M19)*Settings!$M$15)","v":86.271360000000001}]
["HOUJordan Akins",{"$f":"VLOOKUP(C20,'team abbr lookup'!B:C,2,FALSE)","v":"HOU"},"Houston Texans","---","---","Jordan Akins","TE2","Houston Texans",312.2,296,"Deshaun Watson","Deshaun Watson",40,0,0.6593,7.86,2.5000000000000001E-2,0,0.01,0,1,0.98699999999999999,0.97409999999999997,{"$f":"(O20*M20*Settings!$J$17)+(P20*V20*U20*M20*Settings!$J$15)+(Q20*V20*U20*M20*Settings!$J$16)+(R20*W20*N20*Settings!$G$15)+(S20*W20*N20*Settings!$G$16)+(T20*(N20+M20)*Settings!$M$15)","v":63.325280000000006}]
["INDJack Doyle",{"$f":"VLOOKUP(C21,'team abbr lookup'!B:C,2,FALSE)","v":"IND"},"Indianapolis Colts","---","---","Jack Doyle","TE1","Indianapolis Colts",328.6,331.8,"Jacoby Brissett","Philip Rivers",77,0,0.63280000000000003,6.45,5.7000000000000002E-2,0,0.01,1.4999999999999999E-2,1,1.0024,1.0048999999999999,{"$f":"(O21*M21*Settings!$J$17)+(P21*V21*U21*M21*Settings!$J$15)+(Q21*V21*U21*M21*Settings!$J$16)+(R21*W21*N21*Settings!$G$15)+(S21*W21*N21*Settings!$G$16)+(T21*(N21+M21)*Settings!$M$15)","v":122.59699760000001}]
["INDTrey Burton",{"$f":"VLOOKUP(C22,'team abbr lookup'!B:C,2,FALSE)","v":"IND"},"Indianapolis Colts","---","---","Trey Burton","TE2","Chicago Bears",303.8,331.8,"Mitchell Trubisky","Philip Rivers",40,0,0.6613,5.94,0.06,2,0.01,5.0000000000000001E-3,1.1000000000000001,1.0229999999999999,1.0461,{"$f":"(O22*M22*Settings!$J$17)+(P22*V22*U22*M22*Settings!$J$15)+(Q22*V22*U22*M22*Settings!$J$16)+(R22*W22*N22*Settings!$G$15)+(S22*W22*N22*Settings!$G$16)+(T22*(N22+M22)*Settings!$M$15)","v":68.993447999999987}]
["JACTyler Eifert",{"$f":"VLOOKUP(C23,'team abbr lookup'!B:C,2,FALSE)","v":"JAC"},"Jacksonville Jaguars","---","Jay Gruden","Tyler Eifert","TE1","Cincinnati Bengals",300.8,303,"Andy Dalton","Gardner Minshew",62,0,0.6966,7.25,4.9000000000000002E-2,0,0.01,0.01,1,1.0018,1.0037,{"$f":"(O23*M23*Settings!$J$17)+(P23*V23*U23*M23*Settings!$J$15)+(Q23*V23*U23*M23*Settings!$J$16)+(R23*W23*N23*Settings!$G$15)+(S23*W23*N23*Settings!$G$16)+(T23*(N23+M23)*Settings!$M$15)","v":105.24092040000001}]
["KCTravis Kelce",{"$f":"VLOOKUP(C24,'team abbr lookup'!B:C,2,FALSE)","v":"KC"},"Kansas City Chiefs","---","---","Travis Kelce","TE1","Kansas City Chiefs",311,304.2,"Patrick Mahomes","Patrick Mahomes",126,0,0.70379999999999998,8.99,5.1999999999999998E-2,4,0.01,1.2999999999999999E-2,1,0.99450000000000005,0.98909999999999998,{"$f":"(O24*M24*Settings!$J$17)+(P24*V24*U24*M24*Settings!$J$15)+(Q24*V24*U24*M24*Settings!$J$16)+(R24*W24*N24*Settings!$G$15)+(S24*W24*N24*Settings!$G$16)+(T24*(N24+M24)*Settings!$M$15)","v":237.14957699999999}]
["LACHunter Henry",{"$f":"VLOOKUP(C25,'team abbr lookup'!B:C,2,FALSE)","v":"LAC"},"Los Angeles Chargers","---","Shane Steichen","Hunter Henry","TE1","Los Angeles Chargers",304.60000000000002,311.39999999999998,"Philip Rivers","Justin Herbert/Tyrod Taylor",84,0,0.72370000000000001,8.58,6.6000000000000003E-2,0,0.01,0.01,0.9,1.0056,1.0112000000000001,{"$f":"(O25*M25*Settings!$J$17)+(P25*V25*U25*M25*Settings!$J$15)+(Q25*V25*U25*M25*Settings!$J$16)+(R25*W25*N25*Settings!$G$15)+(S25*W25*N25*Settings!$G$16)+(T25*(N25+M25)*Settings!$M$15)","v":154.44409344000002}]
["LARTyler Higbee",{"$f":"VLOOKUP(C26,'team abbr lookup'!B:C,2,FALSE)","v":"LAR"},"Los Angeles Rams","---","Kevin O'Connell","Tyler Higbee","TE1","Los Angeles Rams",318.8,304.2,"Jared Goff","Jared Goff",84,0,0.76419999999999999,8.3000000000000007,4.1000000000000002E-2,0,0.01,5.0000000000000001E-3,0.95,0.98860000000000003,0.97709999999999997,{"$f":"(O26*M26*Settings!$J$17)+(P26*V26*U26*M26*Settings!$J$15)+(Q26*V26*U26*M26*Settings!$J$16)+(R26*W26*N26*Settings!$G$15)+(S26*W26*N26*Settings!$G$16)+(T26*(N26+M26)*Settings!$M$15)","v":148.23874128}]
["LARGerald Everett",{"$f":"VLOOKUP(C27,'team abbr lookup'!B:C,2,FALSE)","v":"LAR"},"Los Angeles Rams","---","Kevin O'Connell","Gerald Everett","TE2","Los Angeles Rams",318.8,304.2,"Jared Goff","Jared Goff",54,0,0.62939999999999996,6.68,4.4999999999999998E-2,4,0.01,7.0000000000000001E-3,0.95,0.98860000000000003,0.97709999999999997,{"$f":"(O27*M27*Settings!$J$17)+(P27*V27*U27*M27*Settings!$J$15)+(Q27*V27*U27*M27*Settings!$J$16)+(R27*W27*N27*Settings!$G$15)+(S27*W27*N27*Settings!$G$16)+(T27*(N27+M27)*Settings!$M$15)","v":80.802438839999994}]
["MIAMike Gesicki",{"$f":"VLOOKUP(C28,'team abbr lookup'!B:C,2,FALSE)","v":"MIA"},"Miami Dolphins","---","Chan Gailey","Mike Gesicki","TE1","Miami Dolphins",292.2,283.2,"Fitzpatrick / Tagovailoa","Ryan Fitzpatrick",93,0,0.59050000000000002,6.39,4.1000000000000002E-2,0,0.01,1.7000000000000001E-2,1,0.99229999999999996,0.98460000000000003,{"$f":"(O28*M28*Settings!$J$17)+(P28*V28*U28*M28*Settings!$J$15)+(Q28*V28*U28*M28*Settings!$J$16)+(R28*W28*N28*Settings!$G$15)+(S28*W28*N28*Settings!$G$16)+(T28*(N28+M28)*Settings!$M$15)","v":133.42575149999999}]
["MINKyle Rudolph",{"$f":"VLOOKUP(C29,'team abbr lookup'!B:C,2,FALSE)","v":"MIN"},"Minnesota Vikings","---","Gary Kubiak","Kyle Rudolph","TE1","Minnesota Vikings",298.60000000000002,289.2,"Kirk Cousins","Kirk Cousins",45,0,0.79779999999999995,7.69,7.6999999999999999E-2,0,0.01,2E-3,1,0.99209999999999998,0.98429999999999995,{"$f":"(O29*M29*Settings!$J$17)+(P29*V29*U29*M29*Settings!$J$15)+(Q29*V29*U29*M29*Settings!$J$16)+(R29*W29*N29*Settings!$G$15)+(S29*W29*N29*Settings!$G$16)+(T29*(N29+M29)*Settings!$M$15)","v":90.678379499999977}]
["MINIrv Smith Jr.",{"$f":"VLOOKUP(C30,'team abbr lookup'!B:C,2,FALSE)","v":"MIN"},"Minnesota Vikings","---","Gary Kubiak","Irv Smith Jr.","TE2","Minnesota Vikings",298.60000000000002,289.2,"Kirk Cousins","Kirk Cousins",46,0,0.76600000000000001,6.62,4.2999999999999997E-2,0,0.01,2.1000000000000001E-2,1,0.99209999999999998,0.98429999999999995,{"$f":"(O30*M30*Settings!$J$17)+(P30*V30*U30*M30*Settings!$J$15)+(Q30*V30*U30*M30*Settings!$J$16)+(R30*W30*N30*Settings!$G$15)+(S30*W30*N30*Settings!$G$16)+(T30*(N30+M30)*Settings!$M$15)","v":75.289671999999996}]
["NOJared Cook",{"$f":"VLOOKUP(C31,'team abbr lookup'!B:C,2,FALSE)","v":"NO"},"New Orleans Saints","---","---","Jared Cook","TE1","New Orleans Saints",320.60000000000002,328.4,"Drew Brees","Drew Brees",70,0,0.66669999999999996,9,7.0000000000000007E-2,0,0.01,0.01,0.98,1.0061,1.0122,{"$f":"(O31*M31*Settings!$J$17)+(P31*V31*U31*M31*Settings!$J$15)+(Q31*V31*U31*M31*Settings!$J$16)+(R31*W31*N31*Settings!$G$15)+(S31*W31*N31*Settings!$G$16)+(T31*(N31+M31)*Settings!$M$15)","v":136.37336719999999}]
["NOJosh Hill",{"$f":"VLOOKUP(C32,'team abbr lookup'!B:C,2,FALSE)","v":"NO"},"New Orleans Saints","---","---","Josh Hill","TE2","New Orleans Saints",320.60000000000002,328.4,"Drew Brees","Drew Brees",24,0,0.70209999999999995,6.78,6.8000000000000005E-2,0,0,1.2E-2,0.98,1.0061,1.0122,{"$f":"(O32*M32*Settings!$J$17)+(P32*V32*U32*M32*Settings!$J$15)+(Q32*V32*U32*M32*Settings!$J$16)+(R32*W32*N32*Settings!$G$15)+(S32*W32*N32*Settings!$G$16)+(T32*(N32+M32)*Settings!$M$15)","v":41.972930591999997}]
["NEDevin Asiasi",{"$f":"VLOOKUP(C33,'team abbr lookup'!B:C,2,FALSE)","v":"NE"},"New England Patriots","---","---","Devin Asiasi","TE1","---",330.8,314,"---","Cam Newton",52,0,0.67010000000000003,7.84,4.9000000000000002E-2,0,0.01,6.0000000000000001E-3,1,0.98729999999999996,0.97460000000000002,{"$f":"(O33*M33*Settings!$J$17)+(P33*V33*U33*M33*Settings!$J$15)+(Q33*V33*U33*M33*Settings!$J$16)+(R33*W33*N33*Settings!$G$15)+(S33*W33*N33*Settings!$G$16)+(T33*(N33+M33)*Settings!$M$15)","v":89.565288800000005}]
["NYGEvan Engram",{"$f":"VLOOKUP(C34,'team abbr lookup'!B:C,2,FALSE)","v":"NYG"},"New York Giants","Joe Judge","Jason Garrett","Evan Engram","TE1","New York Giants",311.8,292,"Daniel Jones","Daniel Jones",90,0,0.66500000000000004,7.56,4.4999999999999998E-2,5.56,0.01,0,1,0.98409999999999997,0.96819999999999995,{"$f":"(O34*M34*Settings!$J$17)+(P34*V34*U34*M34*Settings!$J$15)+(Q34*V34*U34*M34*Settings!$J$16)+(R34*W34*N34*Settings!$G$15)+(S34*W34*N34*Settings!$G$16)+(T34*(N34+M34)*Settings!$M$15)","v":150.72179399999999}]
["NYJChris Herndon",{"$f":"VLOOKUP(C35,'team abbr lookup'!B:C,2,FALSE)","v":"NYJ"},"New York Jets","---","---","Chris Herndon","TE1","New York Jets",304.8,295.39999999999998,"Sam Darnold","Sam Darnold",66,0,0.68330000000000002,8.6,6.9000000000000006E-2,0,0.01,3.4000000000000002E-2,1.05,0.99229999999999996,0.98460000000000003,{"$f":"(O35*M35*Settings!$J$17)+(P35*V35*U35*M35*Settings!$J$15)+(Q35*V35*U35*M35*Settings!$J$16)+(R35*W35*N35*Settings!$G$15)+(S35*W35*N35*Settings!$G$16)+(T35*(N35+M35)*Settings!$M$15)","v":128.21818086000002}]
["NYJRyan Griffin",{"$f":"VLOOKUP(C36,'team abbr lookup'!B:C,2,FALSE)","v":"NYJ"},"New York Jets","---","---","Ryan Griffin","TE2","New York Jets",304.8,295.39999999999998,"Sam Darnold","Sam Darnold",31,0,0.73599999999999999,7.56,0.06,0,0.01,4.0000000000000001E-3,1.05,0.99229999999999996,0.98460000000000003,{"$f":"(O36*M36*Settings!$J$17)+(P36*V36*U36*M36*Settings!$J$15)+(Q36*V36*U36*M36*Settings!$J$16)+(R36*W36*N36*Settings!$G$15)+(S36*W36*N36*Settings!$G$16)+(T36*(N36+M36)*Settings!$M$15)","v":58.614091340000002}]
["LVDarren Waller",{"$f":"VLOOKUP(C37,'team abbr lookup'!B:C,2,FALSE)","v":"LV"},"Las Vegas Raiders","---","---","Darren Waller","TE1","Las Vegas Raiders",320,339,"Derek Carr","Derek Carr",88,0,0.77500000000000002,9.85,2.4E-2,6.2,0.01,7.0000000000000001E-3,1,1.0147999999999999,1.0297000000000001,{"$f":"(O37*M37*Settings!$J$17)+(P37*V37*U37*M37*Settings!$J$15)+(Q37*V37*U37*M37*Settings!$J$16)+(R37*W37*N37*Settings!$G$15)+(S37*W37*N37*Settings!$G$16)+(T37*(N37+M37)*Settings!$M$15)","v":167.79040959999998}]
["PHIZach Ertz",{"$f":"VLOOKUP(C38,'team abbr lookup'!B:C,2,FALSE)","v":"PHI"},"Philadelphia Eagles","---","NONE","Zach Ertz","TE1","Philadelphia Eagles",342,337.8,"Carson Wentz","Carson Wentz",115,0,0.68540000000000001,7.03,4.8000000000000001E-2,0,0.01,7.0000000000000001E-3,1,0.99690000000000001,0.99390000000000001,{"$f":"(O38*M38*Settings!$J$17)+(P38*V38*U38*M38*Settings!$J$15)+(Q38*V38*U38*M38*Settings!$J$16)+(R38*W38*N38*Settings!$G$15)+(S38*W38*N38*Settings!$G$16)+(T38*(N38+M38)*Settings!$M$15)","v":190.82270850000003}]
["PHIDallas Goedert",{"$f":"VLOOKUP(C39,'team abbr lookup'!B:C,2,FALSE)","v":"PHI"},"Philadelphia Eagles","---","NONE","Dallas Goedert","TE2","Philadelphia Eagles",342,337.8,"Carson Wentz","Carson Wentz",71,0,0.6835,7.1,6.9000000000000006E-2,0,0.01,1.4999999999999999E-2,1,0.99690000000000001,0.99390000000000001,{"$f":"(O39*M39*Settings!$J$17)+(P39*V39*U39*M39*Settings!$J$15)+(Q39*V39*U39*M39*Settings!$J$16)+(R39*W39*N39*Settings!$G$15)+(S39*W39*N39*Settings!$G$16)+(T39*(N39+M39)*Settings!$M$15)","v":125.95510760000002}]
["PITEric Ebron",{"$f":"VLOOKUP(C40,'team abbr lookup'!B:C,2,FALSE)","v":"PIT"},"Pittsburgh Steelers","---","---","Eric Ebron","TE1","Indianapolis Colts",328.6,320.39999999999998,"Jacoby Brissett","Ben Roethlisberger",77,0,0.59809999999999997,7.01,0.05,-2.67,0.2,4.0000000000000001E-3,1,0.99380000000000002,0.98750000000000004,{"$f":"(O40*M40*Settings!$J$17)+(P40*V40*U40*M40*Settings!$J$15)+(Q40*V40*U40*M40*Settings!$J$16)+(R40*W40*N40*Settings!$G$15)+(S40*W40*N40*Settings!$G$16)+(T40*(N40+M40)*Settings!$M$15)","v":122.03682260000001}]
["PITVance McDonald",{"$f":"VLOOKUP(C41,'team abbr lookup'!B:C,2,FALSE)","v":"PIT"},"Pittsburgh Steelers","---","---","Vance McDonald","TE2","Pittsburgh Steelers",326.2,320.39999999999998,"Mason Rudolph","Ben Roethlisberger",47,0,0.69230000000000003,6.35,5.5E-2,2,0.01,2.1999999999999999E-2,1,0.99560000000000004,0.99109999999999998,{"$f":"(O41*M41*Settings!$J$17)+(P41*V41*U41*M41*Settings!$J$15)+(Q41*V41*U41*M41*Settings!$J$16)+(R41*W41*N41*Settings!$G$15)+(S41*W41*N41*Settings!$G$16)+(T41*(N41+M41)*Settings!$M$15)","v":75.625538000000006}]
["SEAGreg Olsen",{"$f":"VLOOKUP(C42,'team abbr lookup'!B:C,2,FALSE)","v":"SEA"},"Seattle Seahawks","---","---","Greg Olsen","TE1","Carolina Panthers",319.2,295.39999999999998,"Kyle Allen","Russell Wilson",55,0,0.64849999999999997,7.35,0.05,0,0.01,6.0000000000000001E-3,1.1000000000000001,0.98140000000000005,0.9627,{"$f":"(O42*M42*Settings!$J$17)+(P42*V42*U42*M42*Settings!$J$15)+(Q42*V42*U42*M42*Settings!$J$16)+(R42*W42*N42*Settings!$G$15)+(S42*W42*N42*Settings!$G$16)+(T42*(N42+M42)*Settings!$M$15)","v":96.46031450000001}]
["SEAWill Dissly",{"$f":"VLOOKUP(C43,'team abbr lookup'!B:C,2,FALSE)","v":"SEA"},"Seattle Seahawks","---","---","Will Dissly","TE2","Seattle Seahawks",307.2,295.39999999999998,"Russell Wilson","Russell Wilson",26,0,0.79410000000000003,10,0.1,7,0.01,2.4E-2,0.95,0.99039999999999995,0.98080000000000001,{"$f":"(O43*M43*Settings!$J$17)+(P43*V43*U43*M43*Settings!$J$15)+(Q43*V43*U43*M43*Settings!$J$16)+(R43*W43*N43*Settings!$G$15)+(S43*W43*N43*Settings!$G$16)+(T43*(N43+M43)*Settings!$M$15)","v":58.539208000000002}]
["SEAJacob Hollister",{"$f":"VLOOKUP(C44,'team abbr lookup'!B:C,2,FALSE)","v":"SEA"},"Seattle Seahawks","---","---","Jacob Hollister","TE3","Seattle Seahawks",307.2,295.39999999999998,"Russell Wilson","Russell Wilson",33,0,0.57140000000000002,6.95,0,5,0,0,0.95,0.99039999999999995,0.98080000000000001,{"$f":"(O44*M44*Settings!$J$17)+(P44*V44*U44*M44*Settings!$J$15)+(Q44*V44*U44*M44*Settings!$J$16)+(R44*W44*N44*Settings!$G$15)+(S44*W44*N44*Settings!$G$16)+(T44*(N44+M44)*Settings!$M$15)","v":40.435282800000003}]
["SFGeorge Kittle",{"$f":"VLOOKUP(C45,'team abbr lookup'!B:C,2,FALSE)","v":"SF"},"San Francisco 49ers","---","---","George Kittle","TE1","San Francisco 49ers",326.39999999999998,324.2,"Jimmy Garoppolo","Jimmy Garoppolo",107,0,0.73709999999999998,9.9499999999999993,4.1000000000000002E-2,4.91,0.01,3.0000000000000001E-3,1.03,0.99829999999999997,0.99660000000000004,{"$f":"(O45*M45*Settings!$J$17)+(P45*V45*U45*M45*Settings!$J$15)+(Q45*V45*U45*M45*Settings!$J$16)+(R45*W45*N45*Settings!$G$15)+(S45*W45*N45*Settings!$G$16)+(T45*(N45+M45)*Settings!$M$15)","v":214.76579996299998}]
["SFJordan Reed",{"$f":"VLOOKUP(C46,'team abbr lookup'!B:C,2,FALSE)","v":"SF"},"San Francisco 49ers","---","---","Jordan Reed","TE2","Washington Football Team",322,324.2,"Case Keenum","Jimmy Garoppolo",32,0,0.64290000000000003,6.64,2.4E-2,0,0.01,1.6E-2,1.05,1.0017,1.0034000000000001,{"$f":"(O46*M46*Settings!$J$17)+(P46*V46*U46*M46*Settings!$J$15)+(Q46*V46*U46*M46*Settings!$J$16)+(R46*W46*N46*Settings!$G$15)+(S46*W46*N46*Settings!$G$16)+(T46*(N46+M46)*Settings!$M$15)","v":46.743752959999995}]
["TBRob Gronkowski",{"$f":"VLOOKUP(C47,'team abbr lookup'!B:C,2,FALSE)","v":"TB"},"Tampa Bay Buccaneers","---","---","Rob Gronkowski","TE1","---",314.60000000000002,297.39999999999998,"Tom Brady","Tom Brady",71,0,0.65459999999999996,9.83,6.2E-2,0,0.01,5.0000000000000001E-3,0.95,0.98629999999999995,0.97270000000000001,{"$f":"(O47*M47*Settings!$J$17)+(P47*V47*U47*M47*Settings!$J$15)+(Q47*V47*U47*M47*Settings!$J$16)+(R47*W47*N47*Settings!$G$15)+(S47*W47*N47*Settings!$G$16)+(T47*(N47+M47)*Settings!$M$15)","v":135.90924192499998}]
["TBO.J. Howard",{"$f":"VLOOKUP(C48,'team abbr lookup'!B:C,2,FALSE)","v":"TB"},"Tampa Bay Buccaneers","---","---","O.J. Howard","TE2","Tampa Bay Buccaneers",314.60000000000002,297.39999999999998,"Jameis Winston","Tom Brady",48,0,0.6623,9.6300000000000008,5.8999999999999997E-2,0,0.01,2.9000000000000001E-2,0.95,0.98629999999999995,0.97270000000000001,{"$f":"(O48*M48*Settings!$J$17)+(P48*V48*U48*M48*Settings!$J$15)+(Q48*V48*U48*M48*Settings!$J$16)+(R48*W48*N48*Settings!$G$15)+(S48*W48*N48*Settings!$G$16)+(T48*(N48+M48)*Settings!$M$15)","v":88.238843759999995}]
[{"$f":"_xlfn.CONCAT(B49,F49)","v":"TBCameron Brate"},{"$f":"VLOOKUP(C49,'team abbr lookup'!B:C,2,FALSE)","v":"TB"},"Tampa Bay Buccaneers","---","---","Cameron Brate","TE3","Tampa Bay Buccaneers",314.60000000000002,297.39999999999998,"Jameis Winston","Tom Brady",33,0,0.63349999999999995,5.66,9.5000000000000001E-2,0,0,0.01,0.95,0.98629999999999995,0.97270000000000001,{"$f":"(O49*M49*Settings!$J$17)+(P49*V49*U49*M49*Settings!$J$15)+(Q49*V49*U49*M49*Settings!$J$16)+(R49*W49*N49*Settings!$G$15)+(S49*W49*N49*Settings!$G$16)+(T49*(N49+M49)*Settings!$M$15)","v":55.371193680000005}]
["TENJonnu Smith",{"$f":"VLOOKUP(C50,'team abbr lookup'!B:C,2,FALSE)","v":"TEN"},"Tennessee Titans","---","---","Jonnu Smith","TE1","Tennessee Titans",310.2,310.60000000000002,"Ryan Tannehill","Ryan Tannehill",60,0,0.76270000000000004,9.6300000000000008,8.1000000000000003E-2,12,0.01,8.9999999999999993E-3,0.95,1.0003,1.0005999999999999,{"$f":"(O50*M50*Settings!$J$17)+(P50*V50*U50*M50*Settings!$J$15)+(Q50*V50*U50*M50*Settings!$J$16)+(R50*W50*N50*Settings!$G$15)+(S50*W50*N50*Settings!$G$16)+(T50*(N50+M50)*Settings!$M$15)","v":127.2997779}]
["TENAnthony Firkser",{"$f":"VLOOKUP(C51,'team abbr lookup'!B:C,2,FALSE)","v":"TEN"},"Tennessee Titans","---","---","Anthony Firkser","TE2","Tennessee Titans",310.2,310.60000000000002,"Ryan Tannehill","Ryan Tannehill",31,0,0.69120000000000004,9.31,4.4999999999999998E-2,0,0.01,0,0.95,1.0003,1.0005999999999999,{"$f":"(O51*M51*Settings!$J$17)+(P51*V51*U51*M51*Settings!$J$15)+(Q51*V51*U51*M51*Settings!$J$16)+(R51*W51*N51*Settings!$G$15)+(S51*W51*N51*Settings!$G$16)+(T51*(N51+M51)*Settings!$M$15)","v":56.807260835000008}]
["WASJeremy Sprinkle",{"$f":"VLOOKUP(C52,'team abbr lookup'!B:C,2,FALSE)","v":"WAS"},"Washington Football Team","Ron Rivera","Scott Turner","Jeremy Sprinkle","TE1","Washington Football Team",322,300,"Case Keenum","Dwayne Haskins",33,0,0.64039999999999997,5.88,4.1000000000000002E-2,0,0.01,1.9E-2,1,0.9829,0.96579999999999999,{"$f":"(O52*M52*Settings!$J$17)+(P52*V52*U52*M52*Settings!$J$15)+(Q52*V52*U52*M52*Settings!$J$16)+(R52*W52*N52*Settings!$G$15)+(S52*W52*N52*Settings!$G$16)+(T52*(N52+M52)*Settings!$M$15)","v":46.930573799999998}]
["WASLogan Thomas",{"$f":"VLOOKUP(C53,'team abbr lookup'!B:C,2,FALSE)","v":"WAS"},"Washington Football Team","Ron Rivera","Scott Turner","Logan Thomas","TE2","Detroit Lions",297.2,300,"Matt Stafford","Dwayne Haskins",35,0,0.60270000000000001,5.79,2.1999999999999999E-2,0,0,0,0.9,1.0024,1.0046999999999999,{"$f":"(O53*M53*Settings!$J$17)+(P53*V53*U53*M53*Settings!$J$15)+(Q53*V53*U53*M53*Settings!$J$16)+(R53*W53*N53*Settings!$G$15)+(S53*W53*N53*Settings!$G$16)+(T53*(N53+M53)*Settings!$M$15)","v":43.544751599999998}]

{"sheet":"k data","index":8,"n_rows":33,"n_cols":5,"rows_kept":33,"cut":false,"hidden":false,"merged":[]}
["Code","Abbr","Kicker","Team","xPts"]
[{"$f":"_xlfn.CONCAT(B2,C2)","v":"KCHarrison Butker"},{"$f":"VLOOKUP(D2,'team abbr lookup'!B:C,2,FALSE)","v":"KC"},"Harrison Butker","Kansas City Chiefs",154.77000000000001]
[{"$f":"_xlfn.CONCAT(B3,C3)","v":"NOWil Lutz"},{"$f":"VLOOKUP(D3,'team abbr lookup'!B:C,2,FALSE)","v":"NO"},"Wil Lutz","New Orleans Saints",154.49]
["BALJustin Tucker",{"$f":"VLOOKUP(D4,'team abbr lookup'!B:C,2,FALSE)","v":"BAL"},"Justin Tucker","Baltimore Ravens",148.63]
["TBMatt Gay",{"$f":"VLOOKUP(D5,'team abbr lookup'!B:C,2,FALSE)","v":"TB"},"Matt Gay","Tampa Bay Buccaneers",143.71]
["ARIZane Gonzalez",{"$f":"VLOOKUP(D6,'team abbr lookup'!B:C,2,FALSE)","v":"ARI"},"Zane Gonzalez","Arizona Cardinals",142.11000000000001]
["ATLYounghoe Koo",{"$f":"VLOOKUP(D7,'team abbr lookup'!B:C,2,FALSE)","v":"ATL"},"Younghoe Koo","Atlanta Falcons",139.51]
["DENBrandon McManus",{"$f":"VLOOKUP(D8,'team abbr lookup'!B:C,2,FALSE)","v":"DEN"},"Brandon McManus","Denver Broncos",138.97]
["JACJosh Lambo",{"$f":"VLOOKUP(D9,'team abbr lookup'!B:C,2,FALSE)","v":"JAC"},"Josh Lambo","Jacksonville Jaguars",137.9]
["PITChris Boswell",{"$f":"VLOOKUP(D10,'team abbr lookup'!B:C,2,FALSE)","v":"PIT"},"Chris Boswell","Pittsburgh Steelers",137.88999999999999]
["DETMatt Prater",{"$f":"VLOOKUP(D11,'team abbr lookup'!B:C,2,FALSE)","v":"DET"},"Matt Prater","Detroit Lions",136.91999999999999]
["INDChase McLaughlin",{"$f":"VLOOKUP(D12,'team abbr lookup'!B:C,2,FALSE)","v":"IND"},"Chase McLaughlin","Indianapolis Colts",133.34]
["CINRandy Bullock",{"$f":"VLOOKUP(D13,'team abbr lookup'!B:C,2,FALSE)","v":"CIN"},"Randy Bullock","Cincinnati Bengals",131.49]
["DALGreg Zuerlein",{"$f":"VLOOKUP(D14,'team abbr lookup'!B:C,2,FALSE)","v":"DAL"},"Greg Zuerlein","Dallas Cowboys",130.06]
["CARJoey Slye",{"$f":"VLOOKUP(D15,'team abbr lookup'!B:C,2,FALSE)","v":"CAR"},"Joey Slye","Carolina Panthers",129.26]
["MINDan Bailey",{"$f":"VLOOKUP(D16,'team abbr lookup'!B:C,2,FALSE)","v":"MIN"},"Dan Bailey","Minnesota Vikings",128.77000000000001]
["MIAJason Sanders",{"$f":"VLOOKUP(D17,'team abbr lookup'!B:C,2,FALSE)","v":"MIA"},"Jason Sanders","Miami Dolphins",128.25]
["SFRobbie Gould",{"$f":"VLOOKUP(D18,'team abbr lookup'!B:C,2,FALSE)","v":"SF"},"Robbie Gould","San Francisco 49ers",126.78]
["LACMichael Badgley",{"$f":"VLOOKUP(D19,'team abbr lookup'!B:C,2,FALSE)","v":"LAC"},"Michael Badgley","Los Angeles Chargers",124.08]
["NENick Folk",{"$f":"VLOOKUP(D20,'team abbr lookup'!B:C,2,FALSE)","v":"NE"},"Nick Folk","New England Patriots",122.21]
["LARSam Sloman",{"$f":"VLOOKUP(D21,'team abbr lookup'!B:C,2,FALSE)","v":"LAR"},"Sam Sloman","Los Angeles Rams",120.65]
["GBMason Crosby",{"$f":"VLOOKUP(D22,'team abbr lookup'!B:C,2,FALSE)","v":"GB"},"Mason Crosby","Green Bay Packers",119.6]
["CLEAustin Seibert",{"$f":"VLOOKUP(D23,'team abbr lookup'!B:C,2,FALSE)","v":"CLE"},"Austin Seibert","Cleveland Browns",112.25]
["WASDustin Hopkins",{"$f":"VLOOKUP(D24,'team abbr lookup'!B:C,2,FALSE)","v":"WAS"},"Dustin Hopkins","Washington Football Team",111.8]
["SEAJason Myers",{"$f":"VLOOKUP(D25,'team abbr lookup'!B:C,2,FALSE)","v":"SEA"},"Jason Myers","Seattle Seahawks",111.06]
["NYJSam Ficken",{"$f":"VLOOKUP(D26,'team abbr lookup'!B:C,2,FALSE)","v":"NYJ"},"Sam Ficken","New York Jets",110.03]
["BUFTyler Bass",{"$f":"VLOOKUP(D27,'team abbr lookup'!B:C,2,FALSE)","v":"BUF"},"Tyler Bass","Buffalo Bills",115]
["PHIJake Elliott",{"$f":"VLOOKUP(D28,'team abbr lookup'!B:C,2,FALSE)","v":"PHI"},"Jake Elliott","Philadelphia Eagles",106.64]
["CHIEddy Pineiro",{"$f":"VLOOKUP(D29,'team abbr lookup'!B:C,2,FALSE)","v":"CHI"},"Eddy Pineiro","Chicago Bears",101.14]
["HOUKa'imi Fairbairn",{"$f":"VLOOKUP(D30,'team abbr lookup'!B:C,2,FALSE)","v":"HOU"},"Ka'imi Fairbairn","Houston Texans",99.73]
["NYGGraham Gano",{"$f":"VLOOKUP(D31,'team abbr lookup'!B:C,2,FALSE)","v":"NYG"},"Graham Gano","New York Giants",98.96]
["LVDaniel Carlson",{"$f":"VLOOKUP(D32,'team abbr lookup'!B:C,2,FALSE)","v":"LV"},"Daniel Carlson","Las Vegas Raiders",95.94]
["TENGreg Joseph",{"$f":"VLOOKUP(D33,'team abbr lookup'!B:C,2,FALSE)","v":"TEN"},"Greg Joseph","Tennessee Titans",80.22]

{"sheet":"def data","index":9,"n_rows":33,"n_cols":6,"rows_kept":33,"cut":false,"hidden":false,"merged":[]}
["Team","Early Season","Full Season","Ability","Total","Total Rank"]
["Baltimore Ravens",2,4,3,{"$f":"D2*8+C2+B2*2","v":32},{"$f":"RANK(E2,$E$2:$E$33,1)","v":1}]
["San Francisco 49ers",5,6,2,{"$f":"D3*8+C3+B3*2","v":32},{"$f":"RANK(E3,$E$2:$E$33,1)","v":1}]
["New England Patriots",3,1,4,39,3]
["Pittsburgh Steelers",20,2,1,50,4]
["Buffalo Bills",6,3,5,55,5]
["Los Angeles Rams",7,10,7,80,7]
["Tennessee Titans",4,5,8,77,6]
["Minnesota Vikings",19,15,6,101,9]
["Indianapolis Colts",1,7,11,97,8]
["New Orleans Saints",11,22,10,124,11]
["Kansas City Chiefs",23,9,9,127,12]
["New York Jets",9,8,12,122,10]
["Philadelphia Eagles",10,14,13,138,13]
["Tampa Bay Buccaneers",12,23,14,159,14]
["Seattle Seahawks",14,12,17,176,15]
["Denver Broncos",25,16,16,194,16]
["Chicago Bears",31,24,15,206,17]
["Jacksonville Jaguars",17,21,20,215,18]
["Green Bay Packers",26,26,18,222,19]
["Dallas Cowboys",27,18,19,224,20]
["Cleveland Browns",13,20,24,238,22]
["Houston Texans",15,13,25,243,23]
["Los Angeles Chargers",29,11,21,237,21]
["Atlanta Falcons",22,30,22,250,25]
["Washington Football Team",21,31,23,257,26]
["Detroit Lions",8,17,27,249,24]
["Carolina Panthers",24,25,26,281,27]
["Cincinnati Bengals",16,27,29,291,28]
["New York Giants",30,29,28,313,29]
["Arizona Cardinals",18,32,31,316,30]
["Las Vegas Raiders",32,28,30,332,32]
["Miami Dolphins",28,19,32,331,31]

{"sheet":"full ppr adp","index":10,"n_rows":1003,"n_cols":11,"rows_kept":1003,"cut":false,"hidden":false,"merged":[]}
["CODE","Rank","Player","Team","Team Name","Bye","POS","ESPN","RTSports","Fantrax","AVG"]
[{"$f":"_xlfn.CONCAT(D2,C2)","v":"CARChristian McCaffrey"},1,"Christian McCaffrey","CAR",{"$f":"VLOOKUP(D2,'team abbr lookup'!A:B,2,FALSE)","v":"Carolina Panthers"},13,"RB1",1,1,1,{"$f":"AVERAGE(H2:J2)","v":1}]
[{"$f":"_xlfn.CONCAT(D3,C3)","v":"NYGSaquon Barkley"},2,"Saquon Barkley","NYG",{"$f":"VLOOKUP(D3,'team abbr lookup'!A:B,2,FALSE)","v":"New York Giants"},11,"RB2",2,2,2,2]
["DALEzekiel Elliott",3,"Ezekiel Elliott","DAL",{"$f":"VLOOKUP(D4,'team abbr lookup'!A:B,2,FALSE)","v":"Dallas Cowboys"},10,"RB3",3,3,4,3.3333333333333335]
["NOMichael Thomas",4,"Michael Thomas","NO",{"$f":"VLOOKUP(D5,'team abbr lookup'!A:B,2,FALSE)","v":"New Orleans Saints"},6,"WR1",6,5,3,4.666666666666667]
["MINDalvin Cook",5,"Dalvin Cook","MIN",{"$f":"VLOOKUP(D6,'team abbr lookup'!A:B,2,FALSE)","v":"Minnesota Vikings"},7,"RB4",4,4,6,4.666666666666667]
["NOAlvin Kamara",6,"Alvin Kamara","NO",{"$f":"VLOOKUP(D7,'team abbr lookup'!A:B,2,FALSE)","v":"New Orleans Saints"},6,"RB5",5,6,5,5.333333333333333]
["TENDerrick Henry",7,"Derrick Henry","TEN",{"$f":"VLOOKUP(D8,'team abbr lookup'!A:B,2,FALSE)","v":"Tennessee Titans"},7,"RB6",7,7,8,7.333333333333333]
["GBDavante Adams",8,"Davante Adams","GB",{"$f":"VLOOKUP(D9,'team abbr lookup'!A:B,2,FALSE)","v":"Green Bay Packers"},5,"WR2",15,12,7,11.333333333333334]
["ARIDeAndre Hopkins",9,"DeAndre Hopkins","ARI",{"$f":"VLOOKUP(D10,'team abbr lookup'!A:B,2,FALSE)","v":"Arizona Cardinals"},8,"WR3",12,15,9,12]
["PHIMiles Sanders",10,"Miles Sanders","PHI",{"$f":"VLOOKUP(D11,'team abbr lookup'!A:B,2,FALSE)","v":"Philadelphia Eagles"},9,"RB7",10,9,20,13]
["CLENick Chubb",11,"Nick Chubb","CLE",{"$f":"VLOOKUP(D12,'team abbr lookup'!A:B,2,FALSE)","v":"Cleveland Browns"},9,"RB8",9,17,16,14]
["LVJosh Jacobs",12,"Josh Jacobs","LV",{"$f":"VLOOKUP(D13,'team abbr lookup'!A:B,2,FALSE)","v":"Las Vegas Raiders"},6,"RB9",11,14,19,14.666666666666666]
["CINJoe Mixon",13,"Joe Mixon","CIN",{"$f":"VLOOKUP(D14,'team abbr lookup'!A:B,2,FALSE)","v":"Cincinnati Bengals"},9,"RB10",25,10,10,15]
["LACAustin Ekeler",14,"Austin Ekeler","LAC",{"$f":"VLOOKUP(D15,'team abbr lookup'!A:B,2,FALSE)","v":"Los Angeles Chargers"},10,"RB11",21,11,13,15]
["KCTyreek Hill",15,"Tyreek Hill","KC",{"$f":"VLOOKUP(D16,'team abbr lookup'!A:B,2,FALSE)","v":"Kansas City Chiefs"},10,"WR4",17,16,12,15]
["ARIKenyan Drake",16,"Kenyan Drake","ARI",{"$f":"VLOOKUP(D17,'team abbr lookup'!A:B,2,FALSE)","v":"Arizona Cardinals"},8,"RB12",16,13,17,15.333333333333334]
["KCClyde Edwards-Helaire",17,"Clyde Edwards-Helaire","KC",{"$f":"VLOOKUP(D18,'team abbr lookup'!A:B,2,FALSE)","v":"Kansas City Chiefs"},10,"RB13",8,8,32,16]
["ATLJulio Jones",18,"Julio Jones","ATL",{"$f":"VLOOKUP(D19,'team abbr lookup'!A:B,2,FALSE)","v":"Atlanta Falcons"},10,"WR5",18,20,11,16.333333333333332]
["GBAaron Jones",19,"Aaron Jones","GB",{"$f":"VLOOKUP(D20,'team abbr lookup'!A:B,2,FALSE)","v":"Green Bay Packers"},5,"RB14",14,18,21,17.666666666666668]
["KCTravis Kelce",20,"Travis Kelce","KC",{"$f":"VLOOKUP(D21,'team abbr lookup'!A:B,2,FALSE)","v":"Kansas City Chiefs"},10,"TE1",20,19,15,18]
["TBChris Godwin",21,"Chris Godwin","TB",{"$f":"VLOOKUP(D22,'team abbr lookup'!A:B,2,FALSE)","v":"Tampa Bay Buccaneers"},13,"WR6",22,22,14,19.333333333333332]
["KCPatrick Mahomes",22,"Patrick Mahomes","KC",{"$f":"VLOOKUP(D23,'team abbr lookup'!A:B,2,FALSE)","v":"Kansas City Chiefs"},10,"QB1",13,21,28,20.666666666666668]
["BALLamar Jackson",23,"Lamar Jackson","BAL",{"$f":"VLOOKUP(D24,'team abbr lookup'!A:B,2,FALSE)","v":"Baltimore Ravens"},8,"QB2",19,23,22,21.333333333333332]
["SFGeorge Kittle",24,"George Kittle","SF",{"$f":"VLOOKUP(D25,'team abbr lookup'!A:B,2,FALSE)","v":"San Francisco 49ers"},11,"TE2",24,24,18,22]
["DETKenny Golladay",25,"Kenny Golladay","DET",{"$f":"VLOOKUP(D26,'team abbr lookup'!A:B,2,FALSE)","v":"Detroit Lions"},5,"WR7",26,26,23,25]
["TBMike Evans",26,"Mike Evans","TB",{"$f":"VLOOKUP(D27,'team abbr lookup'!A:B,2,FALSE)","v":"Tampa Bay Buccaneers"},13,"WR8",23,29,24,25.333333333333332]
["CLEOdell Beckham Jr.",27,"Odell Beckham Jr.","CLE",{"$f":"VLOOKUP(D28,'team abbr lookup'!A:B,2,FALSE)","v":"Cleveland Browns"},9,"WR9",33,31,26,30]
["CARD.J. Moore",28,"D.J. Moore","CAR",{"$f":"VLOOKUP(D29,'team abbr lookup'!A:B,2,FALSE)","v":"Carolina Panthers"},13,"WR10",29,32,29,30]
["CHIAllen Robinson",29,"Allen Robinson","CHI",{"$f":"VLOOKUP(D30,'team abbr lookup'!A:B,2,FALSE)","v":"Chicago Bears"},11,"WR11",34,33,25,30.666666666666668]
["ATLTodd Gurley",30,"Todd Gurley","ATL",{"$f":"VLOOKUP(D31,'team abbr lookup'!A:B,2,FALSE)","v":"Atlanta Falcons"},10,"RB15",32,27,34,31]
["SEAChris Carson",31,"Chris Carson","SEA",{"$f":"VLOOKUP(D32,'team abbr lookup'!A:B,2,FALSE)","v":"Seattle Seahawks"},6,"RB16",31,25,41,32.333333333333336]
["PITJuJu Smith-Schuster",32,"JuJu Smith-Schuster","PIT",{"$f":"VLOOKUP(D33,'team abbr lookup'!A:B,2,FALSE)","v":"Pittsburgh Steelers"},8,"WR12",30,41,27,32.666666666666664]
["DALAmari Cooper",33,"Amari Cooper","DAL",{"$f":"VLOOKUP(D34,'team abbr lookup'!A:B,2,FALSE)","v":"Dallas Cowboys"},10,"WR13",28,39,31,32.666666666666664]
["MINAdam Thielen",34,"Adam Thielen","MIN",{"$f":"VLOOKUP(D35,'team abbr lookup'!A:B,2,FALSE)","v":"Minnesota Vikings"},7,"WR14",27,38,36,33.666666666666664]
["PHIZach Ertz",35,"Zach Ertz","PHI",{"$f":"VLOOKUP(D36,'team abbr lookup'!A:B,2,FALSE)","v":"Philadelphia Eagles"},9,"TE3",35,46,33,38]
["NYJLe'Veon Bell",36,"Le'Veon Bell","NYJ",{"$f":"VLOOKUP(D37,'team abbr lookup'!A:B,2,FALSE)","v":"New York Jets"},11,"RB17",43,34,37,38]
["LARCooper Kupp",37,"Cooper Kupp","LAR",{"$f":"VLOOKUP(D38,'team abbr lookup'!A:B,2,FALSE)","v":"Los Angeles Rams"},9,"WR15",44,35,35,38]
["HOUDavid Johnson",38,"David Johnson","HOU",{"$f":"VLOOKUP(D39,'team abbr lookup'!A:B,2,FALSE)","v":"Houston Texans"},8,"RB18",39,30,47,38.666666666666664]
["TENA.J. Brown",39,"A.J. Brown","TEN",{"$f":"VLOOKUP(D40,'team abbr lookup'!A:B,2,FALSE)","v":"Tennessee Titans"},7,"WR16",42,43,38,41]
["DENMelvin Gordon",40,"Melvin Gordon","DEN",{"$f":"VLOOKUP(D41,'team abbr lookup'!A:B,2,FALSE)","v":"Denver Broncos"},8,"RB19",48,37,39,41.333333333333336]
["PITJames Conner",41,"James Conner","PIT",{"$f":"VLOOKUP(D42,'team abbr lookup'!A:B,2,FALSE)","v":"Pittsburgh Steelers"},8,"RB20",47,28,50,41.666666666666664]
["DENCourtland Sutton",42,"Courtland Sutton","DEN",{"$f":"VLOOKUP(D43,'team abbr lookup'!A:B,2,FALSE)","v":"Denver Broncos"},8,"WR17",38,47,42,42.333333333333336]
["ATLCalvin Ridley",43,"Calvin Ridley","ATL",{"$f":"VLOOKUP(D44,'team abbr lookup'!A:B,2,FALSE)","v":"Atlanta Falcons"},10,"WR18",40,44,43,42.333333333333336]
["BALMark Andrews",44,"Mark Andrews","BAL",{"$f":"VLOOKUP(D45,'team abbr lookup'!A:B,2,FALSE)","v":"Baltimore Ravens"},8,"TE4",36,49,45,43.333333333333336]
["INDJonathan Taylor",45,"Jonathan Taylor","IND",{"$f":"VLOOKUP(D46,'team abbr lookup'!A:B,2,FALSE)","v":"Indianapolis Colts"},7,"RB21",51,36,49,45.333333333333336]
["LARRobert Woods",46,"Robert Woods","LAR",{"$f":"VLOOKUP(D47,'team abbr lookup'!A:B,2,FALSE)","v":"Los Angeles Rams"},9,"WR19",46,48,44,46]
["LACKeenan Allen",47,"Keenan Allen","LAC",{"$f":"VLOOKUP(D48,'team abbr lookup'!A:B,2,FALSE)","v":"Los Angeles Chargers"},10,"WR20",52,55,40,49]
["BUFDevin Singletary",48,"Devin Singletary","BUF",{"$f":"VLOOKUP(D49,'team abbr lookup'!A:B,2,FALSE)","v":"Buffalo Bills"},11,"RB22",56,40,55,50.333333333333336]
["TBLeonard Fournette",49,"Leonard Fournette","TB",{"$f":"VLOOKUP(D50,'team abbr lookup'!A:B,2,FALSE)","v":"Tampa Bay Buccaneers"},13,"RB23",65,58,30,51]
["SEATyler Lockett",50,"Tyler Lockett","SEA",{"$f":"VLOOKUP(D51,'team abbr lookup'!A:B,2,FALSE)","v":"Seattle Seahawks"},6,"WR21",41,64,48,51]
["SEAD.K. Metcalf",51,"D.K. Metcalf","SEA",{"$f":"VLOOKUP(D52,'team abbr lookup'!A:B,2,FALSE)","v":"Seattle Seahawks"},6,"WR22",53,50,57,53.333333333333336]
["JACDJ Chark",52,"DJ Chark","JAC",{"$f":"VLOOKUP(D53,'team abbr lookup'!A:B,2,FALSE)","v":"Jacksonville Jaguars"},7,"WR23",59,54,51,54.666666666666664]
["ARIKyler Murray",53,"Kyler Murray","ARI",{"$f":"VLOOKUP(D54,'team abbr lookup'!A:B,2,FALSE)","v":"Arizona Cardinals"},8,"QB3",49,57,60,55.333333333333336]
["DALDak Prescott",54,"Dak Prescott","DAL",{"$f":"VLOOKUP(D55,'team abbr lookup'!A:B,2,FALSE)","v":"Dallas Cowboys"},10,"QB4",50,60,56,55.333333333333336]
["LVDarren Waller",55,"Darren Waller","LV",{"$f":"VLOOKUP(D56,'team abbr lookup'!A:B,2,FALSE)","v":"Las Vegas Raiders"},6,"TE5",54,63,54,57]
["HOUDeshaun Watson",56,"Deshaun Watson","HOU",{"$f":"VLOOKUP(D57,'team abbr lookup'!A:B,2,FALSE)","v":"Houston Texans"},8,"QB5",37,69,66,57.333333333333336]
["INDT.Y. Hilton",57,"T.Y. Hilton","IND",{"$f":"VLOOKUP(D58,'team abbr lookup'!A:B,2,FALSE)","v":"Indianapolis Colts"},7,"WR24",55,65,52,57.333333333333336]
["SEARussell Wilson",58,"Russell Wilson","SEA",{"$f":"VLOOKUP(D59,'team abbr lookup'!A:B,2,FALSE)","v":"Seattle Seahawks"},6,"QB6",45,67,62,58]
["WASTerry McLaurin",59,"Terry McLaurin","WAS",{"$f":"VLOOKUP(D60,'team abbr lookup'!A:B,2,FALSE)","v":"Washington Football Team"},8,"WR25",57,59,58,58]
["BALMark Ingram",60,"Mark Ingram","BAL",{"$f":"VLOOKUP(D61,'team abbr lookup'!A:B,2,FALSE)","v":"Baltimore Ravens"},8,"RB24",63,51,61,58.333333333333336]
["MIADeVante Parker",61,"DeVante Parker","MIA",{"$f":"VLOOKUP(D62,'team abbr lookup'!A:B,2,FALSE)","v":"Miami Dolphins"},11,"WR26",69,61,46,58.666666666666664]
["BUFStefon Diggs",62,"Stefon Diggs","BUF",{"$f":"VLOOKUP(D63,'team abbr lookup'!A:B,2,FALSE)","v":"Buffalo Bills"},11,"WR27",60,66,53,59.666666666666664]
["DETD'Andre Swift",63,"D'Andre Swift","DET",{"$f":"VLOOKUP(D64,'team abbr lookup'!A:B,2,FALSE)","v":"Detroit Lions"},5,"RB25",61,56,64,60.333333333333336]
["SFRaheem Mostert",64,"Raheem Mostert","SF",{"$f":"VLOOKUP(D65,'team abbr lookup'!A:B,2,FALSE)","v":"San Francisco 49ers"},11,"RB26",70,42,70,60.666666666666664]
["CLEKareem Hunt",65,"Kareem Hunt","CLE",{"$f":"VLOOKUP(D66,'team abbr lookup'!A:B,2,FALSE)","v":"Cleveland Browns"},9,"RB27",64,53,67,{"$f":"AVERAGE(H66:J66)","v":61.333333333333336}]
[{"$f":"_xlfn.CONCAT(D67,C67)","v":"LARCam Akers"},66,"Cam Akers","LAR",{"$f":"VLOOKUP(D67,'team abbr lookup'!A:B,2,FALSE)","v":"Los Angeles Rams"},9,"RB28",68,45,73,62]
["CHIDavid Montgomery",67,"David Montgomery","CHI",{"$f":"VLOOKUP(D68,'team abbr lookup'!A:B,2,FALSE)","v":"Chicago Bears"},11,"RB29",73,52,63,62.666666666666664]
["CLEJarvis Landry",68,"Jarvis Landry","CLE",{"$f":"VLOOKUP(D69,'team abbr lookup'!A:B,2,FALSE)","v":"Cleveland Browns"},9,"WR28",58,79,65,67.333333333333329]
["CINA.J. Green",69,"A.J. Green","CIN",{"$f":"VLOOKUP(D70,'team abbr lookup'!A:B,2,FALSE)","v":"Cincinnati Bengals"},9,"WR29",71,80,59,70]
["NYGEvan Engram",70,"Evan Engram","NYG",{"$f":"VLOOKUP(D71,'team abbr lookup'!A:B,2,FALSE)","v":"New York Giants"},11,"TE6",62,75,76,71]
["CINTyler Boyd",71,"Tyler Boyd","CIN",{"$f":"VLOOKUP(D72,'team abbr lookup'!A:B,2,FALSE)","v":"Cincinnati Bengals"},9,"WR30",77,70,69,72]
["BALMarquise Brown",72,"Marquise Brown","BAL",{"$f":"VLOOKUP(D73,'team abbr lookup'!A:B,2,FALSE)","v":"Baltimore Ravens"},8,"WR31",74,68,78,73.333333333333329]
["NEJulian Edelman",73,"Julian Edelman","NE",{"$f":"VLOOKUP(D74,'team abbr lookup'!A:B,2,FALSE)","v":"New England Patriots"},6,"WR32",80,77,68,75]
["DALMichael Gallup",74,"Michael Gallup","DAL",{"$f":"VLOOKUP(D75,'team abbr lookup'!A:B,2,FALSE)","v":"Dallas Cowboys"},10,"WR33",75,76,75,75.333333333333329]
["HOUWill Fuller",75,"Will Fuller","HOU",{"$f":"VLOOKUP(D76,'team abbr lookup'!A:B,2,FALSE)","v":"Houston Texans"},8,"WR34",79,72,80,77]
["TBRonald Jones II",76,"Ronald Jones II","TB",{"$f":"VLOOKUP(D77,'team abbr lookup'!A:B,2,FALSE)","v":"Tampa Bay Buccaneers"},13,"RB30",72,62,104,79.333333333333329]
["TBTom Brady",77,"Tom Brady","TB",{"$f":"VLOOKUP(D78,'team abbr lookup'!A:B,2,FALSE)","v":"Tampa Bay Buccaneers"},13,"QB7",66,85,93,81.333333333333329]
["LARTyler Higbee",78,"Tyler Higbee","LAR",{"$f":"VLOOKUP(D79,'team abbr lookup'!A:B,2,FALSE)","v":"Los Angeles Rams"},9,"TE7",76,89,79,81.333333333333329]
["TBRob Gronkowski",79,"Rob Gronkowski","TB",{"$f":"VLOOKUP(D80,'team abbr lookup'!A:B,2,FALSE)","v":"Tampa Bay Buccaneers"},13,"TE8",67,82,96,81.666666666666671]
["NEJames White",80,"James White","NE",{"$f":"VLOOKUP(D81,'team abbr lookup'!A:B,2,FALSE)","v":"New England Patriots"},6,"RB31",101,74,77,84]
["LACHunter Henry",81,"Hunter Henry","LAC",{"$f":"VLOOKUP(D82,'team abbr lookup'!A:B,2,FALSE)","v":"Los Angeles Chargers"},10,"TE9",92,90,71,84.333333333333329]
["ATLMatt Ryan",82,"Matt Ryan","ATL",{"$f":"VLOOKUP(D83,'team abbr lookup'!A:B,2,FALSE)","v":"Atlanta Falcons"},10,"QB8",81,91,85,85.666666666666671]
["NODrew Brees",83,"Drew Brees","NO",{"$f":"VLOOKUP(D84,'team abbr lookup'!A:B,2,FALSE)","v":"New Orleans Saints"},6,"QB9",78,99,81,86]
["HOUBrandin Cooks",84,"Brandin Cooks","HOU",{"$f":"VLOOKUP(D85,'team abbr lookup'!A:B,2,FALSE)","v":"Houston Texans"},8,"WR35",88,87,84,86.333333333333329]
["DETMarvin Jones",85,"Marvin Jones","DET",{"$f":"VLOOKUP(D86,'team abbr lookup'!A:B,2,FALSE)","v":"Detroit Lions"},5,"WR36",84,94,82,86.666666666666671]
["SFDeebo Samuel",86,"Deebo Samuel","SF",{"$f":"VLOOKUP(D87,'team abbr lookup'!A:B,2,FALSE)","v":"San Francisco 49ers"},11,"WR37",86,105,72,87.666666666666671]
["CHITarik Cohen",87,"Tarik Cohen","CHI",{"$f":"VLOOKUP(D88,'team abbr lookup'!A:B,2,FALSE)","v":"Chicago Bears"},11,"RB32",89,78,97,88]
["DENPhillip Lindsay",88,"Phillip Lindsay","DEN",{"$f":"VLOOKUP(D89,'team abbr lookup'!A:B,2,FALSE)","v":"Denver Broncos"},8,"RB33",90,84,90,88]
["BUFJosh Allen",89,"Josh Allen","BUF",{"$f":"VLOOKUP(D90,'team abbr lookup'!A:B,2,FALSE)","v":"Buffalo Bills"},11,"QB10",96,97,74,89]
["BALJ.K. Dobbins",90,"J.K. Dobbins","BAL",{"$f":"VLOOKUP(D91,'team abbr lookup'!A:B,2,FALSE)","v":"Baltimore Ravens"},8,"RB34",97,71,105,91]
["MIAJordan Howard",91,"Jordan Howard","MIA",{"$f":"VLOOKUP(D92,'team abbr lookup'!A:B,2,FALSE)","v":"Miami Dolphins"},11,"RB35",102,73,103,92.666666666666671]
["GBAaron Rodgers",92,"Aaron Rodgers","GB",{"$f":"VLOOKUP(D93,'team abbr lookup'!A:B,2,FALSE)","v":"Green Bay Packers"},5,"QB11",93,110,88,97]
["ARIChristian Kirk",93,"Christian Kirk","ARI",{"$f":"VLOOKUP(D94,'team abbr lookup'!A:B,2,FALSE)","v":"Arizona Cardinals"},8,"WR38",111,98,83,97.333333333333329]
["DETKerryon Johnson",94,"Kerryon Johnson","DET",{"$f":"VLOOKUP(D95,'team abbr lookup'!A:B,2,FALSE)","v":"Detroit Lions"},5,"RB36",95,100,100,98.333333333333329]
["MIAMatt Breida",95,"Matt Breida","MIA",{"$f":"VLOOKUP(D96,'team abbr lookup'!A:B,2,FALSE)","v":"Miami Dolphins"},11,"RB37",110,95,91,98.666666666666671]
["NYJJamison Crowder",96,"Jamison Crowder","NYJ",{"$f":"VLOOKUP(D97,'team abbr lookup'!A:B,2,FALSE)","v":"New York Jets"},11,"WR39",99,111,89,99.666666666666671]
["NOJared Cook",97,"Jared Cook","NO",{"$f":"VLOOKUP(D98,'team abbr lookup'!A:B,2,FALSE)","v":"New Orleans Saints"},6,"TE10",87,122,95,101.33333333333333]
["PITDiontae Johnson",98,"Diontae Johnson","PIT",{"$f":"VLOOKUP(D99,'team abbr lookup'!A:B,2,FALSE)","v":"Pittsburgh Steelers"},8,"WR40",100,96,112,102.66666666666667]
["PHICarson Wentz",99,"Carson Wentz","PHI",{"$f":"VLOOKUP(D100,'team abbr lookup'!A:B,2,FALSE)","v":"Philadelphia Eagles"},9,"QB12",103,108,99,103.33333333333333]
["NYGSterling Shepard",100,"Sterling Shepard","NYG",{"$f":"VLOOKUP(D101,'team abbr lookup'!A:B,2,FALSE)","v":"New York Giants"},11,"WR41",104,115,94,104.33333333333333]
["BUFJohn Brown",101,"John Brown","BUF",{"$f":"VLOOKUP(D102,'team abbr lookup'!A:B,2,FALSE)","v":"Buffalo Bills"},11,"WR42",126,102,87,105]
["NOEmmanuel Sanders",102,"Emmanuel Sanders","NO",{"$f":"VLOOKUP(D103,'team abbr lookup'!A:B,2,FALSE)","v":"New Orleans Saints"},6,"WR43",114,106,102,107.33333333333333]
["INDMarlon Mack",103,"Marlon Mack","IND",{"$f":"VLOOKUP(D104,'team abbr lookup'!A:B,2,FALSE)","v":"Indianapolis Colts"},7,"RB38",127,88,108,107.66666666666667]
["NOLatavius Murray",104,"Latavius Murray","NO",{"$f":"VLOOKUP(D105,'team abbr lookup'!A:B,2,FALSE)","v":"New Orleans Saints"},6,"RB39",121,86,119,108.66666666666667]
["SFSan Francisco 49ers",105,"San Francisco 49ers","SF",{"$f":"VLOOKUP(D106,'team abbr lookup'!A:B,2,FALSE)","v":"San Francisco 49ers"},11,"DST1",82,117,129,109.33333333333333]
["DALCeeDee Lamb",106,"CeeDee Lamb","DAL",{"$f":"VLOOKUP(D107,'team abbr lookup'!A:B,2,FALSE)","v":"Dallas Cowboys"},10,"WR44",116,103,111,110]
["DETMatt Stafford",107,"Matt Stafford","DET",{"$f":"VLOOKUP(D108,'team abbr lookup'!A:B,2,FALSE)","v":"Detroit Lions"},5,"QB13",115,109,107,110.33333333333333]
["DENNoah Fant",108,"Noah Fant","DEN",{"$f":"VLOOKUP(D109,'team abbr lookup'!A:B,2,FALSE)","v":"Denver Broncos"},8,"TE11",107,116,114,112.33333333333333]
["CLEAustin Hooper",109,"Austin Hooper","CLE",{"$f":"VLOOKUP(D110,'team abbr lookup'!A:B,2,FALSE)","v":"Cleveland Browns"},9,"TE12",132,120,86,112.66666666666667]
["SFTevin Coleman",110,"Tevin Coleman","SF",{"$f":"VLOOKUP(D111,'team abbr lookup'!A:B,2,FALSE)","v":"San Francisco 49ers"},11,"RB40",118,104,116,112.66666666666667]
["ATLHayden Hurst",111,"Hayden Hurst","ATL",{"$f":"VLOOKUP(D112,'team abbr lookup'!A:B,2,FALSE)","v":"Atlanta Falcons"},10,"TE13",113,92,134,113]
["NYGDarius Slayton",112,"Darius Slayton","NYG",{"$f":"VLOOKUP(D113,'team abbr lookup'!A:B,2,FALSE)","v":"New York Giants"},11,"WR45",131,112,101,114.66666666666667]
["DENJerry Jeudy",113,"Jerry Jeudy","DEN",{"$f":"VLOOKUP(D114,'team abbr lookup'!A:B,2,FALSE)","v":"Denver Broncos"},8,"WR46",117,118,109,114.66666666666667]
["BUFZack Moss",114,"Zack Moss","BUF",{"$f":"VLOOKUP(D115,'team abbr lookup'!A:B,2,FALSE)","v":"Buffalo Bills"},11,"RB41",112,93,145,116.66666666666667]
["PITPittsburgh Steelers",115,"Pittsburgh Steelers","PIT",{"$f":"VLOOKUP(D116,'team abbr lookup'!A:B,2,FALSE)","v":"Pittsburgh Steelers"},8,"DST2",83,128,141,117.33333333333333]
["MINJustin Jefferson",116,"Justin Jefferson","MIN",{"$f":"VLOOKUP(D117,'team abbr lookup'!A:B,2,FALSE)","v":"Minnesota Vikings"},7,"WR47",136,107,110,117.66666666666667]
["LVHenry Ruggs III",117,"Henry Ruggs III","LV",{"$f":"VLOOKUP(D118,'team abbr lookup'!A:B,2,FALSE)","v":"Las Vegas Raiders"},6,"WR48",106,121,130,119]
["LARDarrell Henderson",118,"Darrell Henderson","LAR",{"$f":"VLOOKUP(D119,'team abbr lookup'!A:B,2,FALSE)","v":"Los Angeles Rams"},9,"RB42",108,141,115,121.33333333333333]
["NESony Michel",119,"Sony Michel","NE",{"$f":"VLOOKUP(D120,'team abbr lookup'!A:B,2,FALSE)","v":"New England Patriots"},6,"RB43",175,101,92,122.66666666666667]
["MINAlexander Mattison",120,"Alexander Mattison","MIN",{"$f":"VLOOKUP(D121,'team abbr lookup'!A:B,2,FALSE)","v":"Minnesota Vikings"},7,"RB44",134,114,132,126.66666666666667]
["BALBaltimore Ravens",121,"Baltimore Ravens","BAL",{"$f":"VLOOKUP(D122,'team abbr lookup'!A:B,2,FALSE)","v":"Baltimore Ravens"},8,"DST3",98,139,144,127]
["NYGDaniel Jones",122,"Daniel Jones","NYG",{"$f":"VLOOKUP(D123,'team abbr lookup'!A:B,2,FALSE)","v":"New York Giants"},11,"QB14",137,125,121,127.66666666666667]
["MIAPreston Williams",123,"Preston Williams","MIA",{"$f":"VLOOKUP(D124,'team abbr lookup'!A:B,2,FALSE)","v":"Miami Dolphins"},11,"WR49",124,133,127,128]
["DETT.J. Hockenson",124,"T.J. Hockenson","DET",{"$f":"VLOOKUP(D125,'team abbr lookup'!A:B,2,FALSE)","v":"Detroit Lions"},5,"TE14",125,131,128,128]
["CARRobby Anderson",125,"Robby Anderson","CAR",{"$f":"VLOOKUP(D126,'team abbr lookup'!A:B,2,FALSE)","v":"Carolina Panthers"},13,"WR50",129,140,117,128.66666666666666]
["MIAMike Gesicki",126,"Mike Gesicki","MIA",{"$f":"VLOOKUP(D127,'team abbr lookup'!A:B,2,FALSE)","v":"Miami Dolphins"},11,"TE15",139,129,120,129.33333333333334]
["BUFBuffalo Bills",127,"Buffalo Bills","BUF",{"$f":"VLOOKUP(D128,'team abbr lookup'!A:B,2,FALSE)","v":"Buffalo Bills"},11,"DST4",85,148,159,130.66666666666666]
["BALJustin Tucker",128,"Justin Tucker","BAL",{"$f":"VLOOKUP(D129,'team abbr lookup'!A:B,2,FALSE)","v":"Baltimore Ravens"},8,"K1",91,142,162,131.66666666666666]
["TBKe'Shawn Vaughn",129,"Ke'Shawn Vaughn","TB",{"$f":"VLOOKUP(D130,'team abbr lookup'!A:B,2,FALSE)","v":"Tampa Bay Buccaneers"},13,"RB45",178,119,98,{"$f":"AVERAGE(H130:J130)","v":131.66666666666666}]
[{"$f":"_xlfn.CONCAT(D131,C131)","v":"HOUDuke Johnson"},130,"Duke Johnson","HOU",{"$f":"VLOOKUP(D131,'team abbr lookup'!A:B,2,FALSE)","v":"Houston Texans"},8,"RB46",147,126,124,132.33333333333334]
["NYGGolden Tate",131,"Golden Tate","NYG",{"$f":"VLOOKUP(D132,'team abbr lookup'!A:B,2,FALSE)","v":"New York Giants"},11,"WR51",120,156,122,132.66666666666666]
["KCHarrison Butker",132,"Harrison Butker","KC",{"$f":"VLOOKUP(D133,'team abbr lookup'!A:B,2,FALSE)","v":"Kansas City Chiefs"},10,"K2",94,147,160,133.66666666666666]
["PITBen Roethlisberger",133,"Ben Roethlisberger","PIT",{"$f":"VLOOKUP(D134,'team abbr lookup'!A:B,2,FALSE)","v":"Pittsburgh Steelers"},8,"QB15",143,138,125,135.33333333333334]
["KCMecole Hardman",134,"Mecole Hardman","KC",{"$f":"VLOOKUP(D135,'team abbr lookup'!A:B,2,FALSE)","v":"Kansas City Chiefs"},10,"WR52",128,130,149,135.66666666666666]
["DALTony Pollard",135,"Tony Pollard","DAL",{"$f":"VLOOKUP(D136,'team abbr lookup'!A:B,2,FALSE)","v":"Dallas Cowboys"},10,"RB47",144,134,133,137]
["WASAntonio Gibson",136,"Antonio Gibson","WAS",{"$f":"VLOOKUP(D137,'team abbr lookup'!A:B,2,FALSE)","v":"Washington Football Team"},8,"RB48",141,83,199,141]
["LACMike Williams",137,"Mike Williams","LAC",{"$f":"VLOOKUP(D138,'team abbr lookup'!A:B,2,FALSE)","v":"Los Angeles Chargers"},10,"WR53",151,166,106,141]
["PHIBoston Scott",138,"Boston Scott","PHI",{"$f":"VLOOKUP(D139,'team abbr lookup'!A:B,2,FALSE)","v":"Philadelphia Eagles"},9,"RB49",173,113,139,141.66666666666666]
["LARJared Goff",139,"Jared Goff","LAR",{"$f":"VLOOKUP(D140,'team abbr lookup'!A:B,2,FALSE)","v":"Los Angeles Rams"},9,"QB16",154,136,136,142]
["JACRyquell Armstead",140,"Ryquell Armstead","JAC",{"$f":"VLOOKUP(D141,'team abbr lookup'!A:B,2,FALSE)","v":"Jacksonville Jaguars"},7,"RB50",149,81,197,142.33333333333334]
["CHIAnthony Miller",141,"Anthony Miller","CHI",{"$f":"VLOOKUP(D142,'team abbr lookup'!A:B,2,FALSE)","v":"Chicago Bears"},11,"WR54",172,146,113,143.66666666666666]
["CLEBaker Mayfield",142,"Baker Mayfield","CLE",{"$f":"VLOOKUP(D143,'team abbr lookup'!A:B,2,FALSE)","v":"Cleveland Browns"},9,"QB17",164,145,123,144]
["NOWil Lutz",143,"Wil Lutz","NO",{"$f":"VLOOKUP(D144,'team abbr lookup'!A:B,2,FALSE)","v":"New Orleans Saints"},6,"K3",105,157,175,145.66666666666666]
["NENew England Patriots",144,"New England Patriots","NE",{"$f":"VLOOKUP(D145,'team abbr lookup'!A:B,2,FALSE)","v":"New England Patriots"},6,"DST5",109,160,168,145.66666666666666]
["TENRyan Tannehill",145,"Ryan Tannehill","TEN",{"$f":"VLOOKUP(D146,'team abbr lookup'!A:B,2,FALSE)","v":"Tennessee Titans"},7,"QB18",158,161,126,148.33333333333334]
["INDNyheim Hines",146,"Nyheim Hines","IND",{"$f":"VLOOKUP(D147,'team abbr lookup'!A:B,2,FALSE)","v":"Indianapolis Colts"},7,"RB51",165,144,137,148.66666666666666]
["PHIDallas Goedert",147,"Dallas Goedert","PHI",{"$f":"VLOOKUP(D148,'team abbr lookup'!A:B,2,FALSE)","v":"Philadelphia Eagles"},9,"TE16",184,132,131,149]
["WASAdrian Peterson",148,"Adrian Peterson","WAS",{"$f":"VLOOKUP(D149,'team abbr lookup'!A:B,2,FALSE)","v":"Washington Football Team"},8,"RB52",156,137,157,150]
["PHIJalen Reagor",149,"Jalen Reagor","PHI",{"$f":"VLOOKUP(D150,'team abbr lookup'!A:B,2,FALSE)","v":"Philadelphia Eagles"},9,"WR55",159,151,140,150]
["PITEric Ebron",150,"Eric Ebron","PIT",{"$f":"VLOOKUP(D151,'team abbr lookup'!A:B,2,FALSE)","v":"Pittsburgh Steelers"},8,"TE17",169,135,150,151.33333333333334]
["CINJoe Burrow",151,"Joe Burrow","CIN",{"$f":"VLOOKUP(D152,'team abbr lookup'!A:B,2,FALSE)","v":"Cincinnati Bengals"},9,"QB19",148,163,143,151.33333333333334]
["PHIDeSean Jackson",152,"DeSean Jackson","PHI",{"$f":"VLOOKUP(D153,'team abbr lookup'!A:B,2,FALSE)","v":"Philadelphia Eagles"},9,"WR56",150,152,153,151.66666666666666]
["CARCurtis Samuel",153,"Curtis Samuel","CAR",{"$f":"VLOOKUP(D154,'team abbr lookup'!A:B,2,FALSE)","v":"Carolina Panthers"},13,"WR57",138,162,156,152]
["CHIChicago Bears",154,"Chicago Bears","CHI",{"$f":"VLOOKUP(D155,'team abbr lookup'!A:B,2,FALSE)","v":"Chicago Bears"},11,"DST6",133,167,167,155.66666666666666]
["ARIChase Edmonds",155,"Chase Edmonds","ARI",{"$f":"VLOOKUP(D156,'team abbr lookup'!A:B,2,FALSE)","v":"Arizona Cardinals"},8,"RB53",179,124,165,156]
["SFJimmy Garoppolo",156,"Jimmy Garoppolo","SF",{"$f":"VLOOKUP(D157,'team abbr lookup'!A:B,2,FALSE)","v":"San Francisco 49ers"},11,"QB20",153,172,148,157.66666666666666]
["INDJack Doyle",157,"Jack Doyle","IND",{"$f":"VLOOKUP(D158,'team abbr lookup'!A:B,2,FALSE)","v":"Indianapolis Colts"},7,"TE18",167,165,142,158]
["KCSammy Watkins",158,"Sammy Watkins","KC",{"$f":"VLOOKUP(D159,'team abbr lookup'!A:B,2,FALSE)","v":"Kansas City Chiefs"},10,"WR58",163,178,135,158.66666666666666]
["TENJonnu Smith",159,"Jonnu Smith","TEN",{"$f":"VLOOKUP(D160,'team abbr lookup'!A:B,2,FALSE)","v":"Tennessee Titans"},7,"TE19",189,153,138,160]
["NYJBreshad Perriman",160,"Breshad Perriman","NYJ",{"$f":"VLOOKUP(D161,'team abbr lookup'!A:B,2,FALSE)","v":"New York Jets"},11,"WR59",155,179,146,160]
["DALGreg Zuerlein",161,"Greg Zuerlein","DAL",{"$f":"VLOOKUP(D162,'team abbr lookup'!A:B,2,FALSE)","v":"Dallas Cowboys"},10,"K4",130,168,184,160.66666666666666]
["NYJChris Herndon",162,"Chris Herndon","NYJ",{"$f":"VLOOKUP(D163,'team abbr lookup'!A:B,2,FALSE)","v":"New York Jets"},11,"TE20",160,150,177,162.33333333333334]
["LACJustin Jackson",163,"Justin Jackson","LAC",{"$f":"VLOOKUP(D164,'team abbr lookup'!A:B,2,FALSE)","v":"Los Angeles Chargers"},10,"RB54",168,154,166,162.66666666666666]
["MINMinnesota Vikings",164,"Minnesota Vikings","MIN",{"$f":"VLOOKUP(D165,'team abbr lookup'!A:B,2,FALSE)","v":"Minnesota Vikings"},7,"DST7",146,170,185,167]
["INDMichael Pittman Jr.",165,"Michael Pittman Jr.","IND",{"$f":"VLOOKUP(D166,'team abbr lookup'!A:B,2,FALSE)","v":"Indianapolis Colts"},7,"WR60",190,159,154,167.66666666666666]
["MINKirk Cousins",166,"Kirk Cousins","MIN",{"$f":"VLOOKUP(D167,'team abbr lookup'!A:B,2,FALSE)","v":"Minnesota Vikings"},7,"QB21",177,180,147,168]
["NONew Orleans Saints",167,"New Orleans Saints","NO",{"$f":"VLOOKUP(D168,'team abbr lookup'!A:B,2,FALSE)","v":"New Orleans Saints"},6,"DST8",140,174,193,169]
["DALBlake Jarwin",168,"Blake Jarwin","DAL",{"$f":"VLOOKUP(D169,'team abbr lookup'!A:B,2,FALSE)","v":"Dallas Cowboys"},10,"TE21",192,155,161,169.33333333333334]
["SFRobbie Gould",169,"Robbie Gould","SF",{"$f":"VLOOKUP(D170,'team abbr lookup'!A:B,2,FALSE)","v":"San Francisco 49ers"},11,"K5",135,184,204,174.33333333333334]
["SFBrandon Aiyuk",170,"Brandon Aiyuk","SF",{"$f":"VLOOKUP(D171,'team abbr lookup'!A:B,2,FALSE)","v":"San Francisco 49ers"},11,"WR61",187,149,187,174.33333333333334]
["GBAllen Lazard",171,"Allen Lazard","GB",{"$f":"VLOOKUP(D172,'team abbr lookup'!A:B,2,FALSE)","v":"Green Bay Packers"},5,"WR62",186,158,179,174.33333333333334]
["GBAJ Dillon",172,"AJ Dillon","GB",{"$f":"VLOOKUP(D173,'team abbr lookup'!A:B,2,FALSE)","v":"Green Bay Packers"},5,"RB55",193,164,169,175.33333333333334]
["TBMatt Gay",173,"Matt Gay","TB",{"$f":"VLOOKUP(D174,'team abbr lookup'!A:B,2,FALSE)","v":"Tampa Bay Buccaneers"},13,"K6",145,183,200,176]
["DENDrew Lock",174,"Drew Lock","DEN",{"$f":"VLOOKUP(D175,'team abbr lookup'!A:B,2,FALSE)","v":"Denver Broncos"},8,"QB22",182,177,174,177.66666666666666]
["JACGardner Minshew",175,"Gardner Minshew","JAC",{"$f":"VLOOKUP(D176,'team abbr lookup'!A:B,2,FALSE)","v":"Jacksonville Jaguars"},7,"QB23",185,176,173,178]
["NECam Newton",176,"Cam Newton","NE",{"$f":"VLOOKUP(D177,'team abbr lookup'!A:B,2,FALSE)","v":"New England Patriots"},6,"QB24",119,143,278,180]
["NEDamien Harris",177,"Damien Harris","NE",{"$f":"VLOOKUP(D178,'team abbr lookup'!A:B,2,FALSE)","v":"New England Patriots"},6,"RB56",166,123,251,180]
["NEN'Keal Harry",178,"N'Keal Harry","NE",{"$f":"VLOOKUP(D179,'team abbr lookup'!A:B,2,FALSE)","v":"New England Patriots"},6,"WR63",176,218,151,181.66666666666666]
["ARILarry Fitzgerald",179,"Larry Fitzgerald","ARI",{"$f":"VLOOKUP(D180,'team abbr lookup'!A:B,2,FALSE)","v":"Arizona Cardinals"},8,"WR64",157,212,176,181.66666666666666]
["INDPhilip Rivers",180,"Philip Rivers","IND",{"$f":"VLOOKUP(D181,'team abbr lookup'!A:B,2,FALSE)","v":"Indianapolis Colts"},7,"QB25",195,200,152,182.33333333333334]
["INDParris Campbell",181,"Parris Campbell","IND",{"$f":"VLOOKUP(D182,'team abbr lookup'!A:B,2,FALSE)","v":"Indianapolis Colts"},7,"WR65",171,191,186,182.66666666666666]
["KCKansas City Chiefs",182,"Kansas City Chiefs","KC",{"$f":"VLOOKUP(D183,'team abbr lookup'!A:B,2,FALSE)","v":"Kansas City Chiefs"},10,"DST9",183,189,192,188]
["ARIZane Gonzalez",183,"Zane Gonzalez","ARI",{"$f":"VLOOKUP(D184,'team abbr lookup'!A:B,2,FALSE)","v":"Arizona Cardinals"},8,"K7",170,173,225,189.33333333333334]
["TBLeSean McCoy",184,"LeSean McCoy","TB",{"$f":"VLOOKUP(D185,'team abbr lookup'!A:B,2,FALSE)","v":"Tampa Bay Buccaneers"},13,"RB57",204,195,178,192.33333333333334]
["LARLos Angeles Rams",185,"Los Angeles Rams","LAR",{"$f":"VLOOKUP(D186,'team abbr lookup'!A:B,2,FALSE)","v":"Los Angeles Rams"},9,"DST10",201,188,190,193]
["DETMatt Prater",186,"Matt Prater","DET",{"$f":"VLOOKUP(D187,'team abbr lookup'!A:B,2,FALSE)","v":"Detroit Lions"},5,"K8",123,231,226,193.33333333333334]
["CARTeddy Bridgewater",187,"Teddy Bridgewater","CAR",{"$f":"VLOOKUP(D188,'team abbr lookup'!A:B,2,FALSE)","v":"Carolina Panthers"},13,"QB26",194,208,180,194]
["DENDenver Broncos",188,"Denver Broncos","DEN",{"$f":"VLOOKUP(D189,'team abbr lookup'!A:B,2,FALSE)","v":"Denver Broncos"},8,"DST11",142,223,220,195]
["WR66Antonio Brown",189,"Antonio Brown","WR66",{"$f":"VLOOKUP(D190,'team abbr lookup'!A:B,2,FALSE)","v":{"$error":"#N/A"}},220,null,205,196.3,null,200.65]
["LACLos Angeles Chargers",190,"Los Angeles Chargers","LAC",{"$f":"VLOOKUP(D191,'team abbr lookup'!A:B,2,FALSE)","v":"Los Angeles Chargers"},10,"DST12",181,194,215,196.66666666666666]
["LVDerek Carr",191,"Derek Carr","LV",{"$f":"VLOOKUP(D192,'team abbr lookup'!A:B,2,FALSE)","v":"Las Vegas Raiders"},6,"QB27",207,199,208,204.66666666666666]
["MINIrv Smith Jr.",192,"Irv Smith Jr.","MIN",{"$f":"VLOOKUP(D193,'team abbr lookup'!A:B,2,FALSE)","v":"Minnesota Vikings"},7,"TE22",210,216,189,205]
["JACChris Thompson",193,"Chris Thompson","JAC",{"$f":"VLOOKUP(D194,'team abbr lookup'!A:B,2,FALSE)","v":"Jacksonville Jaguars"},7,"RB58",180,127,310,{"$f":"AVERAGE(H194:J194)","v":205.66666666666666}]
[{"$f":"_xlfn.CONCAT(D195,C195)","v":"CINTee Higgins"},194,"Tee Higgins","CIN",{"$f":"VLOOKUP(D195,'team abbr lookup'!A:B,2,FALSE)","v":"Cincinnati Bengals"},9,"WR67",212,219,188,206.33333333333334]
["TBO.J. Howard",195,"O.J. Howard","TB",{"$f":"VLOOKUP(D196,'team abbr lookup'!A:B,2,FALSE)","v":"Tampa Bay Buccaneers"},13,"TE23",211,201,209,207]
["INDIndianapolis Colts",196,"Indianapolis Colts","IND",{"$f":"VLOOKUP(D197,'team abbr lookup'!A:B,2,FALSE)","v":"Indianapolis Colts"},7,"DST13",122,235,266,207.66666666666666]
["SEAGreg Olsen",197,"Greg Olsen","SEA",{"$f":"VLOOKUP(D198,'team abbr lookup'!A:B,2,FALSE)","v":"Seattle Seahawks"},6,"TE24",203,226,195,208]
["HOURandall Cobb",198,"Randall Cobb","HOU",{"$f":"VLOOKUP(D199,'team abbr lookup'!A:B,2,FALSE)","v":"Houston Texans"},8,"WR68",198,214,213,208.33333333333334]
["NYJSam Darnold",199,"Sam Darnold","NYJ",{"$f":"VLOOKUP(D200,'team abbr lookup'!A:B,2,FALSE)","v":"New York Jets"},11,"QB28",229,228,170,209]
["DALDallas Cowboys",200,"Dallas Cowboys","DAL",{"$f":"VLOOKUP(D201,'team abbr lookup'!A:B,2,FALSE)","v":"Dallas Cowboys"},10,"DST14",161,230,256,215.66666666666666]
["BUFCole Beasley",201,"Cole Beasley","BUF",{"$f":"VLOOKUP(D202,'team abbr lookup'!A:B,2,FALSE)","v":"Buffalo Bills"},11,"WR69",215,225,210,216.66666666666666]
["TBTampa Bay Buccaneers",202,"Tampa Bay Buccaneers","TB",{"$f":"VLOOKUP(D203,'team abbr lookup'!A:B,2,FALSE)","v":"Tampa Bay Buccaneers"},13,"DST15",162,227,262,217]
["SEACarlos Hyde",203,"Carlos Hyde","SEA",{"$f":"VLOOKUP(D204,'team abbr lookup'!A:B,2,FALSE)","v":"Seattle Seahawks"},6,"RB59",209,182,268,219.66666666666666]
["MINKyle Rudolph",204,"Kyle Rudolph","MIN",{"$f":"VLOOKUP(D205,'team abbr lookup'!A:B,2,FALSE)","v":"Minnesota Vikings"},7,"TE25",197,258,205,220]
["SEASeattle Seahawks",205,"Seattle Seahawks","SEA",{"$f":"VLOOKUP(D206,'team abbr lookup'!A:B,2,FALSE)","v":"Seattle Seahawks"},6,"DST16",174,249,238,220.33333333333334]
["RB60Devonta Freeman",206,"Devonta Freeman","RB60",{"$f":"VLOOKUP(D207,'team abbr lookup'!A:B,2,FALSE)","v":{"$error":"#N/A"}},248,null,192,220.3,null,206.15]
["PHIPhiladelphia Eagles",207,"Philadelphia Eagles","PHI",{"$f":"VLOOKUP(D208,'team abbr lookup'!A:B,2,FALSE)","v":"Philadelphia Eagles"},9,"DST17",208,234,228,223.33333333333334]
["ATLYounghoe Koo",208,"Younghoe Koo","ATL",{"$f":"VLOOKUP(D209,'team abbr lookup'!A:B,2,FALSE)","v":"Atlanta Falcons"},10,"K9",202,202,270,224.66666666666666]
["PITChris Boswell",209,"Chris Boswell","PIT",{"$f":"VLOOKUP(D210,'team abbr lookup'!A:B,2,FALSE)","v":"Pittsburgh Steelers"},8,"K10",152,242,281,225]
["PHIJake Elliott",210,"Jake Elliott","PHI",{"$f":"VLOOKUP(D211,'team abbr lookup'!A:B,2,FALSE)","v":"Philadelphia Eagles"},9,"K11",188,245,243,225.33333333333334]
["WR70Mohamed Sanu",211,"Mohamed Sanu","WR70",{"$f":"VLOOKUP(D212,'team abbr lookup'!A:B,2,FALSE)","v":{"$error":"#N/A"}},217,null,237,225.3,null,231.15]
["GBMason Crosby",212,"Mason Crosby","GB",{"$f":"VLOOKUP(D213,'team abbr lookup'!A:B,2,FALSE)","v":"Green Bay Packers"},5,"K12",191,240,249,226.66666666666666]
["HOUKa'imi Fairbairn",213,"Ka'imi Fairbairn","HOU",{"$f":"VLOOKUP(D214,'team abbr lookup'!A:B,2,FALSE)","v":"Houston Texans"},8,"K13",199,243,240,227.33333333333334]
["PITBenny Snell Jr.",214,"Benny Snell Jr.","PIT",{"$f":"VLOOKUP(D215,'team abbr lookup'!A:B,2,FALSE)","v":"Pittsburgh Steelers"},8,"RB61",224,197,265,228.66666666666666]
["SFJerick McKinnon",215,"Jerick McKinnon","SF",{"$f":"VLOOKUP(D216,'team abbr lookup'!A:B,2,FALSE)","v":"San Francisco 49ers"},11,"RB62",200,185,305,230]
["MINDan Bailey",216,"Dan Bailey","MIN",{"$f":"VLOOKUP(D217,'team abbr lookup'!A:B,2,FALSE)","v":"Minnesota Vikings"},7,"K14",214,220,263,232.33333333333334]
["CHIJimmy Graham",217,"Jimmy Graham","CHI",{"$f":"VLOOKUP(D218,'team abbr lookup'!A:B,2,FALSE)","v":"Chicago Bears"},11,"TE26",205,236,258,233]
["PHIAlshon Jeffery",218,"Alshon Jeffery","PHI",{"$f":"VLOOKUP(D219,'team abbr lookup'!A:B,2,FALSE)","v":"Philadelphia Eagles"},9,"WR71",null,207,118,162.5]
["LVHunter Renfrow",219,"Hunter Renfrow","LV",{"$f":"VLOOKUP(D220,'team abbr lookup'!A:B,2,FALSE)","v":"Las Vegas Raiders"},6,"WR72",null,175,155,165]
["GBGreen Bay Packers",220,"Green Bay Packers","GB",{"$f":"VLOOKUP(D221,'team abbr lookup'!A:B,2,FALSE)","v":"Green Bay Packers"},5,"DST18",213,255,253,240.33333333333334]
["GBJamaal Williams",221,"Jamaal Williams","GB",{"$f":"VLOOKUP(D222,'team abbr lookup'!A:B,2,FALSE)","v":"Green Bay Packers"},5,"RB63",null,171,171,171]
["TENTennessee Titans",222,"Tennessee Titans","TEN",{"$f":"VLOOKUP(D223,'team abbr lookup'!A:B,2,FALSE)","v":"Tennessee Titans"},7,"DST19",235,256,237,242.66666666666666]
["NYJDenzel Mims",223,"Denzel Mims","NYJ",{"$f":"VLOOKUP(D224,'team abbr lookup'!A:B,2,FALSE)","v":"New York Jets"},11,"WR73",null,186,172,179]
["CARIan Thomas",224,"Ian Thomas","CAR",{"$f":"VLOOKUP(D225,'team abbr lookup'!A:B,2,FALSE)","v":"Carolina Panthers"},13,"TE27",null,203,158,180.5]
["SEAWill Dissly",225,"Will Dissly","SEA",{"$f":"VLOOKUP(D226,'team abbr lookup'!A:B,2,FALSE)","v":"Seattle Seahawks"},6,"TE28",236,265,260,253.66666666666666]
["JACDede Westbrook",226,"Dede Westbrook","JAC",{"$f":"VLOOKUP(D227,'team abbr lookup'!A:B,2,FALSE)","v":"Jacksonville Jaguars"},7,"WR74",null,215,163,189]
["JACJosh Lambo",227,"Josh Lambo","JAC",{"$f":"VLOOKUP(D228,'team abbr lookup'!A:B,2,FALSE)","v":"Jacksonville Jaguars"},7,"K15",216,246,307,256.33333333333331]
["TENDarrynton Evans",228,"Darrynton Evans","TEN",{"$f":"VLOOKUP(D229,'team abbr lookup'!A:B,2,FALSE)","v":"Tennessee Titans"},7,"RB64",null,190,196,193]
["NELamar Miller",229,"Lamar Miller","NE",{"$f":"VLOOKUP(D230,'team abbr lookup'!A:B,2,FALSE)","v":"New England Patriots"},6,"RB65",null,193,206,199.5]
["TENCorey Davis",230,"Corey Davis","TEN",{"$f":"VLOOKUP(D231,'team abbr lookup'!A:B,2,FALSE)","v":"Tennessee Titans"},7,"WR75",null,217,183,200]
["WASDwayne Haskins",231,"Dwayne Haskins","WAS",{"$f":"VLOOKUP(D232,'team abbr lookup'!A:B,2,FALSE)","v":"Washington Football Team"},8,"QB29",252,263,273,262.66666666666669]
["PITAnthony McFarland Jr.",232,"Anthony McFarland Jr.","PIT",{"$f":"VLOOKUP(D233,'team abbr lookup'!A:B,2,FALSE)","v":"Pittsburgh Steelers"},8,"RB66",null,196,216,206]
["LACJoshua Kelley",233,"Joshua Kelley","LAC",{"$f":"VLOOKUP(D234,'team abbr lookup'!A:B,2,FALSE)","v":"Los Angeles Chargers"},10,"RB67",null,187,229,208]
["HOUHouston Texans",234,"Houston Texans","HOU",{"$f":"VLOOKUP(D235,'team abbr lookup'!A:B,2,FALSE)","v":"Houston Texans"},8,"DST20",240,268,302,270]
["NEDevin Asiasi",235,"Devin Asiasi","NE",{"$f":"VLOOKUP(D236,'team abbr lookup'!A:B,2,FALSE)","v":"New England Patriots"},6,"TE29",303,252,255,270]
["PITJaylen Samuels",236,"Jaylen Samuels","PIT",{"$f":"VLOOKUP(D237,'team abbr lookup'!A:B,2,FALSE)","v":"Pittsburgh Steelers"},8,"RB68",null,181,247,214]
["PITJames Washington",237,"James Washington","PIT",{"$f":"VLOOKUP(D238,'team abbr lookup'!A:B,2,FALSE)","v":"Pittsburgh Steelers"},8,"WR76",null,241,191,216]
["LVBryan Edwards",238,"Bryan Edwards","LV",{"$f":"VLOOKUP(D239,'team abbr lookup'!A:B,2,FALSE)","v":"Las Vegas Raiders"},6,"WR77",null,224,214,219]
["CINGiovani Bernard",239,"Giovani Bernard","CIN",{"$f":"VLOOKUP(D240,'team abbr lookup'!A:B,2,FALSE)","v":"Cincinnati Bengals"},9,"RB69",null,239,201,220]
["PITChase Claypool",240,"Chase Claypool","PIT",{"$f":"VLOOKUP(D241,'team abbr lookup'!A:B,2,FALSE)","v":"Pittsburgh Steelers"},8,"WR78",null,198,244,221]
["JACLaviska Shenault Jr.",241,"Laviska Shenault Jr.","JAC",{"$f":"VLOOKUP(D242,'team abbr lookup'!A:B,2,FALSE)","v":"Jacksonville Jaguars"},7,"WR79",null,221,224,222.5]
["NYGDion Lewis",242,"Dion Lewis","NYG",{"$f":"VLOOKUP(D243,'team abbr lookup'!A:B,2,FALSE)","v":"New York Giants"},11,"RB70",null,204,245,224.5]
["WASWashington Football Team",243,"Washington Football Team","WAS",{"$f":"VLOOKUP(D244,'team abbr lookup'!A:B,2,FALSE)","v":"Washington Football Team"},8,"DST21",218,null,231,224.5]
["KCDarrel Williams",244,"Darrel Williams","KC",{"$f":"VLOOKUP(D245,'team abbr lookup'!A:B,2,FALSE)","v":"Kansas City Chiefs"},10,"RB71",323,169,344,278.66666666666669]
["ATLAtlanta Falcons",245,"Atlanta Falcons","ATL",{"$f":"VLOOKUP(D246,'team abbr lookup'!A:B,2,FALSE)","v":"Atlanta Falcons"},10,"DST22",246,null,211,228.5]
["LVJalen Richard",246,"Jalen Richard","LV",{"$f":"VLOOKUP(D247,'team abbr lookup'!A:B,2,FALSE)","v":"Las Vegas Raiders"},6,"RB72",null,213,246,229.5]
["ATLBrian Hill",247,"Brian Hill","ATL",{"$f":"VLOOKUP(D248,'team abbr lookup'!A:B,2,FALSE)","v":"Atlanta Falcons"},10,"RB73",null,233,235,234]
["BUFDawson Knox",248,"Dawson Knox","BUF",{"$f":"VLOOKUP(D249,'team abbr lookup'!A:B,2,FALSE)","v":"Buffalo Bills"},11,"TE30",null,251,227,239]
["MIAFitzpatrick / Tagovailoa",249,"Fitzpatrick / Tagovailoa","MIA",{"$f":"VLOOKUP(D250,'team abbr lookup'!A:B,2,FALSE)","v":"Miami Dolphins"},11,"QB30",null,247,232,239.5]
["JACJacksonville Jaguars",250,"Jacksonville Jaguars","JAC",{"$f":"VLOOKUP(D251,'team abbr lookup'!A:B,2,FALSE)","v":"Jacksonville Jaguars"},7,"DST23",282,257,326,288.33333333333331]
["ATLIto Smith",251,"Ito Smith","ATL",{"$f":"VLOOKUP(D252,'team abbr lookup'!A:B,2,FALSE)","v":"Atlanta Falcons"},10,"RB74",null,209,272,240.5]
["GBJace Sternberger",252,"Jace Sternberger","GB",{"$f":"VLOOKUP(D253,'team abbr lookup'!A:B,2,FALSE)","v":"Green Bay Packers"},5,"TE31",null,238,252,245]
["PHIJalen Hurts",253,"Jalen Hurts","PHI",{"$f":"VLOOKUP(D254,'team abbr lookup'!A:B,2,FALSE)","v":"Philadelphia Eagles"},9,"QB31",269,null,223,246]
["MIATua Tagovailoa",254,"Tua Tagovailoa","MIA",{"$f":"VLOOKUP(D255,'team abbr lookup'!A:B,2,FALSE)","v":"Miami Dolphins"},11,"QB32",196,null,299,247.5]
["NYJFrank Gore",255,"Frank Gore","NYJ",{"$f":"VLOOKUP(D256,'team abbr lookup'!A:B,2,FALSE)","v":"New York Jets"},11,"RB75",null,211,285,248]
["NYJNew York Jets",256,"New York Jets","NYJ",{"$f":"VLOOKUP(D257,'team abbr lookup'!A:B,2,FALSE)","v":"New York Jets"},11,"DST24",null,264,233,248.5]
["KCDeAndre Washington",257,"DeAndre Washington","KC",{"$f":"VLOOKUP(D258,'team abbr lookup'!A:B,2,FALSE)","v":"Kansas City Chiefs"},10,"RB76",null,222,276,{"$f":"AVERAGE(H258:J258)","v":249}]
[{"$f":"_xlfn.CONCAT(D259,C259)","v":"CLEDavid Njoku"},258,"David Njoku","CLE",{"$f":"VLOOKUP(D259,'team abbr lookup'!A:B,2,FALSE)","v":"Cleveland Browns"},9,"TE32",245,null,254,249.5]
["LACTaylor / Herbert",259,"Taylor / Herbert","LAC",{"$f":"VLOOKUP(D260,'team abbr lookup'!A:B,2,FALSE)","v":"Los Angeles Chargers"},10,"QB33",null,260,241,250.5]
["DENBrandon McManus",260,"Brandon McManus","DEN",{"$f":"VLOOKUP(D261,'team abbr lookup'!A:B,2,FALSE)","v":"Denver Broncos"},8,"K16",null,244,259,251.5]
["SEAJason Myers",261,"Jason Myers","SEA",{"$f":"VLOOKUP(D262,'team abbr lookup'!A:B,2,FALSE)","v":"Seattle Seahawks"},6,"K17",null,232,279,255.5]
["CARJoey Slye",262,"Joey Slye","CAR",{"$f":"VLOOKUP(D263,'team abbr lookup'!A:B,2,FALSE)","v":"Carolina Panthers"},13,"K18",null,248,271,259.5]
["CLECleveland Browns",263,"Cleveland Browns","CLE",{"$f":"VLOOKUP(D264,'team abbr lookup'!A:B,2,FALSE)","v":"Cleveland Browns"},9,"DST25",null,259,261,260]
["LARGerald Everett",264,"Gerald Everett","LAR",{"$f":"VLOOKUP(D265,'team abbr lookup'!A:B,2,FALSE)","v":"Los Angeles Rams"},9,"TE33",null,253,269,261]
["TENStephen Gostkowski",265,"Stephen Gostkowski","TEN",{"$f":"VLOOKUP(D266,'team abbr lookup'!A:B,2,FALSE)","v":"Tennessee Titans"},7,"K19",222,null,301,261.5]
["WASBryce Love",266,"Bryce Love","WAS",{"$f":"VLOOKUP(D267,'team abbr lookup'!A:B,2,FALSE)","v":"Washington Football Team"},8,"RB77",null,206,318,262]
["PITVance McDonald",267,"Vance McDonald","PIT",{"$f":"VLOOKUP(D268,'team abbr lookup'!A:B,2,FALSE)","v":"Pittsburgh Steelers"},8,"TE34",247,null,282,264.5]
["NOTre'Quan Smith",268,"Tre'Quan Smith","NO",{"$f":"VLOOKUP(D269,'team abbr lookup'!A:B,2,FALSE)","v":"New Orleans Saints"},6,"WR80",null,262,267,264.5]
["K20Stephen Hauschka",269,"Stephen Hauschka","K20",{"$f":"VLOOKUP(D270,'team abbr lookup'!A:B,2,FALSE)","v":{"$error":"#N/A"}},250,null,null,271.5,null,271.5]
["LACJustin Herbert",270,"Justin Herbert","LAC",{"$f":"VLOOKUP(D271,'team abbr lookup'!A:B,2,FALSE)","v":"Los Angeles Chargers"},10,"QB34",256,null,294,275]
["CHICole Kmet",271,"Cole Kmet","CHI",{"$f":"VLOOKUP(D272,'team abbr lookup'!A:B,2,FALSE)","v":"Chicago Bears"},11,"TE35",225,null,327,276]
["WASDustin Hopkins",272,"Dustin Hopkins","WAS",{"$f":"VLOOKUP(D273,'team abbr lookup'!A:B,2,FALSE)","v":"Washington Football Team"},8,"K21",223,null,333,278]
["WASSteven Sims",273,"Steven Sims","WAS",{"$f":"VLOOKUP(D274,'team abbr lookup'!A:B,2,FALSE)","v":"Washington Football Team"},8,"WR81",null,254,309,281.5]
["CHIMitch Trubisky",274,"Mitch Trubisky","CHI",{"$f":"VLOOKUP(D275,'team abbr lookup'!A:B,2,FALSE)","v":"Chicago Bears"},11,"QB35",242,null,322,282]
["SEARashaad Penny",275,"Rashaad Penny","SEA",{"$f":"VLOOKUP(D276,'team abbr lookup'!A:B,2,FALSE)","v":"Seattle Seahawks"},6,"RB78",null,null,181,181]
["MIAJason Sanders",276,"Jason Sanders","MIA",{"$f":"VLOOKUP(D277,'team abbr lookup'!A:B,2,FALSE)","v":"Miami Dolphins"},11,"K22",261,null,306,283.5]
["CINJohn Ross",277,"John Ross","CIN",{"$f":"VLOOKUP(D278,'team abbr lookup'!A:B,2,FALSE)","v":"Cincinnati Bengals"},9,"WR82",null,null,182,182]
["SFKendrick Bourne",278,"Kendrick Bourne","SF",{"$f":"VLOOKUP(D279,'team abbr lookup'!A:B,2,FALSE)","v":"San Francisco 49ers"},11,"WR83",null,250,321,285.5]
["JACTyler Eifert",279,"Tyler Eifert","JAC",{"$f":"VLOOKUP(D280,'team abbr lookup'!A:B,2,FALSE)","v":"Jacksonville Jaguars"},7,"TE36",null,261,315,288]
["NOJameis Winston",280,"Jameis Winston","NO",{"$f":"VLOOKUP(D281,'team abbr lookup'!A:B,2,FALSE)","v":"New Orleans Saints"},6,"QB36",231,null,346,288.5]
["SEAJosh Gordon",281,"Josh Gordon","SEA",{"$f":"VLOOKUP(D282,'team abbr lookup'!A:B,2,FALSE)","v":"Seattle Seahawks"},null,null,null,198,null,198]
["CARCarolina Panthers",282,"Carolina Panthers","CAR",{"$f":"VLOOKUP(D283,'team abbr lookup'!A:B,2,FALSE)","v":"Carolina Panthers"},13,"DST26",219,null,367,293]
["JACDevine Ozigbo",283,"Devine Ozigbo","JAC",{"$f":"VLOOKUP(D284,'team abbr lookup'!A:B,2,FALSE)","v":"Jacksonville Jaguars"},7,"RB79",null,210,377,293.5]
["BALJustice Hill",284,"Justice Hill","BAL",{"$f":"VLOOKUP(D285,'team abbr lookup'!A:B,2,FALSE)","v":"Baltimore Ravens"},8,"RB80",null,null,202,202]
["HOUKenny Stills",285,"Kenny Stills","HOU",{"$f":"VLOOKUP(D286,'team abbr lookup'!A:B,2,FALSE)","v":"Houston Texans"},8,"WR85",null,null,203,203]
["NOTaysom Hill",286,"Taysom Hill","NO",{"$f":"VLOOKUP(D287,'team abbr lookup'!A:B,2,FALSE)","v":"New Orleans Saints"},6,"QB37",206,null,null,206]
["CHIEddy Pineiro",287,"Eddy Pineiro","CHI",{"$f":"VLOOKUP(D288,'team abbr lookup'!A:B,2,FALSE)","v":"Chicago Bears"},11,"K23",257,null,335,296]
["CINCincinnati Bengals",288,"Cincinnati Bengals","CIN",{"$f":"VLOOKUP(D289,'team abbr lookup'!A:B,2,FALSE)","v":"Cincinnati Bengals"},9,"DST27",null,null,207,207]
["LVJason Witten",289,"Jason Witten","LV",{"$f":"VLOOKUP(D290,'team abbr lookup'!A:B,2,FALSE)","v":"Las Vegas Raiders"},6,"TE37",227,null,366,296.5]
["ARIArizona Cardinals",290,"Arizona Cardinals","ARI",{"$f":"VLOOKUP(D291,'team abbr lookup'!A:B,2,FALSE)","v":"Arizona Cardinals"},8,"DST28",243,null,353,298]
["NYJSam Ficken",291,"Sam Ficken","NYJ",{"$f":"VLOOKUP(D292,'team abbr lookup'!A:B,2,FALSE)","v":"New York Jets"},11,"K24",273,null,323,298]
["CHINick Foles",292,"Nick Foles","CHI",{"$f":"VLOOKUP(D293,'team abbr lookup'!A:B,2,FALSE)","v":"Chicago Bears"},11,"QB38",293,null,303,298]
["BUFTyler Bass",293,"Tyler Bass","BUF",{"$f":"VLOOKUP(D294,'team abbr lookup'!A:B,2,FALSE)","v":"Buffalo Bills"},11,"K25",226,null,371,298.5]
["BALDevin Duvernay",294,"Devin Duvernay","BAL",{"$f":"VLOOKUP(D295,'team abbr lookup'!A:B,2,FALSE)","v":"Baltimore Ravens"},8,"WR86",null,null,212,212]
["CARMike Davis",295,"Mike Davis","CAR",{"$f":"VLOOKUP(D296,'team abbr lookup'!A:B,2,FALSE)","v":"Carolina Panthers"},13,"RB81",null,229,370,299.5]
["BALWillie Snead",296,"Willie Snead","BAL",{"$f":"VLOOKUP(D297,'team abbr lookup'!A:B,2,FALSE)","v":"Baltimore Ravens"},8,"WR87",null,null,217,217]
["LVDaniel Carlson",297,"Daniel Carlson","LV",{"$f":"VLOOKUP(D298,'team abbr lookup'!A:B,2,FALSE)","v":"Las Vegas Raiders"},6,"K26",264,null,339,301.5]
["LARVan Jefferson",298,"Van Jefferson","LAR",{"$f":"VLOOKUP(D299,'team abbr lookup'!A:B,2,FALSE)","v":"Los Angeles Rams"},9,"WR88",null,267,336,301.5]
["LARMalcolm Brown",299,"Malcolm Brown","LAR",{"$f":"VLOOKUP(D300,'team abbr lookup'!A:B,2,FALSE)","v":"Los Angeles Rams"},9,"RB82",null,null,218,218]
["LVLynn Bowden Jr.",300,"Lynn Bowden Jr.","LV",{"$f":"VLOOKUP(D301,'team abbr lookup'!A:B,2,FALSE)","v":"Las Vegas Raiders"},6,"RB83",null,null,219,219]
["TBCameron Brate",301,"Cameron Brate","TB",{"$f":"VLOOKUP(D302,'team abbr lookup'!A:B,2,FALSE)","v":"Tampa Bay Buccaneers"},13,"TE38",291,null,314,302.5]
["QB39Colin Kaepernick",302,"Colin Kaepernick","QB39",{"$f":"VLOOKUP(D303,'team abbr lookup'!A:B,2,FALSE)","v":{"$error":"#N/A"}},221,null,null,221,null,221]
["NYGNew York Giants",303,"New York Giants","NYG",{"$f":"VLOOKUP(D304,'team abbr lookup'!A:B,2,FALSE)","v":"New York Giants"},11,"DST29",228,null,null,228]
["ARIDan Arnold",304,"Dan Arnold","ARI",{"$f":"VLOOKUP(D305,'team abbr lookup'!A:B,2,FALSE)","v":"Arizona Cardinals"},8,"TE39",null,266,349,307.5]
["DENRoyce Freeman",305,"Royce Freeman","DEN",{"$f":"VLOOKUP(D306,'team abbr lookup'!A:B,2,FALSE)","v":"Denver Broncos"},8,"RB84",null,null,230,230]
["CINMike Thomas",306,"Mike Thomas","CIN",{"$f":"VLOOKUP(D307,'team abbr lookup'!A:B,2,FALSE)","v":"Cincinnati Bengals"},9,"WR89",232,null,null,232]
["QB40Cole McDonald",307,"Cole McDonald","QB40",{"$f":"VLOOKUP(D308,'team abbr lookup'!A:B,2,FALSE)","v":{"$error":"#N/A"}},233,null,null,233,null,233]
["DETDetroit Lions",308,"Detroit Lions","DET",{"$f":"VLOOKUP(D309,'team abbr lookup'!A:B,2,FALSE)","v":"Detroit Lions"},5,"DST30",null,null,234,234]
["RB85Marshawn Lynch",309,"Marshawn Lynch","RB85",{"$f":"VLOOKUP(D310,'team abbr lookup'!A:B,2,FALSE)","v":{"$error":"#N/A"}},234,null,null,234,null,234]
["CINC.J. Uzomah",310,"C.J. Uzomah","CIN",{"$f":"VLOOKUP(D311,'team abbr lookup'!A:B,2,FALSE)","v":"Cincinnati Bengals"},9,"TE40",null,null,236,236]
["QB41Mark Sanchez",311,"Mark Sanchez","QB41",{"$f":"VLOOKUP(D312,'team abbr lookup'!A:B,2,FALSE)","v":{"$error":"#N/A"}},237,null,null,237,null,237]
["LVNathan Peterman",312,"Nathan Peterman","LV",{"$f":"VLOOKUP(D313,'team abbr lookup'!A:B,2,FALSE)","v":"Las Vegas Raiders"},6,"QB42",238,null,null,238]
["KCDarwin Thompson",313,"Darwin Thompson","KC",{"$f":"VLOOKUP(D314,'team abbr lookup'!A:B,2,FALSE)","v":"Kansas City Chiefs"},10,"RB86",328,null,296,312]
["LVLas Vegas Raiders",314,"Las Vegas Raiders","LV",{"$f":"VLOOKUP(D315,'team abbr lookup'!A:B,2,FALSE)","v":"Las Vegas Raiders"},6,"DST31",239,null,null,239]
["BUFChristian Wade",315,"Christian Wade","BUF",{"$f":"VLOOKUP(D316,'team abbr lookup'!A:B,2,FALSE)","v":"Buffalo Bills"},11,"RB87",null,null,239,239]
["SEAJacob Hollister",316,"Jacob Hollister","SEA",{"$f":"VLOOKUP(D317,'team abbr lookup'!A:B,2,FALSE)","v":"Seattle Seahawks"},6,"TE41",307,null,319,313]
["K27Adam Vinatieri",317,"Adam Vinatieri","K27",{"$f":"VLOOKUP(D318,'team abbr lookup'!A:B,2,FALSE)","v":{"$error":"#N/A"}},241,null,null,241,null,241]
["LACMichael Badgley",318,"Michael Badgley","LAC",{"$f":"VLOOKUP(D319,'team abbr lookup'!A:B,2,FALSE)","v":"Los Angeles Chargers"},10,"K28",null,null,242,242]
["QB43Andrew Luck",319,"Andrew Luck","QB43",{"$f":"VLOOKUP(D320,'team abbr lookup'!A:B,2,FALSE)","v":{"$error":"#N/A"}},244,null,null,244,null,244]
["TBRyan Succop",320,"Ryan Succop","TB",{"$f":"VLOOKUP(D321,'team abbr lookup'!A:B,2,FALSE)","v":"Tampa Bay Buccaneers"},13,"K29",251,null,380,315.5]
["DETDanny Amendola",321,"Danny Amendola","DET",{"$f":"VLOOKUP(D322,'team abbr lookup'!A:B,2,FALSE)","v":"Detroit Lions"},5,"WR90",null,null,248,{"$f":"AVERAGE(H322:J322)","v":248}]
[{"$f":"_xlfn.CONCAT(D323,C323)","v":"DENJake Butt"},322,"Jake Butt","DEN",{"$f":"VLOOKUP(D323,'team abbr lookup'!A:B,2,FALSE)","v":"Denver Broncos"},8,"TE42",249,null,null,249]
["ARIAndy Isabella",323,"Andy Isabella","ARI",{"$f":"VLOOKUP(D324,'team abbr lookup'!A:B,2,FALSE)","v":"Arizona Cardinals"},8,"WR91",null,null,250,250]
["TE43Carson Meier",324,"Carson Meier","TE43",{"$f":"VLOOKUP(D325,'team abbr lookup'!A:B,2,FALSE)","v":{"$error":"#N/A"}},254,null,null,254,null,254]
["K30Cody Parkey",325,"Cody Parkey","K30",{"$f":"VLOOKUP(D326,'team abbr lookup'!A:B,2,FALSE)","v":{"$error":"#N/A"}},255,null,null,255,null,255]
["LARJosh Reynolds",326,"Josh Reynolds","LAR",{"$f":"VLOOKUP(D327,'team abbr lookup'!A:B,2,FALSE)","v":"Los Angeles Rams"},9,"WR92",null,null,257,257]
["K31Sebastian Janikowski",327,"Sebastian Janikowski","K31",{"$f":"VLOOKUP(D328,'team abbr lookup'!A:B,2,FALSE)","v":{"$error":"#N/A"}},258,null,null,258,null,258]
["WR93Max McCaffrey",328,"Max McCaffrey","WR93",{"$f":"VLOOKUP(D329,'team abbr lookup'!A:B,2,FALSE)","v":{"$error":"#N/A"}},259,null,null,259,null,259]
["RB88Jonathan Hilliman",329,"Jonathan Hilliman","RB88",{"$f":"VLOOKUP(D330,'team abbr lookup'!A:B,2,FALSE)","v":{"$error":"#N/A"}},260,null,null,260,null,260]
["SFJordan Reed",330,"Jordan Reed","SF",{"$f":"VLOOKUP(D331,'team abbr lookup'!A:B,2,FALSE)","v":"San Francisco 49ers"},11,"TE44",262,null,null,262]
["RB89Jordan Chunn",331,"Jordan Chunn","RB89",{"$f":"VLOOKUP(D332,'team abbr lookup'!A:B,2,FALSE)","v":{"$error":"#N/A"}},263,null,null,263,null,263]
["CLEAustin Seibert",332,"Austin Seibert","CLE",{"$f":"VLOOKUP(D333,'team abbr lookup'!A:B,2,FALSE)","v":"Cleveland Browns"},9,"K32",null,null,264,264]
["SFKyle Juszczyk",333,"Kyle Juszczyk","SF",{"$f":"VLOOKUP(D334,'team abbr lookup'!A:B,2,FALSE)","v":"San Francisco 49ers"},11,"RB90",308,null,342,325]
["WR94Tyre Brady",334,"Tyre Brady","WR94",{"$f":"VLOOKUP(D335,'team abbr lookup'!A:B,2,FALSE)","v":{"$error":"#N/A"}},265,null,null,265,null,265]
["BUFMatt Barkley",335,"Matt Barkley","BUF",{"$f":"VLOOKUP(D336,'team abbr lookup'!A:B,2,FALSE)","v":"Buffalo Bills"},11,"QB44",266,null,null,266]
["NENick Folk",336,"Nick Folk","NE",{"$f":"VLOOKUP(D337,'team abbr lookup'!A:B,2,FALSE)","v":"New England Patriots"},6,"K33",267,null,null,267]
["WR95Davion Davis",337,"Davion Davis","WR95",{"$f":"VLOOKUP(D338,'team abbr lookup'!A:B,2,FALSE)","v":{"$error":"#N/A"}},268,null,null,268,null,268]
["BALPatrick Ricard",338,"Patrick Ricard","BAL",{"$f":"VLOOKUP(D339,'team abbr lookup'!A:B,2,FALSE)","v":"Baltimore Ravens"},8,"RB91",270,null,null,270]
["QB45Tyree Jackson",339,"Tyree Jackson","QB45",{"$f":"VLOOKUP(D340,'team abbr lookup'!A:B,2,FALSE)","v":{"$error":"#N/A"}},271,null,null,271,null,271]
["WR96Jazz Ferguson",340,"Jazz Ferguson","WR96",{"$f":"VLOOKUP(D341,'team abbr lookup'!A:B,2,FALSE)","v":{"$error":"#N/A"}},272,null,null,272,null,272]
["RB92Derrius Guice",341,"Derrius Guice","RB92",{"$f":"VLOOKUP(D342,'team abbr lookup'!A:B,2,FALSE)","v":{"$error":"#N/A"}},278,null,null,329.5,null,329.5]
["K34Kai Forbath",342,"Kai Forbath","K34",{"$f":"VLOOKUP(D343,'team abbr lookup'!A:B,2,FALSE)","v":{"$error":"#N/A"}},274,null,null,274,null,274]
["JACChris Conley",343,"Chris Conley","JAC",{"$f":"VLOOKUP(D344,'team abbr lookup'!A:B,2,FALSE)","v":"Jacksonville Jaguars"},7,"WR97",null,null,274,274]
["BALGus Edwards",344,"Gus Edwards","BAL",{"$f":"VLOOKUP(D345,'team abbr lookup'!A:B,2,FALSE)","v":"Baltimore Ravens"},8,"RB93",null,null,275,275]
["BALNick Boyle",345,"Nick Boyle","BAL",{"$f":"VLOOKUP(D346,'team abbr lookup'!A:B,2,FALSE)","v":"Baltimore Ravens"},8,"TE45",276,null,null,276]
["OL1Bradley Sowell",346,"Bradley Sowell","OL1",{"$f":"VLOOKUP(D347,'team abbr lookup'!A:B,2,FALSE)","v":{"$error":"#N/A"}},277,null,null,277,null,277]
["DENKJ Hamler",347,"KJ Hamler","DEN",{"$f":"VLOOKUP(D348,'team abbr lookup'!A:B,2,FALSE)","v":"Denver Broncos"},8,"WR98",null,null,277,277]
["K35Mike Nugent",348,"Mike Nugent","K35",{"$f":"VLOOKUP(D349,'team abbr lookup'!A:B,2,FALSE)","v":{"$error":"#N/A"}},279,null,null,279,null,279]
["QB46Sam Bradford",349,"Sam Bradford","QB46",{"$f":"VLOOKUP(D350,'team abbr lookup'!A:B,2,FALSE)","v":{"$error":"#N/A"}},280,null,null,280,null,280]
["TENGreg Joseph",350,"Greg Joseph","TEN",{"$f":"VLOOKUP(D351,'team abbr lookup'!A:B,2,FALSE)","v":"Tennessee Titans"},7,"K36",null,null,280,280]
["NYGGraham Gano",351,"Graham Gano","NYG",{"$f":"VLOOKUP(D352,'team abbr lookup'!A:B,2,FALSE)","v":"New York Giants"},11,"K37",281,null,null,281]
["INDChase McLaughlin",352,"Chase McLaughlin","IND",{"$f":"VLOOKUP(D353,'team abbr lookup'!A:B,2,FALSE)","v":"Indianapolis Colts"},7,"K38",null,null,283,283]
["RB94Austin Walter",353,"Austin Walter","RB94",{"$f":"VLOOKUP(D354,'team abbr lookup'!A:B,2,FALSE)","v":{"$error":"#N/A"}},284,null,null,284,null,284]
["K39Matt Bryant",354,"Matt Bryant","K39",{"$f":"VLOOKUP(D355,'team abbr lookup'!A:B,2,FALSE)","v":{"$error":"#N/A"}},285,null,null,285,null,285]
["ARIEno Benjamin",355,"Eno Benjamin","ARI",{"$f":"VLOOKUP(D356,'team abbr lookup'!A:B,2,FALSE)","v":"Arizona Cardinals"},8,"RB95",null,null,286,286]
["RB96Javon Leake",356,"Javon Leake","RB96",{"$f":"VLOOKUP(D357,'team abbr lookup'!A:B,2,FALSE)","v":{"$error":"#N/A"}},286,null,null,286,null,286]
["BALRobert Griffin",357,"Robert Griffin","BAL",{"$f":"VLOOKUP(D358,'team abbr lookup'!A:B,2,FALSE)","v":"Baltimore Ravens"},8,"QB47",287,null,null,287]
["BALMiles Boykin",358,"Miles Boykin","BAL",{"$f":"VLOOKUP(D359,'team abbr lookup'!A:B,2,FALSE)","v":"Baltimore Ravens"},8,"WR99",null,null,287,287]
["NERex Burkhead",359,"Rex Burkhead","NE",{"$f":"VLOOKUP(D360,'team abbr lookup'!A:B,2,FALSE)","v":"New England Patriots"},6,"RB97",null,null,288,288]
["NEJ.J. Taylor",360,"J.J. Taylor","NE",{"$f":"VLOOKUP(D361,'team abbr lookup'!A:B,2,FALSE)","v":"New England Patriots"},6,"RB98",288,null,null,288]
["CINRandy Bullock",361,"Randy Bullock","CIN",{"$f":"VLOOKUP(D362,'team abbr lookup'!A:B,2,FALSE)","v":"Cincinnati Bengals"},9,"K40",null,null,289,289]
["PITDerek Watt",362,"Derek Watt","PIT",{"$f":"VLOOKUP(D363,'team abbr lookup'!A:B,2,FALSE)","v":"Pittsburgh Steelers"},8,"RB99",289,null,null,289]
["NEJarrett Stidham",363,"Jarrett Stidham","NE",{"$f":"VLOOKUP(D364,'team abbr lookup'!A:B,2,FALSE)","v":"New England Patriots"},6,"QB48",null,null,290,290]
["TE46Thaddeus Moss",364,"Thaddeus Moss","TE46",{"$f":"VLOOKUP(D365,'team abbr lookup'!A:B,2,FALSE)","v":{"$error":"#N/A"}},290,null,null,290,null,290]
["CINAuden Tate",365,"Auden Tate","CIN",{"$f":"VLOOKUP(D366,'team abbr lookup'!A:B,2,FALSE)","v":"Cincinnati Bengals"},9,"WR100",null,null,291,291]
["WR101Dez Bryant",366,"Dez Bryant","WR101",{"$f":"VLOOKUP(D367,'team abbr lookup'!A:B,2,FALSE)","v":{"$error":"#N/A"}},292,null,null,292,null,292]
["NEJustin Rohrwasser",367,"Justin Rohrwasser","NE",{"$f":"VLOOKUP(D368,'team abbr lookup'!A:B,2,FALSE)","v":"New England Patriots"},6,"K41",null,null,292,292]
["GBJordan Love",368,"Jordan Love","GB",{"$f":"VLOOKUP(D369,'team abbr lookup'!A:B,2,FALSE)","v":"Green Bay Packers"},5,"QB49",316,null,362,339]
["PITMason Rudolph",369,"Mason Rudolph","PIT",{"$f":"VLOOKUP(D370,'team abbr lookup'!A:B,2,FALSE)","v":"Pittsburgh Steelers"},8,"QB50",341,null,337,339]
["RB100Jamaal Charles",370,"Jamaal Charles","RB100",{"$f":"VLOOKUP(D371,'team abbr lookup'!A:B,2,FALSE)","v":{"$error":"#N/A"}},294,null,null,294,null,294]
["K42Brett Maher",371,"Brett Maher","K42",{"$f":"VLOOKUP(D372,'team abbr lookup'!A:B,2,FALSE)","v":{"$error":"#N/A"}},295,null,null,295,null,295]
["INDZach Pascal",372,"Zach Pascal","IND",{"$f":"VLOOKUP(D373,'team abbr lookup'!A:B,2,FALSE)","v":"Indianapolis Colts"},7,"WR102",null,null,295,295]
["DALAndy Dalton",373,"Andy Dalton","DAL",{"$f":"VLOOKUP(D374,'team abbr lookup'!A:B,2,FALSE)","v":"Dallas Cowboys"},10,"QB51",296,null,null,296]
["KCAnthony Sherman",374,"Anthony Sherman","KC",{"$f":"VLOOKUP(D375,'team abbr lookup'!A:B,2,FALSE)","v":"Kansas City Chiefs"},10,"RB101",297,null,null,297]
["WASPeyton Barber",375,"Peyton Barber","WAS",{"$f":"VLOOKUP(D376,'team abbr lookup'!A:B,2,FALSE)","v":"Washington Football Team"},8,"RB102",null,null,297,297]
["LVNelson Agholor",376,"Nelson Agholor","LV",{"$f":"VLOOKUP(D377,'team abbr lookup'!A:B,2,FALSE)","v":"Las Vegas Raiders"},6,"WR103",null,null,298,298]
["QB52Nick Fitzgerald",377,"Nick Fitzgerald","QB52",{"$f":"VLOOKUP(D378,'team abbr lookup'!A:B,2,FALSE)","v":{"$error":"#N/A"}},298,null,null,298,null,298]
["TE47Delanie Walker",378,"Delanie Walker","TE47",{"$f":"VLOOKUP(D379,'team abbr lookup'!A:B,2,FALSE)","v":{"$error":"#N/A"}},299,null,null,299,null,299]
["WR104Brandon Marshall",379,"Brandon Marshall","WR104",{"$f":"VLOOKUP(D380,'team abbr lookup'!A:B,2,FALSE)","v":{"$error":"#N/A"}},300,null,null,300,null,300]
["NYJLamical Perine",380,"Lamical Perine","NYJ",{"$f":"VLOOKUP(D381,'team abbr lookup'!A:B,2,FALSE)","v":"New York Jets"},11,"RB103",null,null,300,300]
["BUFJake Fromm",381,"Jake Fromm","BUF",{"$f":"VLOOKUP(D382,'team abbr lookup'!A:B,2,FALSE)","v":"Buffalo Bills"},11,"QB53",301,null,null,301]
["WR105Will Hastings",382,"Will Hastings","WR105",{"$f":"VLOOKUP(D383,'team abbr lookup'!A:B,2,FALSE)","v":{"$error":"#N/A"}},302,null,null,302,null,302]
["NOJosh Hill",383,"Josh Hill","NO",{"$f":"VLOOKUP(D384,'team abbr lookup'!A:B,2,FALSE)","v":"New Orleans Saints"},6,"TE48",304,null,null,304]
["NYJJoe Flacco",384,"Joe Flacco","NYJ",{"$f":"VLOOKUP(D385,'team abbr lookup'!A:B,2,FALSE)","v":"New York Jets"},11,"QB54",305,null,null,305]
["TE49C.J. Conrad",385,"C.J. Conrad","TE49",{"$f":"VLOOKUP(D386,'team abbr lookup'!A:B,2,FALSE)","v":{"$error":"#N/A"}},306,null,null,306,null,{"$f":"AVERAGE(H386:J386)","v":306}]
[{"$f":"_xlfn.CONCAT(D387,C387)","v":"BUFT.J. Yeldon"},386,"T.J. Yeldon","BUF",{"$f":"VLOOKUP(D387,'team abbr lookup'!A:B,2,FALSE)","v":"Buffalo Bills"},11,"RB104",336,null,357,346.5]
["CHICairo Santos",387,"Cairo Santos","CHI",{"$f":"VLOOKUP(D388,'team abbr lookup'!A:B,2,FALSE)","v":"Chicago Bears"},11,"K43",309,null,null,309]
["WR106Jordy Nelson",388,"Jordy Nelson","WR106",{"$f":"VLOOKUP(D389,'team abbr lookup'!A:B,2,FALSE)","v":{"$error":"#N/A"}},310,null,null,310,null,310]
["CHICordarrelle Patterson",389,"Cordarrelle Patterson","CHI",{"$f":"VLOOKUP(D390,'team abbr lookup'!A:B,2,FALSE)","v":"Chicago Bears"},11,"WR107",311,null,null,311]
["TENAdam Humphries",390,"Adam Humphries","TEN",{"$f":"VLOOKUP(D391,'team abbr lookup'!A:B,2,FALSE)","v":"Tennessee Titans"},7,"WR108",null,null,311,311]
["ATLRussell Gage",391,"Russell Gage","ATL",{"$f":"VLOOKUP(D392,'team abbr lookup'!A:B,2,FALSE)","v":"Atlanta Falcons"},10,"WR109",null,null,312,312]
["DENAlbert Okwuegbunam",392,"Albert Okwuegbunam","DEN",{"$f":"VLOOKUP(D393,'team abbr lookup'!A:B,2,FALSE)","v":"Denver Broncos"},8,"TE50",312,null,null,312]
["SEAPhillip Dorsett",393,"Phillip Dorsett","SEA",{"$f":"VLOOKUP(D394,'team abbr lookup'!A:B,2,FALSE)","v":"Seattle Seahawks"},6,"WR110",null,null,313,313]
["RB105Dalyn Dawkins",394,"Dalyn Dawkins","RB105",{"$f":"VLOOKUP(D395,'team abbr lookup'!A:B,2,FALSE)","v":{"$error":"#N/A"}},313,null,null,313,null,313]
["RB106Khalfani Muhammad",395,"Khalfani Muhammad","RB106",{"$f":"VLOOKUP(D396,'team abbr lookup'!A:B,2,FALSE)","v":{"$error":"#N/A"}},314,null,null,314,null,314]
["JACTerry Godwin",396,"Terry Godwin","JAC",{"$f":"VLOOKUP(D397,'team abbr lookup'!A:B,2,FALSE)","v":"Jacksonville Jaguars"},7,"WR111",315,null,null,315]
["MIAPatrick Laird",397,"Patrick Laird","MIA",{"$f":"VLOOKUP(D398,'team abbr lookup'!A:B,2,FALSE)","v":"Miami Dolphins"},11,"RB107",null,null,316,316]
["RB108LeGarrette Blount",398,"LeGarrette Blount","RB108",{"$f":"VLOOKUP(D399,'team abbr lookup'!A:B,2,FALSE)","v":{"$error":"#N/A"}},317,null,null,317,null,317]
["LARSam Sloman",399,"Sam Sloman","LAR",{"$f":"VLOOKUP(D400,'team abbr lookup'!A:B,2,FALSE)","v":"Los Angeles Rams"},9,"K44",null,null,317,317]
["DALDalton Schultz",400,"Dalton Schultz","DAL",{"$f":"VLOOKUP(D401,'team abbr lookup'!A:B,2,FALSE)","v":"Dallas Cowboys"},10,"TE51",318,null,null,318]
["WR112J.J. Jones",401,"J.J. Jones","WR112",{"$f":"VLOOKUP(D402,'team abbr lookup'!A:B,2,FALSE)","v":{"$error":"#N/A"}},319,null,null,319,null,319]
["K45Aldrick Rosas",402,"Aldrick Rosas","K45",{"$f":"VLOOKUP(D403,'team abbr lookup'!A:B,2,FALSE)","v":{"$error":"#N/A"}},371,null,null,352.5,null,352.5]
["DALBlake Bell",403,"Blake Bell","DAL",{"$f":"VLOOKUP(D404,'team abbr lookup'!A:B,2,FALSE)","v":"Dallas Cowboys"},10,"TE52",320,null,null,320]
["GBMarquez Valdes-Scantling",404,"Marquez Valdes-Scantling","GB",{"$f":"VLOOKUP(D405,'team abbr lookup'!A:B,2,FALSE)","v":"Green Bay Packers"},5,"WR113",null,null,320,320]
["WR114Quincy Adeboyejo",405,"Quincy Adeboyejo","WR114",{"$f":"VLOOKUP(D406,'team abbr lookup'!A:B,2,FALSE)","v":{"$error":"#N/A"}},321,null,null,321,null,321]
["NOLil'Jordan Humphrey",406,"Lil'Jordan Humphrey","NO",{"$f":"VLOOKUP(D407,'team abbr lookup'!A:B,2,FALSE)","v":"New Orleans Saints"},6,"WR115",322,null,null,322]
["NODeonte Harris",407,"Deonte Harris","NO",{"$f":"VLOOKUP(D408,'team abbr lookup'!A:B,2,FALSE)","v":"New Orleans Saints"},6,"WR116",329,null,379,354]
["K46Phil Dawson",408,"Phil Dawson","K46",{"$f":"VLOOKUP(D409,'team abbr lookup'!A:B,2,FALSE)","v":{"$error":"#N/A"}},324,null,null,324,null,324]
["KCDemarcus Robinson",409,"Demarcus Robinson","KC",{"$f":"VLOOKUP(D410,'team abbr lookup'!A:B,2,FALSE)","v":"Kansas City Chiefs"},10,"WR117",null,null,324,324]
["HOUDarren Fells",410,"Darren Fells","HOU",{"$f":"VLOOKUP(D411,'team abbr lookup'!A:B,2,FALSE)","v":"Houston Texans"},8,"TE53",null,null,325,325]
["KCRicky Seals-Jones",411,"Ricky Seals-Jones","KC",{"$f":"VLOOKUP(D412,'team abbr lookup'!A:B,2,FALSE)","v":"Kansas City Chiefs"},10,"TE54",325,null,null,325]
["KCByron Pringle",412,"Byron Pringle","KC",{"$f":"VLOOKUP(D413,'team abbr lookup'!A:B,2,FALSE)","v":"Kansas City Chiefs"},10,"WR118",326,null,null,326]
["MINOlabisi Johnson",413,"Olabisi Johnson","MIN",{"$f":"VLOOKUP(D414,'team abbr lookup'!A:B,2,FALSE)","v":"Minnesota Vikings"},7,"WR119",358,null,354,356]
["DALNoah Brown",414,"Noah Brown","DAL",{"$f":"VLOOKUP(D415,'team abbr lookup'!A:B,2,FALSE)","v":"Dallas Cowboys"},10,"WR120",327,null,null,327]
["PHIJ.J. Arcega-Whiteside",415,"J.J. Arcega-Whiteside","PHI",{"$f":"VLOOKUP(D416,'team abbr lookup'!A:B,2,FALSE)","v":"Philadelphia Eagles"},9,"WR121",null,null,328,328]
["TBDare Ogunbowale",416,"Dare Ogunbowale","TB",{"$f":"VLOOKUP(D417,'team abbr lookup'!A:B,2,FALSE)","v":"Tampa Bay Buccaneers"},13,"RB109",null,null,329,329]
["MINMike Boone",417,"Mike Boone","MIN",{"$f":"VLOOKUP(D418,'team abbr lookup'!A:B,2,FALSE)","v":"Minnesota Vikings"},7,"RB110",null,null,330,330]
["WR122Kelvin McKnight",418,"Kelvin McKnight","WR122",{"$f":"VLOOKUP(D419,'team abbr lookup'!A:B,2,FALSE)","v":{"$error":"#N/A"}},330,null,null,330,null,330]
["LVMarcus Mariota",419,"Marcus Mariota","LV",{"$f":"VLOOKUP(D420,'team abbr lookup'!A:B,2,FALSE)","v":"Las Vegas Raiders"},6,"QB55",null,null,331,331]
["SEADavid Moore",420,"David Moore","SEA",{"$f":"VLOOKUP(D421,'team abbr lookup'!A:B,2,FALSE)","v":"Seattle Seahawks"},6,"WR123",331,null,null,331]
["CLEHarrison Bryant",421,"Harrison Bryant","CLE",{"$f":"VLOOKUP(D422,'team abbr lookup'!A:B,2,FALSE)","v":"Cleveland Browns"},9,"TE55",332,null,null,332]
["MINTajae Sharpe",422,"Tajae Sharpe","MIN",{"$f":"VLOOKUP(D423,'team abbr lookup'!A:B,2,FALSE)","v":"Minnesota Vikings"},7,"WR124",466,null,332,399]
["SFJauan Jennings",423,"Jauan Jennings","SF",{"$f":"VLOOKUP(D424,'team abbr lookup'!A:B,2,FALSE)","v":"San Francisco 49ers"},11,"WR125",333,null,null,333]
["PITRay-Ray McCloud",424,"Ray-Ray McCloud","PIT",{"$f":"VLOOKUP(D425,'team abbr lookup'!A:B,2,FALSE)","v":"Pittsburgh Steelers"},8,"WR126",334,null,null,334]
["NEGunner Olszewski",425,"Gunner Olszewski","NE",{"$f":"VLOOKUP(D426,'team abbr lookup'!A:B,2,FALSE)","v":"New England Patriots"},6,"WR127",335,null,null,335]
["QB56Brock Osweiler",426,"Brock Osweiler","QB56",{"$f":"VLOOKUP(D427,'team abbr lookup'!A:B,2,FALSE)","v":{"$error":"#N/A"}},337,null,null,337,null,337]
["WASLogan Thomas",427,"Logan Thomas","WAS",{"$f":"VLOOKUP(D428,'team abbr lookup'!A:B,2,FALSE)","v":"Washington Football Team"},8,"TE56",null,null,338,338]
["MIAMack Hollins",428,"Mack Hollins","MIA",{"$f":"VLOOKUP(D429,'team abbr lookup'!A:B,2,FALSE)","v":"Miami Dolphins"},11,"WR128",338,null,null,338]
["GBMarcedes Lewis",429,"Marcedes Lewis","GB",{"$f":"VLOOKUP(D430,'team abbr lookup'!A:B,2,FALSE)","v":"Green Bay Packers"},5,"TE57",339,null,null,339]
["QB57Blake Bortles",430,"Blake Bortles","QB57",{"$f":"VLOOKUP(D431,'team abbr lookup'!A:B,2,FALSE)","v":{"$error":"#N/A"}},340,null,null,340,null,340]
["NEJakobi Meyers",431,"Jakobi Meyers","NE",{"$f":"VLOOKUP(D432,'team abbr lookup'!A:B,2,FALSE)","v":"New England Patriots"},6,"WR129",null,null,340,340]
["NYGKaden Smith",432,"Kaden Smith","NYG",{"$f":"VLOOKUP(D433,'team abbr lookup'!A:B,2,FALSE)","v":"New York Giants"},11,"TE58",489,null,341,415]
["DENTim Patrick",433,"Tim Patrick","DEN",{"$f":"VLOOKUP(D434,'team abbr lookup'!A:B,2,FALSE)","v":"Denver Broncos"},8,"WR130",342,null,null,342]
["CARReggie Bonnafon",434,"Reggie Bonnafon","CAR",{"$f":"VLOOKUP(D435,'team abbr lookup'!A:B,2,FALSE)","v":"Carolina Panthers"},13,"RB111",null,null,343,343]
["DETJesse James",435,"Jesse James","DET",{"$f":"VLOOKUP(D436,'team abbr lookup'!A:B,2,FALSE)","v":"Detroit Lions"},5,"TE59",344,null,null,344]
["JACJoshua Dobbs",436,"Joshua Dobbs","JAC",{"$f":"VLOOKUP(D437,'team abbr lookup'!A:B,2,FALSE)","v":"Jacksonville Jaguars"},7,"QB58",345,null,null,345]
["WASAntonio Gandy-Golden",437,"Antonio Gandy-Golden","WAS",{"$f":"VLOOKUP(D438,'team abbr lookup'!A:B,2,FALSE)","v":"Washington Football Team"},8,"WR131",null,null,345,345]
["NYJJosh Adams",438,"Josh Adams","NYJ",{"$f":"VLOOKUP(D439,'team abbr lookup'!A:B,2,FALSE)","v":"New York Jets"},11,"RB112",346,null,null,346]
["DALCedrick Wilson",439,"Cedrick Wilson","DAL",{"$f":"VLOOKUP(D440,'team abbr lookup'!A:B,2,FALSE)","v":"Dallas Cowboys"},10,"WR132",347,null,null,347]
["MIAKirk Merritt",440,"Kirk Merritt","MIA",{"$f":"VLOOKUP(D441,'team abbr lookup'!A:B,2,FALSE)","v":"Miami Dolphins"},11,"WR133",null,null,347,347]
["PHIGreg Ward",441,"Greg Ward","PHI",{"$f":"VLOOKUP(D442,'team abbr lookup'!A:B,2,FALSE)","v":"Philadelphia Eagles"},9,"WR134",null,null,348,348]
["CLEDonovan Peoples-Jones",442,"Donovan Peoples-Jones","CLE",{"$f":"VLOOKUP(D443,'team abbr lookup'!A:B,2,FALSE)","v":"Cleveland Browns"},9,"WR135",348,null,null,348]
["CHIRyan Nall",443,"Ryan Nall","CHI",{"$f":"VLOOKUP(D444,'team abbr lookup'!A:B,2,FALSE)","v":"Chicago Bears"},11,"RB113",349,null,null,349]
["QB59Matt Cassel",444,"Matt Cassel","QB59",{"$f":"VLOOKUP(D445,'team abbr lookup'!A:B,2,FALSE)","v":{"$error":"#N/A"}},350,null,null,350,null,350]
["SFJaMycal Hasty",445,"JaMycal Hasty","SF",{"$f":"VLOOKUP(D446,'team abbr lookup'!A:B,2,FALSE)","v":"San Francisco 49ers"},11,"RB114",null,null,350,350]
["MIAMiami Dolphins",446,"Miami Dolphins","MIA",{"$f":"VLOOKUP(D447,'team abbr lookup'!A:B,2,FALSE)","v":"Miami Dolphins"},11,"DST32",null,null,351,351]
["CHIRiley Ridley",447,"Riley Ridley","CHI",{"$f":"VLOOKUP(D448,'team abbr lookup'!A:B,2,FALSE)","v":"Chicago Bears"},11,"WR136",351,null,null,351]
["TBJustin Watson",448,"Justin Watson","TB",{"$f":"VLOOKUP(D449,'team abbr lookup'!A:B,2,FALSE)","v":"Tampa Bay Buccaneers"},13,"WR137",352,null,null,352]
["CHIArtavis Pierce",449,"Artavis Pierce","CHI",{"$f":"VLOOKUP(D450,'team abbr lookup'!A:B,2,FALSE)","v":"Chicago Bears"},11,"RB115",null,null,352,{"$f":"AVERAGE(H450:J450)","v":352}]
[{"$f":"_xlfn.CONCAT(D451,C451)","v":"BUFGabriel Davis"},450,"Gabriel Davis","BUF",{"$f":"VLOOKUP(D451,'team abbr lookup'!A:B,2,FALSE)","v":"Buffalo Bills"},11,"WR138",353,null,null,353]
["RB116Alex Barnes",451,"Alex Barnes","RB116",{"$f":"VLOOKUP(D452,'team abbr lookup'!A:B,2,FALSE)","v":{"$error":"#N/A"}},354,null,null,354,null,354]
["WASJeremy Sprinkle",452,"Jeremy Sprinkle","WAS",{"$f":"VLOOKUP(D453,'team abbr lookup'!A:B,2,FALSE)","v":"Washington Football Team"},8,"TE60",355,null,null,355]
["CINDrew Sample",453,"Drew Sample","CIN",{"$f":"VLOOKUP(D454,'team abbr lookup'!A:B,2,FALSE)","v":"Cincinnati Bengals"},9,"TE61",null,null,355,355]
["MIAChandler Cox",454,"Chandler Cox","MIA",{"$f":"VLOOKUP(D455,'team abbr lookup'!A:B,2,FALSE)","v":"Miami Dolphins"},11,"RB117",356,null,null,356]
["TBScott Miller",455,"Scott Miller","TB",{"$f":"VLOOKUP(D456,'team abbr lookup'!A:B,2,FALSE)","v":"Tampa Bay Buccaneers"},13,"WR139",null,null,356,356]
["PITRyan Switzer",456,"Ryan Switzer","PIT",{"$f":"VLOOKUP(D457,'team abbr lookup'!A:B,2,FALSE)","v":"Pittsburgh Steelers"},8,"WR140",357,null,null,357]
["GBJosiah Deguara",457,"Josiah Deguara","GB",{"$f":"VLOOKUP(D458,'team abbr lookup'!A:B,2,FALSE)","v":"Green Bay Packers"},5,"TE62",437,null,358,397.5]
["KCChad Henne",458,"Chad Henne","KC",{"$f":"VLOOKUP(D459,'team abbr lookup'!A:B,2,FALSE)","v":"Kansas City Chiefs"},10,"QB60",359,null,null,359]
["WASJ.D. McKissic",459,"J.D. McKissic","WAS",{"$f":"VLOOKUP(D460,'team abbr lookup'!A:B,2,FALSE)","v":"Washington Football Team"},8,"RB118",null,null,359,359]
["K47Elliott Fry",460,"Elliott Fry","K47",{"$f":"VLOOKUP(D461,'team abbr lookup'!A:B,2,FALSE)","v":{"$error":"#N/A"}},null,null,null,360,null,360]
["DETBo Scarbrough",461,"Bo Scarbrough","DET",{"$f":"VLOOKUP(D462,'team abbr lookup'!A:B,2,FALSE)","v":"Detroit Lions"},5,"RB119",null,null,361,361]
["CLEDontrell Hilliard",462,"Dontrell Hilliard","CLE",{"$f":"VLOOKUP(D463,'team abbr lookup'!A:B,2,FALSE)","v":"Cleveland Browns"},9,"RB120",361,null,null,361]
["LARBrycen Hopkins",463,"Brycen Hopkins","LAR",{"$f":"VLOOKUP(D464,'team abbr lookup'!A:B,2,FALSE)","v":"Los Angeles Rams"},9,"TE63",362,null,null,362]
["TBRyan Griffin",464,"Ryan Griffin","TB",{"$f":"VLOOKUP(D465,'team abbr lookup'!A:B,2,FALSE)","v":"Tampa Bay Buccaneers"},13,"QB61",363,null,null,363]
["WASKyle Allen",465,"Kyle Allen","WAS",{"$f":"VLOOKUP(D466,'team abbr lookup'!A:B,2,FALSE)","v":"Washington Football Team"},8,"QB62",null,null,363,363]
["NYGColt McCoy",466,"Colt McCoy","NYG",{"$f":"VLOOKUP(D467,'team abbr lookup'!A:B,2,FALSE)","v":"New York Giants"},11,"QB63",364,null,null,364]
["SFDante Pettis",467,"Dante Pettis","SF",{"$f":"VLOOKUP(D468,'team abbr lookup'!A:B,2,FALSE)","v":"San Francisco 49ers"},11,"WR141",null,null,364,364]
["CHITed Ginn",468,"Ted Ginn","CHI",{"$f":"VLOOKUP(D469,'team abbr lookup'!A:B,2,FALSE)","v":"Chicago Bears"},11,"WR142",null,null,365,365]
["NERyan Izzo",469,"Ryan Izzo","NE",{"$f":"VLOOKUP(D470,'team abbr lookup'!A:B,2,FALSE)","v":"New England Patriots"},6,"TE64",365,null,null,365]
["RB121C.J. Prosise",470,"C.J. Prosise","RB121",{"$f":"VLOOKUP(D471,'team abbr lookup'!A:B,2,FALSE)","v":{"$error":"#N/A"}},366,null,null,366,null,366]
["ATLJaeden Graham",471,"Jaeden Graham","ATL",{"$f":"VLOOKUP(D472,'team abbr lookup'!A:B,2,FALSE)","v":"Atlanta Falcons"},10,"TE65",367,null,null,367]
["WR143Devin Smith",472,"Devin Smith","WR143",{"$f":"VLOOKUP(D473,'team abbr lookup'!A:B,2,FALSE)","v":{"$error":"#N/A"}},368,null,null,368,null,368]
["ARIHakeem Butler",473,"Hakeem Butler","ARI",{"$f":"VLOOKUP(D474,'team abbr lookup'!A:B,2,FALSE)","v":"Arizona Cardinals"},8,"WR144",478,null,368,423]
["NEMatt Slater",474,"Matt Slater","NE",{"$f":"VLOOKUP(D475,'team abbr lookup'!A:B,2,FALSE)","v":"New England Patriots"},6,"WR145",369,null,null,369]
["SEADeeJay Dallas",475,"DeeJay Dallas","SEA",{"$f":"VLOOKUP(D476,'team abbr lookup'!A:B,2,FALSE)","v":"Seattle Seahawks"},6,"RB122",null,null,369,369]
["BALTrace McSorley",476,"Trace McSorley","BAL",{"$f":"VLOOKUP(D477,'team abbr lookup'!A:B,2,FALSE)","v":"Baltimore Ravens"},8,"QB64",370,null,null,370]
["QB65Josh McCown",477,"Josh McCown","QB65",{"$f":"VLOOKUP(D478,'team abbr lookup'!A:B,2,FALSE)","v":{"$error":"#N/A"}},372,null,null,372,null,372]
["NOAdam Trautman",478,"Adam Trautman","NO",{"$f":"VLOOKUP(D479,'team abbr lookup'!A:B,2,FALSE)","v":"New Orleans Saints"},6,"TE66",401,null,372,386.5]
["LVDevontae Booker",479,"Devontae Booker","LV",{"$f":"VLOOKUP(D480,'team abbr lookup'!A:B,2,FALSE)","v":"Las Vegas Raiders"},6,"RB123",373,null,null,373]
["LARJohn Kelly",480,"John Kelly","LAR",{"$f":"VLOOKUP(D481,'team abbr lookup'!A:B,2,FALSE)","v":"Los Angeles Rams"},9,"RB124",null,null,373,373]
["CLEAndy Janovich",481,"Andy Janovich","CLE",{"$f":"VLOOKUP(D482,'team abbr lookup'!A:B,2,FALSE)","v":"Cleveland Browns"},9,"RB125",374,null,null,374]
["SFTrent Taylor",482,"Trent Taylor","SF",{"$f":"VLOOKUP(D483,'team abbr lookup'!A:B,2,FALSE)","v":"San Francisco 49ers"},11,"WR146",null,null,374,374]
["TBBlaine Gabbert",483,"Blaine Gabbert","TB",{"$f":"VLOOKUP(D484,'team abbr lookup'!A:B,2,FALSE)","v":"Tampa Bay Buccaneers"},13,"QB66",375,null,null,375]
["DETQuintez Cephus",484,"Quintez Cephus","DET",{"$f":"VLOOKUP(D485,'team abbr lookup'!A:B,2,FALSE)","v":"Detroit Lions"},5,"WR147",null,null,375,375]
["NOTy Montgomery",485,"Ty Montgomery","NO",{"$f":"VLOOKUP(D486,'team abbr lookup'!A:B,2,FALSE)","v":"New Orleans Saints"},6,"RB126",null,null,376,376]
["DALVentell Bryant",486,"Ventell Bryant","DAL",{"$f":"VLOOKUP(D487,'team abbr lookup'!A:B,2,FALSE)","v":"Dallas Cowboys"},10,"WR148",376,null,null,376]
["TE67Ed Dickson",487,"Ed Dickson","TE67",{"$f":"VLOOKUP(D488,'team abbr lookup'!A:B,2,FALSE)","v":{"$error":"#N/A"}},377,null,null,377,null,377]
["PHICorey Clement",488,"Corey Clement","PHI",{"$f":"VLOOKUP(D489,'team abbr lookup'!A:B,2,FALSE)","v":"Philadelphia Eagles"},9,"RB127",null,null,378,378]
["PHIJohn Hightower",489,"John Hightower","PHI",{"$f":"VLOOKUP(D490,'team abbr lookup'!A:B,2,FALSE)","v":"Philadelphia Eagles"},9,"WR149",378,null,null,378]
["K48Matt McCrane",490,"Matt McCrane","K48",{"$f":"VLOOKUP(D491,'team abbr lookup'!A:B,2,FALSE)","v":{"$error":"#N/A"}},379,null,null,379,null,379]
["SEALuke Willson",491,"Luke Willson","SEA",{"$f":"VLOOKUP(D492,'team abbr lookup'!A:B,2,FALSE)","v":"Seattle Seahawks"},6,"TE68",380,null,null,380]
["K49Chandler Catanzaro",492,"Chandler Catanzaro","K49",{"$f":"VLOOKUP(D493,'team abbr lookup'!A:B,2,FALSE)","v":{"$error":"#N/A"}},381,null,null,381,null,381]
["K50Giorgio Tavecchio",493,"Giorgio Tavecchio","K50",{"$f":"VLOOKUP(D494,'team abbr lookup'!A:B,2,FALSE)","v":{"$error":"#N/A"}},382,null,null,382,null,382]
["RB128Jacquizz Rodgers",494,"Jacquizz Rodgers","RB128",{"$f":"VLOOKUP(D495,'team abbr lookup'!A:B,2,FALSE)","v":{"$error":"#N/A"}},383,null,null,383,null,383]
["RB129Jay Ajayi",495,"Jay Ajayi","RB129",{"$f":"VLOOKUP(D496,'team abbr lookup'!A:B,2,FALSE)","v":{"$error":"#N/A"}},384,null,null,384,null,384]
["CARTemarrick Hemingway",496,"Temarrick Hemingway","CAR",{"$f":"VLOOKUP(D497,'team abbr lookup'!A:B,2,FALSE)","v":"Carolina Panthers"},13,"TE69",385,null,null,385]
["BUFPatrick DiMarco",497,"Patrick DiMarco","BUF",{"$f":"VLOOKUP(D498,'team abbr lookup'!A:B,2,FALSE)","v":"Buffalo Bills"},11,"RB130",386,null,null,386]
["CHIDemetrius Harris",498,"Demetrius Harris","CHI",{"$f":"VLOOKUP(D499,'team abbr lookup'!A:B,2,FALSE)","v":"Chicago Bears"},11,"TE70",387,null,null,387]
["PHIDeontay Burnett",499,"Deontay Burnett","PHI",{"$f":"VLOOKUP(D500,'team abbr lookup'!A:B,2,FALSE)","v":"Philadelphia Eagles"},9,"WR150",388,null,null,388]
["PITDevlin Hodges",500,"Devlin Hodges","PIT",{"$f":"VLOOKUP(D501,'team abbr lookup'!A:B,2,FALSE)","v":"Pittsburgh Steelers"},8,"QB67",389,null,null,389]
["LACK.J. Hill",501,"K.J. Hill","LAC",{"$f":"VLOOKUP(D502,'team abbr lookup'!A:B,2,FALSE)","v":"Los Angeles Chargers"},10,"WR151",390,null,null,390]
["DT1Dalton Keene",502,"Dalton Keene","DT1",{"$f":"VLOOKUP(D503,'team abbr lookup'!A:B,2,FALSE)","v":{"$error":"#N/A"}},391,null,null,391,null,391]
["RB131Doug Martin",503,"Doug Martin","RB131",{"$f":"VLOOKUP(D504,'team abbr lookup'!A:B,2,FALSE)","v":{"$error":"#N/A"}},392,null,null,392,null,392]
["PHIQuez Watkins",504,"Quez Watkins","PHI",{"$f":"VLOOKUP(D505,'team abbr lookup'!A:B,2,FALSE)","v":"Philadelphia Eagles"},9,"WR152",393,null,null,393]
["SEAGeno Smith",505,"Geno Smith","SEA",{"$f":"VLOOKUP(D506,'team abbr lookup'!A:B,2,FALSE)","v":"Seattle Seahawks"},6,"QB68",394,null,null,394]
["RB132Isaiah Crowell",506,"Isaiah Crowell","RB132",{"$f":"VLOOKUP(D507,'team abbr lookup'!A:B,2,FALSE)","v":{"$error":"#N/A"}},395,null,null,395,null,395]
["DALDarius Anderson",507,"Darius Anderson","DAL",{"$f":"VLOOKUP(D508,'team abbr lookup'!A:B,2,FALSE)","v":"Dallas Cowboys"},10,"RB133",396,null,null,396]
["MIAMalcolm Perry",508,"Malcolm Perry","MIA",{"$f":"VLOOKUP(D509,'team abbr lookup'!A:B,2,FALSE)","v":"Miami Dolphins"},11,"WR153",397,null,null,397]
["NEBrian Hoyer",509,"Brian Hoyer","NE",{"$f":"VLOOKUP(D510,'team abbr lookup'!A:B,2,FALSE)","v":"New England Patriots"},6,"QB69",398,null,null,398]
["RB134Robert Kelley",510,"Robert Kelley","RB134",{"$f":"VLOOKUP(D511,'team abbr lookup'!A:B,2,FALSE)","v":{"$error":"#N/A"}},399,null,null,399,null,399]
["LVZay Jones",511,"Zay Jones","LV",{"$f":"VLOOKUP(D512,'team abbr lookup'!A:B,2,FALSE)","v":"Las Vegas Raiders"},6,"WR154",400,null,null,400]
["DT2Anthony Johnson",512,"Anthony Johnson","DT2",{"$f":"VLOOKUP(D513,'team abbr lookup'!A:B,2,FALSE)","v":{"$error":"#N/A"}},402,null,null,402,null,402]
["CARPhillip Walker",513,"Phillip Walker","CAR",{"$f":"VLOOKUP(D514,'team abbr lookup'!A:B,2,FALSE)","v":"Carolina Panthers"},13,"QB70",403,null,null,{"$f":"AVERAGE(H514:J514)","v":403}]
[{"$f":"_xlfn.CONCAT(D515,C515)","v":"NYGCooper Rush"},514,"Cooper Rush","NYG",{"$f":"VLOOKUP(D515,'team abbr lookup'!A:B,2,FALSE)","v":"New York Giants"},11,"QB71",404,null,null,404]
["NYJRyan Griffin",515,"Ryan Griffin","NYJ",{"$f":"VLOOKUP(D516,'team abbr lookup'!A:B,2,FALSE)","v":"New York Jets"},11,"TE71",405,null,null,405]
["K51Caleb Sturgis",516,"Caleb Sturgis","K51",{"$f":"VLOOKUP(D517,'team abbr lookup'!A:B,2,FALSE)","v":{"$error":"#N/A"}},406,null,null,406,null,406]
["SFC.J. Beathard",517,"C.J. Beathard","SF",{"$f":"VLOOKUP(D518,'team abbr lookup'!A:B,2,FALSE)","v":"San Francisco 49ers"},11,"QB72",407,null,null,407]
["DENDaeSean Hamilton",518,"DaeSean Hamilton","DEN",{"$f":"VLOOKUP(D519,'team abbr lookup'!A:B,2,FALSE)","v":"Denver Broncos"},8,"WR155",408,null,null,408]
["PITWendell Smallwood",519,"Wendell Smallwood","PIT",{"$f":"VLOOKUP(D520,'team abbr lookup'!A:B,2,FALSE)","v":"Pittsburgh Steelers"},8,"RB135",409,null,null,409]
["CLERashard Higgins",520,"Rashard Higgins","CLE",{"$f":"VLOOKUP(D521,'team abbr lookup'!A:B,2,FALSE)","v":"Cleveland Browns"},9,"WR156",411,null,null,411]
["BUFIsaiah McKenzie",521,"Isaiah McKenzie","BUF",{"$f":"VLOOKUP(D522,'team abbr lookup'!A:B,2,FALSE)","v":"Buffalo Bills"},11,"WR157",412,null,null,412]
["BUFTaiwan Jones",522,"Taiwan Jones","BUF",{"$f":"VLOOKUP(D523,'team abbr lookup'!A:B,2,FALSE)","v":"Buffalo Bills"},11,"RB136",413,null,null,413]
["KCMatt Moore",523,"Matt Moore","KC",{"$f":"VLOOKUP(D524,'team abbr lookup'!A:B,2,FALSE)","v":"Kansas City Chiefs"},10,"QB73",414,null,null,414]
["WR158Chad Williams",524,"Chad Williams","WR158",{"$f":"VLOOKUP(D525,'team abbr lookup'!A:B,2,FALSE)","v":{"$error":"#N/A"}},415,null,null,415,null,415]
["WR159Michael Crabtree",525,"Michael Crabtree","WR159",{"$f":"VLOOKUP(D526,'team abbr lookup'!A:B,2,FALSE)","v":{"$error":"#N/A"}},416,null,null,416,null,416]
["BUFTyler Kroft",526,"Tyler Kroft","BUF",{"$f":"VLOOKUP(D527,'team abbr lookup'!A:B,2,FALSE)","v":"Buffalo Bills"},11,"TE72",417,null,null,417]
["NYGElijhaa Penny",527,"Elijhaa Penny","NYG",{"$f":"VLOOKUP(D528,'team abbr lookup'!A:B,2,FALSE)","v":"New York Giants"},11,"RB137",418,null,null,418]
["NOMichael Burton",528,"Michael Burton","NO",{"$f":"VLOOKUP(D529,'team abbr lookup'!A:B,2,FALSE)","v":"New Orleans Saints"},6,"RB138",419,null,null,419]
["NYGGarrett Dickerson",529,"Garrett Dickerson","NYG",{"$f":"VLOOKUP(D530,'team abbr lookup'!A:B,2,FALSE)","v":"New York Giants"},11,"TE73",420,null,null,420]
["QB74Josh Johnson",530,"Josh Johnson","QB74",{"$f":"VLOOKUP(D531,'team abbr lookup'!A:B,2,FALSE)","v":{"$error":"#N/A"}},421,null,null,421,null,421]
["LACEaston Stick",531,"Easton Stick","LAC",{"$f":"VLOOKUP(D532,'team abbr lookup'!A:B,2,FALSE)","v":"Los Angeles Chargers"},10,"QB75",423,null,null,423]
["RB139Roosevelt Nix",532,"Roosevelt Nix","RB139",{"$f":"VLOOKUP(D533,'team abbr lookup'!A:B,2,FALSE)","v":{"$error":"#N/A"}},424,null,null,424,null,424]
["MINAmeer Abdullah",533,"Ameer Abdullah","MIN",{"$f":"VLOOKUP(D534,'team abbr lookup'!A:B,2,FALSE)","v":"Minnesota Vikings"},7,"RB140",425,null,null,425]
["QB76DeShone Kizer",534,"DeShone Kizer","QB76",{"$f":"VLOOKUP(D535,'team abbr lookup'!A:B,2,FALSE)","v":{"$error":"#N/A"}},426,null,null,426,null,426]
["RB141Ricky Ortiz",535,"Ricky Ortiz","RB141",{"$f":"VLOOKUP(D536,'team abbr lookup'!A:B,2,FALSE)","v":{"$error":"#N/A"}},427,null,null,427,null,427]
["MINTyler Conklin",536,"Tyler Conklin","MIN",{"$f":"VLOOKUP(D537,'team abbr lookup'!A:B,2,FALSE)","v":"Minnesota Vikings"},7,"TE74",428,null,null,428]
["MIADurham Smythe",537,"Durham Smythe","MIA",{"$f":"VLOOKUP(D538,'team abbr lookup'!A:B,2,FALSE)","v":"Miami Dolphins"},11,"TE75",429,null,null,429]
["PITPaxton Lynch",538,"Paxton Lynch","PIT",{"$f":"VLOOKUP(D539,'team abbr lookup'!A:B,2,FALSE)","v":"Pittsburgh Steelers"},8,"QB77",430,null,null,430]
["CHIDarnell Mooney",539,"Darnell Mooney","CHI",{"$f":"VLOOKUP(D540,'team abbr lookup'!A:B,2,FALSE)","v":"Chicago Bears"},11,"WR160",431,null,null,431]
["ATLMatt Schaub",540,"Matt Schaub","ATL",{"$f":"VLOOKUP(D541,'team abbr lookup'!A:B,2,FALSE)","v":"Atlanta Falcons"},10,"QB78",432,null,null,432]
["WR161Brandon LaFell",541,"Brandon LaFell","WR161",{"$f":"VLOOKUP(D542,'team abbr lookup'!A:B,2,FALSE)","v":{"$error":"#N/A"}},433,null,null,433,null,433]
["QB79Brandon Weeden",542,"Brandon Weeden","QB79",{"$f":"VLOOKUP(D543,'team abbr lookup'!A:B,2,FALSE)","v":{"$error":"#N/A"}},434,null,null,434,null,434]
["DETDavid Blough",543,"David Blough","DET",{"$f":"VLOOKUP(D544,'team abbr lookup'!A:B,2,FALSE)","v":"Detroit Lions"},5,"QB80",435,null,null,435]
["DENNick Vannett",544,"Nick Vannett","DEN",{"$f":"VLOOKUP(D545,'team abbr lookup'!A:B,2,FALSE)","v":"Denver Broncos"},8,"TE76",436,null,null,436]
["PITZach Gentry",545,"Zach Gentry","PIT",{"$f":"VLOOKUP(D546,'team abbr lookup'!A:B,2,FALSE)","v":"Pittsburgh Steelers"},8,"TE77",438,null,null,438]
["SEATravis Homer",546,"Travis Homer","SEA",{"$f":"VLOOKUP(D547,'team abbr lookup'!A:B,2,FALSE)","v":"Seattle Seahawks"},6,"RB142",439,null,null,439]
["CARPharoh Cooper",547,"Pharoh Cooper","CAR",{"$f":"VLOOKUP(D548,'team abbr lookup'!A:B,2,FALSE)","v":"Carolina Panthers"},13,"WR162",440,null,null,440]
["LVTheo Riddick",548,"Theo Riddick","LV",{"$f":"VLOOKUP(D549,'team abbr lookup'!A:B,2,FALSE)","v":"Las Vegas Raiders"},6,"RB143",441,null,null,441]
["WR163Aldrick Robinson",549,"Aldrick Robinson","WR163",{"$f":"VLOOKUP(D550,'team abbr lookup'!A:B,2,FALSE)","v":{"$error":"#N/A"}},442,null,null,442,null,442]
["WASRichard Rodgers",550,"Richard Rodgers","WAS",{"$f":"VLOOKUP(D551,'team abbr lookup'!A:B,2,FALSE)","v":"Washington Football Team"},8,"TE78",443,null,null,443]
["GBTim Boyle",551,"Tim Boyle","GB",{"$f":"VLOOKUP(D552,'team abbr lookup'!A:B,2,FALSE)","v":"Green Bay Packers"},5,"QB81",444,null,null,444]
["DALBen DiNucci",552,"Ben DiNucci","DAL",{"$f":"VLOOKUP(D553,'team abbr lookup'!A:B,2,FALSE)","v":"Dallas Cowboys"},10,"QB82",445,null,null,445]
["LVMarcell Ateman",553,"Marcell Ateman","LV",{"$f":"VLOOKUP(D554,'team abbr lookup'!A:B,2,FALSE)","v":"Las Vegas Raiders"},6,"WR164",446,null,null,446]
["GBTyler Ervin",554,"Tyler Ervin","GB",{"$f":"VLOOKUP(D555,'team abbr lookup'!A:B,2,FALSE)","v":"Green Bay Packers"},5,"RB144",447,null,null,447]
["MINChad Beebe",555,"Chad Beebe","MIN",{"$f":"VLOOKUP(D556,'team abbr lookup'!A:B,2,FALSE)","v":"Minnesota Vikings"},7,"WR165",448,null,null,448]
["MINSean Mannion",556,"Sean Mannion","MIN",{"$f":"VLOOKUP(D557,'team abbr lookup'!A:B,2,FALSE)","v":"Minnesota Vikings"},7,"QB83",449,null,null,449]
["WR166Damion Willis",557,"Damion Willis","WR166",{"$f":"VLOOKUP(D558,'team abbr lookup'!A:B,2,FALSE)","v":{"$error":"#N/A"}},450,null,null,450,null,450]
["HOUDeAndre Carter",558,"DeAndre Carter","HOU",{"$f":"VLOOKUP(D559,'team abbr lookup'!A:B,2,FALSE)","v":"Houston Texans"},8,"WR167",451,null,null,451]
["PHIElijah Holyfield",559,"Elijah Holyfield","PHI",{"$f":"VLOOKUP(D560,'team abbr lookup'!A:B,2,FALSE)","v":"Philadelphia Eagles"},9,"RB145",452,null,null,452]
["TENKhari Blasingame",560,"Khari Blasingame","TEN",{"$f":"VLOOKUP(D561,'team abbr lookup'!A:B,2,FALSE)","v":"Tennessee Titans"},7,"RB146",453,null,null,453]
["RB147Matthew Dayes",561,"Matthew Dayes","RB147",{"$f":"VLOOKUP(D562,'team abbr lookup'!A:B,2,FALSE)","v":{"$error":"#N/A"}},454,null,null,454,null,454]
["BALDeAndrew White",562,"DeAndrew White","BAL",{"$f":"VLOOKUP(D563,'team abbr lookup'!A:B,2,FALSE)","v":"Baltimore Ravens"},8,"WR168",455,null,null,455]
["TENTrevor Siemian",563,"Trevor Siemian","TEN",{"$f":"VLOOKUP(D564,'team abbr lookup'!A:B,2,FALSE)","v":"Tennessee Titans"},7,"QB84",456,null,null,456]
["CLEKhadarel Hodge",564,"Khadarel Hodge","CLE",{"$f":"VLOOKUP(D565,'team abbr lookup'!A:B,2,FALSE)","v":"Cleveland Browns"},9,"WR169",458,null,null,458]
["NYJChris Hogan",565,"Chris Hogan","NYJ",{"$f":"VLOOKUP(D566,'team abbr lookup'!A:B,2,FALSE)","v":"New York Jets"},11,"WR170",459,null,null,459]
["MIAJosh Rosen",566,"Josh Rosen","MIA",{"$f":"VLOOKUP(D567,'team abbr lookup'!A:B,2,FALSE)","v":"Miami Dolphins"},11,"QB85",460,null,null,460]
["KCGehrig Dieter",567,"Gehrig Dieter","KC",{"$f":"VLOOKUP(D568,'team abbr lookup'!A:B,2,FALSE)","v":"Kansas City Chiefs"},10,"WR171",461,null,null,461]
["RB148Zach Line",568,"Zach Line","RB148",{"$f":"VLOOKUP(D569,'team abbr lookup'!A:B,2,FALSE)","v":{"$error":"#N/A"}},463,null,null,463,null,463]
["MIAGary Jennings Jr.",569,"Gary Jennings Jr.","MIA",{"$f":"VLOOKUP(D570,'team abbr lookup'!A:B,2,FALSE)","v":"Miami Dolphins"},11,"WR172",464,null,null,464]
["WR173Jaydon Mickens",570,"Jaydon Mickens","WR173",{"$f":"VLOOKUP(D571,'team abbr lookup'!A:B,2,FALSE)","v":{"$error":"#N/A"}},465,null,null,465,null,465]
["RB149Alfred Morris",571,"Alfred Morris","RB149",{"$f":"VLOOKUP(D572,'team abbr lookup'!A:B,2,FALSE)","v":{"$error":"#N/A"}},467,null,null,467,null,467]
["RB150Tommy Bohanon",572,"Tommy Bohanon","RB150",{"$f":"VLOOKUP(D573,'team abbr lookup'!A:B,2,FALSE)","v":{"$error":"#N/A"}},468,null,null,468,null,468]
["SEANick Bellore",573,"Nick Bellore","SEA",{"$f":"VLOOKUP(D574,'team abbr lookup'!A:B,2,FALSE)","v":"Seattle Seahawks"},6,"LB1",469,null,null,469]
["MINCJ Ham",574,"CJ Ham","MIN",{"$f":"VLOOKUP(D575,'team abbr lookup'!A:B,2,FALSE)","v":"Minnesota Vikings"},7,"RB151",470,null,null,470]
["MINNate Stanley",575,"Nate Stanley","MIN",{"$f":"VLOOKUP(D576,'team abbr lookup'!A:B,2,FALSE)","v":"Minnesota Vikings"},7,"QB86",471,null,null,471]
["DETIsaac Nauta",576,"Isaac Nauta","DET",{"$f":"VLOOKUP(D577,'team abbr lookup'!A:B,2,FALSE)","v":"Detroit Lions"},5,"TE79",472,null,null,472]
["GBDarrius Shepherd",577,"Darrius Shepherd","GB",{"$f":"VLOOKUP(D578,'team abbr lookup'!A:B,2,FALSE)","v":"Green Bay Packers"},5,"WR174",473,null,null,{"$f":"AVERAGE(H578:J578)","v":473}]
[{"$f":"_xlfn.CONCAT(D579,C579)","v":"CLEDamion Ratley"},578,"Damion Ratley","CLE",{"$f":"VLOOKUP(D579,'team abbr lookup'!A:B,2,FALSE)","v":"Cleveland Browns"},9,"WR175",475,null,null,475]
["NYGLevine Toilolo",579,"Levine Toilolo","NYG",{"$f":"VLOOKUP(D580,'team abbr lookup'!A:B,2,FALSE)","v":"New York Giants"},11,"TE80",476,null,null,476]
["SEAJohn Ursua",580,"John Ursua","SEA",{"$f":"VLOOKUP(D581,'team abbr lookup'!A:B,2,FALSE)","v":"Seattle Seahawks"},6,"WR176",477,null,null,477]
["RB152Marcus Murphy",581,"Marcus Murphy","RB152",{"$f":"VLOOKUP(D582,'team abbr lookup'!A:B,2,FALSE)","v":{"$error":"#N/A"}},479,null,null,479,null,479]
["RB153De'Lance Turner",582,"De'Lance Turner","RB153",{"$f":"VLOOKUP(D583,'team abbr lookup'!A:B,2,FALSE)","v":{"$error":"#N/A"}},480,null,null,480,null,480]
["JACCollin Johnson",583,"Collin Johnson","JAC",{"$f":"VLOOKUP(D584,'team abbr lookup'!A:B,2,FALSE)","v":"Jacksonville Jaguars"},7,"WR177",481,null,null,481]
["SFTavon Austin",584,"Tavon Austin","SF",{"$f":"VLOOKUP(D585,'team abbr lookup'!A:B,2,FALSE)","v":"San Francisco 49ers"},11,"WR178",482,null,null,482]
["WR179Michael Floyd",585,"Michael Floyd","WR179",{"$f":"VLOOKUP(D586,'team abbr lookup'!A:B,2,FALSE)","v":{"$error":"#N/A"}},483,null,null,483,null,483]
["LB2Jonathan Stewart",586,"Jonathan Stewart","LB2",{"$f":"VLOOKUP(D587,'team abbr lookup'!A:B,2,FALSE)","v":{"$error":"#N/A"}},484,null,null,484,null,484]
["KCDeon Yelder",587,"Deon Yelder","KC",{"$f":"VLOOKUP(D588,'team abbr lookup'!A:B,2,FALSE)","v":"Kansas City Chiefs"},10,"TE81",485,null,null,485]
["QB87Derek Anderson",588,"Derek Anderson","QB87",{"$f":"VLOOKUP(D589,'team abbr lookup'!A:B,2,FALSE)","v":{"$error":"#N/A"}},486,null,null,486,null,486]
["SFNick Mullens",589,"Nick Mullens","SF",{"$f":"VLOOKUP(D590,'team abbr lookup'!A:B,2,FALSE)","v":"San Francisco 49ers"},11,"QB88",487,null,null,487]
["RB154James Develin",590,"James Develin","RB154",{"$f":"VLOOKUP(D591,'team abbr lookup'!A:B,2,FALSE)","v":{"$error":"#N/A"}},488,null,null,488,null,488]
["CINRyan Finley",591,"Ryan Finley","CIN",{"$f":"VLOOKUP(D592,'team abbr lookup'!A:B,2,FALSE)","v":"Cincinnati Bengals"},9,"QB89",490,null,null,490]
["NYJBraxton Berrios",592,"Braxton Berrios","NYJ",{"$f":"VLOOKUP(D593,'team abbr lookup'!A:B,2,FALSE)","v":"New York Jets"},11,"WR180",491,null,null,491]
["RB155Devante Mays",593,"Devante Mays","RB155",{"$f":"VLOOKUP(D594,'team abbr lookup'!A:B,2,FALSE)","v":{"$error":"#N/A"}},492,null,null,492,null,492]
["PITTrey Edmunds",594,"Trey Edmunds","PIT",{"$f":"VLOOKUP(D595,'team abbr lookup'!A:B,2,FALSE)","v":"Pittsburgh Steelers"},8,"RB156",493,null,null,493]
["DENAndrew Beck",595,"Andrew Beck","DEN",{"$f":"VLOOKUP(D596,'team abbr lookup'!A:B,2,FALSE)","v":"Denver Broncos"},8,"TE82",494,null,null,494]
["RB157Kapri Bibbs",596,"Kapri Bibbs","RB157",{"$f":"VLOOKUP(D597,'team abbr lookup'!A:B,2,FALSE)","v":{"$error":"#N/A"}},495,null,null,495,null,495]
["NYGCody Core",597,"Cody Core","NYG",{"$f":"VLOOKUP(D598,'team abbr lookup'!A:B,2,FALSE)","v":"New York Giants"},11,"WR181",496,null,null,496]
["ARIKeeSean Johnson",598,"KeeSean Johnson","ARI",{"$f":"VLOOKUP(D599,'team abbr lookup'!A:B,2,FALSE)","v":"Arizona Cardinals"},8,"WR182",497,null,null,497]
["QB90Clayton Thorson",599,"Clayton Thorson","QB90",{"$f":"VLOOKUP(D600,'team abbr lookup'!A:B,2,FALSE)","v":{"$error":"#N/A"}},498,null,null,498,null,498]
["RB158Spencer Ware",600,"Spencer Ware","RB158",{"$f":"VLOOKUP(D601,'team abbr lookup'!A:B,2,FALSE)","v":{"$error":"#N/A"}},499,null,null,499,null,499]
["CINBrandon Allen",601,"Brandon Allen","CIN",{"$f":"VLOOKUP(D602,'team abbr lookup'!A:B,2,FALSE)","v":"Cincinnati Bengals"},9,"QB91",500,null,null,500]
[""]
[""]
[""]
[""]
[""]
[""]
[""]
[""]
[""]
[""]
[""]
[""]
[""]
[""]
[""]
[""]
[""]
[""]
[""]
[""]
[""]
[""]
[""]
[""]
[""]
[""]
[""]
[""]
[""]
[""]
[""]
[""]
[""]
[""]
[""]
[""]
[""]
[""]
[""]
[""]
[{"$f":"_xlfn.CONCAT(D643,C643)","v":""}]
[""]
[""]
[""]
[""]
[""]
[""]
[""]
[""]
[""]
[""]
[""]
[""]
[""]
[""]
[""]
[""]
[""]
[""]
[""]
[""]
[""]
[""]
[""]
[""]
[""]
[""]
[""]
[""]
[""]
[""]
[""]
[""]
[""]
[""]
[""]
[""]
[""]
[""]
[""]
[""]
[""]
[""]
[""]
[""]
[""]
[""]
[""]
[""]
[""]
[""]
[""]
[""]
[""]
[""]
[""]
[""]
[""]
[""]
[""]
[""]
[""]
[""]
[""]
[{"$f":"_xlfn.CONCAT(D707,C707)","v":""}]
[""]
[""]
[""]
[""]
[""]
[""]
[""]
[""]
[""]
[""]
[""]
[""]
[""]
[""]
[""]
[""]
[""]
[""]
[""]
[""]
[""]
[""]
[""]
[""]
[""]
[""]
[""]
[""]
[""]
[""]
[""]
[""]
[""]
[""]
[""]
[""]
[""]
[""]
[""]
[""]
[""]
[""]
[""]
[""]
[""]
[""]
[""]
[""]
[""]
[""]
[""]
[""]
[""]
[""]
[""]
[""]
[""]
[""]
[""]
[""]
[""]
[""]
[""]
[{"$f":"_xlfn.CONCAT(D771,C771)","v":""}]
[""]
[""]
[""]
[""]
[""]
[""]
[""]
[""]
[""]
[""]
[""]
[""]
[""]
[""]
[""]
[""]
[""]
[""]
[""]
[""]
[""]
[""]
[""]
[""]
[""]
[""]
[""]
[""]
[""]
[""]
[""]
[""]
[""]
[""]
[""]
[""]
[""]
[""]
[""]
[""]
[""]
[""]
[""]
[""]
[""]
[""]
[""]
[""]
[""]
[""]
[""]
[""]
[""]
[""]
[""]
[""]
[""]
[""]
[""]
[""]
[""]
[""]
[""]
[{"$f":"_xlfn.CONCAT(D835,C835)","v":""}]
[""]
[""]
[""]
[""]
[""]
[""]
[""]
[""]
[""]
[""]
[""]
[""]
[""]
[""]
[""]
[""]
[""]
[""]
[""]
[""]
[""]
[""]
[""]
[""]
[""]
[""]
[""]
[""]
[""]
[""]
[""]
[""]
[""]
[""]
[""]
[""]
[""]
[""]
[""]
[""]
[""]
[""]
[""]
[""]
[""]
[""]
[""]
[""]
[""]
[""]
[""]
[""]
[""]
[""]
[""]
[""]
[""]
[""]
[""]
[""]
[""]
[""]
[""]
[{"$f":"_xlfn.CONCAT(D899,C899)","v":""}]
[""]
[""]
[""]
[""]
[""]
[""]
[""]
[""]
[""]
[""]
[""]
[""]
[""]
[""]
[""]
[""]
[""]
[""]
[""]
[""]
[""]
[""]
[""]
[""]
[""]
[""]
[""]
[""]
[""]
[""]
[""]
[""]
[""]
[""]
[""]
[""]
[""]
[""]
[""]
[""]
[""]
[""]
[""]
[""]
[""]
[""]
[""]
[""]
[""]
[""]
[""]
[""]
[""]
[""]
[""]
[""]
[""]
[""]
[""]
[""]
[""]
[""]
[""]
[{"$f":"_xlfn.CONCAT(D963,C963)","v":""}]
[""]
[""]
[""]
[""]
[""]
[""]
[""]
[""]
[""]
[""]
[""]
[""]
[""]
[""]
[""]
[""]
[""]
[""]
[""]
[""]
[""]
[""]
[""]
[""]
[""]
[""]
[""]
[""]
[""]
[""]
[""]
[""]
[""]
[""]
[""]
[""]
[""]
[""]
[""]
[""]

{"sheet":"half ppr adp","index":11,"n_rows":385,"n_cols":10,"rows_kept":385,"cut":false,"hidden":false,"merged":[]}
["CODE","Rank","Player","Team","Team Name","Bye","POS","Yahoo","Fantrax","AVG"]
[{"$f":"_xlfn.CONCAT(D2,C2)","v":"CARChristian McCaffrey"},1,"Christian McCaffrey","CAR",{"$f":"VLOOKUP(D2,'team abbr lookup'!A:B,2,FALSE)","v":"Carolina Panthers"},13,"RB1",1,1,{"$f":"AVERAGE(H2,I2)","v":1}]
[{"$f":"_xlfn.CONCAT(D3,C3)","v":"NYGSaquon Barkley"},2,"Saquon Barkley","NYG",{"$f":"VLOOKUP(D3,'team abbr lookup'!A:B,2,FALSE)","v":"New York Giants"},11,"RB2",2,2,{"$f":"AVERAGE(H3,I3)","v":2}]
["DALEzekiel Elliott",3,"Ezekiel Elliott","DAL",{"$f":"VLOOKUP(D4,'team abbr lookup'!A:B,2,FALSE)","v":"Dallas Cowboys"},10,"RB3",3,3,3]
["NOMichael Thomas",4,"Michael Thomas","NO",{"$f":"VLOOKUP(D5,'team abbr lookup'!A:B,2,FALSE)","v":"New Orleans Saints"},6,"WR1",6,4,5]
["NOAlvin Kamara",5,"Alvin Kamara","NO",{"$f":"VLOOKUP(D6,'team abbr lookup'!A:B,2,FALSE)","v":"New Orleans Saints"},6,"RB4",4,6,5]
["TENDerrick Henry",6,"Derrick Henry","TEN",{"$f":"VLOOKUP(D7,'team abbr lookup'!A:B,2,FALSE)","v":"Tennessee Titans"},7,"RB5",5,7,6]
["MINDalvin Cook",7,"Dalvin Cook","MIN",{"$f":"VLOOKUP(D8,'team abbr lookup'!A:B,2,FALSE)","v":"Minnesota Vikings"},7,"RB6",7,5,6]
["GBDavante Adams",8,"Davante Adams","GB",{"$f":"VLOOKUP(D9,'team abbr lookup'!A:B,2,FALSE)","v":"Green Bay Packers"},5,"WR2",8,8,8]
["KCTyreek Hill",9,"Tyreek Hill","KC",{"$f":"VLOOKUP(D10,'team abbr lookup'!A:B,2,FALSE)","v":"Kansas City Chiefs"},10,"WR3",10,10,10]
["CINJoe Mixon",10,"Joe Mixon","CIN",{"$f":"VLOOKUP(D11,'team abbr lookup'!A:B,2,FALSE)","v":"Cincinnati Bengals"},9,"RB7",12,9,10.5]
["ATLJulio Jones",11,"Julio Jones","ATL",{"$f":"VLOOKUP(D12,'team abbr lookup'!A:B,2,FALSE)","v":"Atlanta Falcons"},10,"WR4",14,11,12.5]
["CLENick Chubb",12,"Nick Chubb","CLE",{"$f":"VLOOKUP(D13,'team abbr lookup'!A:B,2,FALSE)","v":"Cleveland Browns"},9,"RB8",13,13,13]
["ARIDeAndre Hopkins",13,"DeAndre Hopkins","ARI",{"$f":"VLOOKUP(D14,'team abbr lookup'!A:B,2,FALSE)","v":"Arizona Cardinals"},8,"WR5",17,12,14.5]
["ARIKenyan Drake",14,"Kenyan Drake","ARI",{"$f":"VLOOKUP(D15,'team abbr lookup'!A:B,2,FALSE)","v":"Arizona Cardinals"},8,"RB9",16,17,16.5]
["LVJosh Jacobs",15,"Josh Jacobs","LV",{"$f":"VLOOKUP(D16,'team abbr lookup'!A:B,2,FALSE)","v":"Las Vegas Raiders"},6,"RB10",19,15,17]
["KCTravis Kelce",16,"Travis Kelce","KC",{"$f":"VLOOKUP(D17,'team abbr lookup'!A:B,2,FALSE)","v":"Kansas City Chiefs"},10,"TE1",18,16,17]
["KCPatrick Mahomes",17,"Patrick Mahomes","KC",{"$f":"VLOOKUP(D18,'team abbr lookup'!A:B,2,FALSE)","v":"Kansas City Chiefs"},10,"QB1",9,27,18]
["KCClyde Edwards-Helaire",18,"Clyde Edwards-Helaire","KC",{"$f":"VLOOKUP(D19,'team abbr lookup'!A:B,2,FALSE)","v":"Kansas City Chiefs"},10,"RB11",11,26,18.5]
["TBChris Godwin",19,"Chris Godwin","TB",{"$f":"VLOOKUP(D20,'team abbr lookup'!A:B,2,FALSE)","v":"Tampa Bay Buccaneers"},13,"WR6",24,14,19]
["SFGeorge Kittle",20,"George Kittle","SF",{"$f":"VLOOKUP(D21,'team abbr lookup'!A:B,2,FALSE)","v":"San Francisco 49ers"},11,"TE2",20,18,19]
["BALLamar Jackson",21,"Lamar Jackson","BAL",{"$f":"VLOOKUP(D22,'team abbr lookup'!A:B,2,FALSE)","v":"Baltimore Ravens"},8,"QB2",15,24,19.5]
["GBAaron Jones",22,"Aaron Jones","GB",{"$f":"VLOOKUP(D23,'team abbr lookup'!A:B,2,FALSE)","v":"Green Bay Packers"},5,"RB12",22,19,20.5]
["PHIMiles Sanders",23,"Miles Sanders","PHI",{"$f":"VLOOKUP(D24,'team abbr lookup'!A:B,2,FALSE)","v":"Philadelphia Eagles"},9,"RB13",21,21,21]
["LACAustin Ekeler",24,"Austin Ekeler","LAC",{"$f":"VLOOKUP(D25,'team abbr lookup'!A:B,2,FALSE)","v":"Los Angeles Chargers"},10,"RB14",23,20,21.5]
["DETKenny Golladay",25,"Kenny Golladay","DET",{"$f":"VLOOKUP(D26,'team abbr lookup'!A:B,2,FALSE)","v":"Detroit Lions"},5,"WR7",25,22,23.5]
["TBMike Evans",26,"Mike Evans","TB",{"$f":"VLOOKUP(D27,'team abbr lookup'!A:B,2,FALSE)","v":"Tampa Bay Buccaneers"},13,"WR8",26,23,24.5]
["CLEOdell Beckham Jr.",27,"Odell Beckham Jr.","CLE",{"$f":"VLOOKUP(D28,'team abbr lookup'!A:B,2,FALSE)","v":"Cleveland Browns"},9,"WR9",28,25,26.5]
["CHIAllen Robinson",28,"Allen Robinson","CHI",{"$f":"VLOOKUP(D29,'team abbr lookup'!A:B,2,FALSE)","v":"Chicago Bears"},11,"WR10",27,28,27.5]
["PITJuJu Smith-Schuster",29,"JuJu Smith-Schuster","PIT",{"$f":"VLOOKUP(D30,'team abbr lookup'!A:B,2,FALSE)","v":"Pittsburgh Steelers"},8,"WR11",34,30,32]
["ATLTodd Gurley",30,"Todd Gurley","ATL",{"$f":"VLOOKUP(D31,'team abbr lookup'!A:B,2,FALSE)","v":"Atlanta Falcons"},10,"RB15",32,32,32]
["DALAmari Cooper",31,"Amari Cooper","DAL",{"$f":"VLOOKUP(D32,'team abbr lookup'!A:B,2,FALSE)","v":"Dallas Cowboys"},10,"WR12",36,29,32.5]
["MINAdam Thielen",32,"Adam Thielen","MIN",{"$f":"VLOOKUP(D33,'team abbr lookup'!A:B,2,FALSE)","v":"Minnesota Vikings"},7,"WR13",30,36,33]
["SEAChris Carson",33,"Chris Carson","SEA",{"$f":"VLOOKUP(D34,'team abbr lookup'!A:B,2,FALSE)","v":"Seattle Seahawks"},6,"RB16",31,37,34]
["CARD.J. Moore",34,"D.J. Moore","CAR",{"$f":"VLOOKUP(D35,'team abbr lookup'!A:B,2,FALSE)","v":"Carolina Panthers"},13,"WR14",38,31,34.5]
["TENA.J. Brown",35,"A.J. Brown","TEN",{"$f":"VLOOKUP(D36,'team abbr lookup'!A:B,2,FALSE)","v":"Tennessee Titans"},7,"WR15",39,34,36.5]
["BALMark Andrews",36,"Mark Andrews","BAL",{"$f":"VLOOKUP(D37,'team abbr lookup'!A:B,2,FALSE)","v":"Baltimore Ravens"},8,"TE3",35,38,36.5]
["DENMelvin Gordon",37,"Melvin Gordon","DEN",{"$f":"VLOOKUP(D38,'team abbr lookup'!A:B,2,FALSE)","v":"Denver Broncos"},8,"RB17",33,43,38]
["TBLeonard Fournette",38,"Leonard Fournette","TB",{"$f":"VLOOKUP(D39,'team abbr lookup'!A:B,2,FALSE)","v":"Tampa Bay Buccaneers"},13,"RB18",46,33,39.5]
["LARCooper Kupp",39,"Cooper Kupp","LAR",{"$f":"VLOOKUP(D40,'team abbr lookup'!A:B,2,FALSE)","v":"Los Angeles Rams"},9,"WR16",45,35,40]
["INDJonathan Taylor",40,"Jonathan Taylor","IND",{"$f":"VLOOKUP(D41,'team abbr lookup'!A:B,2,FALSE)","v":"Indianapolis Colts"},7,"RB19",37,44,40.5]
["PHIZach Ertz",41,"Zach Ertz","PHI",{"$f":"VLOOKUP(D42,'team abbr lookup'!A:B,2,FALSE)","v":"Philadelphia Eagles"},9,"TE4",43,39,41]
["PITJames Conner",42,"James Conner","PIT",{"$f":"VLOOKUP(D43,'team abbr lookup'!A:B,2,FALSE)","v":"Pittsburgh Steelers"},8,"RB20",29,55,42]
["ATLCalvin Ridley",43,"Calvin Ridley","ATL",{"$f":"VLOOKUP(D44,'team abbr lookup'!A:B,2,FALSE)","v":"Atlanta Falcons"},10,"WR17",47,41,44]
["NYJLe'Veon Bell",44,"Le'Veon Bell","NYJ",{"$f":"VLOOKUP(D45,'team abbr lookup'!A:B,2,FALSE)","v":"New York Jets"},11,"RB21",44,46,45]
["DENCourtland Sutton",45,"Courtland Sutton","DEN",{"$f":"VLOOKUP(D46,'team abbr lookup'!A:B,2,FALSE)","v":"Denver Broncos"},8,"WR18",55,40,47.5]
["BALMark Ingram",46,"Mark Ingram","BAL",{"$f":"VLOOKUP(D47,'team abbr lookup'!A:B,2,FALSE)","v":"Baltimore Ravens"},8,"RB22",40,57,48.5]
["DALDak Prescott",47,"Dak Prescott","DAL",{"$f":"VLOOKUP(D48,'team abbr lookup'!A:B,2,FALSE)","v":"Dallas Cowboys"},10,"QB3",42,56,49]
["SEATyler Lockett",48,"Tyler Lockett","SEA",{"$f":"VLOOKUP(D49,'team abbr lookup'!A:B,2,FALSE)","v":"Seattle Seahawks"},6,"WR19",50,49,49.5]
["LACKeenan Allen",49,"Keenan Allen","LAC",{"$f":"VLOOKUP(D50,'team abbr lookup'!A:B,2,FALSE)","v":"Los Angeles Chargers"},10,"WR20",60,42,51]
["HOUDavid Johnson",50,"David Johnson","HOU",{"$f":"VLOOKUP(D51,'team abbr lookup'!A:B,2,FALSE)","v":"Houston Texans"},8,"RB23",56,48,52]
["JACDJ Chark",51,"DJ Chark","JAC",{"$f":"VLOOKUP(D52,'team abbr lookup'!A:B,2,FALSE)","v":"Jacksonville Jaguars"},7,"WR21",54,50,52]
["SEARussell Wilson",52,"Russell Wilson","SEA",{"$f":"VLOOKUP(D53,'team abbr lookup'!A:B,2,FALSE)","v":"Seattle Seahawks"},6,"QB4",41,64,52.5]
["SEAD.K. Metcalf",53,"D.K. Metcalf","SEA",{"$f":"VLOOKUP(D54,'team abbr lookup'!A:B,2,FALSE)","v":"Seattle Seahawks"},6,"WR22",53,52,52.5]
["MIADeVante Parker",54,"DeVante Parker","MIA",{"$f":"VLOOKUP(D55,'team abbr lookup'!A:B,2,FALSE)","v":"Miami Dolphins"},11,"WR23",61,45,53]
["WASTerry McLaurin",55,"Terry McLaurin","WAS",{"$f":"VLOOKUP(D56,'team abbr lookup'!A:B,2,FALSE)","v":"Washington Football Team"},8,"WR24",48,59,53.5]
["LVDarren Waller",56,"Darren Waller","LV",{"$f":"VLOOKUP(D57,'team abbr lookup'!A:B,2,FALSE)","v":"Las Vegas Raiders"},6,"TE5",57,51,54]
["ARIKyler Murray",57,"Kyler Murray","ARI",{"$f":"VLOOKUP(D58,'team abbr lookup'!A:B,2,FALSE)","v":"Arizona Cardinals"},8,"QB5",49,61,55]
["LARRobert Woods",58,"Robert Woods","LAR",{"$f":"VLOOKUP(D59,'team abbr lookup'!A:B,2,FALSE)","v":"Los Angeles Rams"},9,"WR25",64,47,55.5]
["HOUDeshaun Watson",59,"Deshaun Watson","HOU",{"$f":"VLOOKUP(D60,'team abbr lookup'!A:B,2,FALSE)","v":"Houston Texans"},8,"QB6",52,63,57.5]
["SFRaheem Mostert",60,"Raheem Mostert","SF",{"$f":"VLOOKUP(D61,'team abbr lookup'!A:B,2,FALSE)","v":"San Francisco 49ers"},11,"RB24",51,66,58.5]
["BUFDevin Singletary",61,"Devin Singletary","BUF",{"$f":"VLOOKUP(D62,'team abbr lookup'!A:B,2,FALSE)","v":"Buffalo Bills"},11,"RB25",58,60,59]
["INDT.Y. Hilton",62,"T.Y. Hilton","IND",{"$f":"VLOOKUP(D63,'team abbr lookup'!A:B,2,FALSE)","v":"Indianapolis Colts"},7,"WR26",66,53,59.5]
["BUFStefon Diggs",63,"Stefon Diggs","BUF",{"$f":"VLOOKUP(D64,'team abbr lookup'!A:B,2,FALSE)","v":"Buffalo Bills"},11,"WR27",67,54,60.5]
["CHIDavid Montgomery",64,"David Montgomery","CHI",{"$f":"VLOOKUP(D65,'team abbr lookup'!A:B,2,FALSE)","v":"Chicago Bears"},11,"RB26",59,62,60.5]
["DETD'Andre Swift",65,"D'Andre Swift","DET",{"$f":"VLOOKUP(D66,'team abbr lookup'!A:B,2,FALSE)","v":"Detroit Lions"},5,"RB27",63,65,64]
[{"$f":"_xlfn.CONCAT(D67,C67)","v":"LARTyler Higbee"},66,"Tyler Higbee","LAR",{"$f":"VLOOKUP(D67,'team abbr lookup'!A:B,2,FALSE)","v":"Los Angeles Rams"},9,"TE6",62,78,{"$f":"AVERAGE(H67,I67)","v":70}]
["LACHunter Henry",67,"Hunter Henry","LAC",{"$f":"VLOOKUP(D68,'team abbr lookup'!A:B,2,FALSE)","v":"Los Angeles Chargers"},10,"TE7",69,71,70]
["BUFJosh Allen",68,"Josh Allen","BUF",{"$f":"VLOOKUP(D69,'team abbr lookup'!A:B,2,FALSE)","v":"Buffalo Bills"},11,"QB7",68,73,70.5]
["LARCam Akers",69,"Cam Akers","LAR",{"$f":"VLOOKUP(D70,'team abbr lookup'!A:B,2,FALSE)","v":"Los Angeles Rams"},9,"RB28",70,72,71]
["CINA.J. Green",70,"A.J. Green","CIN",{"$f":"VLOOKUP(D71,'team abbr lookup'!A:B,2,FALSE)","v":"Cincinnati Bengals"},9,"WR28",85,58,71.5]
["CLEKareem Hunt",71,"Kareem Hunt","CLE",{"$f":"VLOOKUP(D72,'team abbr lookup'!A:B,2,FALSE)","v":"Cleveland Browns"},9,"RB29",74,75,74.5]
["DALMichael Gallup",72,"Michael Gallup","DAL",{"$f":"VLOOKUP(D73,'team abbr lookup'!A:B,2,FALSE)","v":"Dallas Cowboys"},10,"WR29",76,74,75]
["NODrew Brees",73,"Drew Brees","NO",{"$f":"VLOOKUP(D74,'team abbr lookup'!A:B,2,FALSE)","v":"New Orleans Saints"},6,"QB8",71,80,75.5]
["CLEJarvis Landry",74,"Jarvis Landry","CLE",{"$f":"VLOOKUP(D75,'team abbr lookup'!A:B,2,FALSE)","v":"Cleveland Browns"},9,"WR30",87,67,77]
["CINTyler Boyd",75,"Tyler Boyd","CIN",{"$f":"VLOOKUP(D76,'team abbr lookup'!A:B,2,FALSE)","v":"Cincinnati Bengals"},9,"WR31",86,70,78]
["ATLMatt Ryan",76,"Matt Ryan","ATL",{"$f":"VLOOKUP(D77,'team abbr lookup'!A:B,2,FALSE)","v":"Atlanta Falcons"},10,"QB9",72,84,78]
["BALMarquise Brown",77,"Marquise Brown","BAL",{"$f":"VLOOKUP(D78,'team abbr lookup'!A:B,2,FALSE)","v":"Baltimore Ravens"},8,"WR32",80,77,78.5]
["NYGEvan Engram",78,"Evan Engram","NYG",{"$f":"VLOOKUP(D79,'team abbr lookup'!A:B,2,FALSE)","v":"New York Giants"},11,"TE8",84,76,80]
["NOJared Cook",79,"Jared Cook","NO",{"$f":"VLOOKUP(D80,'team abbr lookup'!A:B,2,FALSE)","v":"New Orleans Saints"},6,"TE9",73,88,80.5]
["SFDeebo Samuel",80,"Deebo Samuel","SF",{"$f":"VLOOKUP(D81,'team abbr lookup'!A:B,2,FALSE)","v":"San Francisco 49ers"},11,"WR33",95,69,82]
["TBRob Gronkowski",81,"Rob Gronkowski","TB",{"$f":"VLOOKUP(D82,'team abbr lookup'!A:B,2,FALSE)","v":"Tampa Bay Buccaneers"},13,"TE10",77,89,83]
["NEJulian Edelman",82,"Julian Edelman","NE",{"$f":"VLOOKUP(D83,'team abbr lookup'!A:B,2,FALSE)","v":"New England Patriots"},6,"WR34",100,68,84]
["TBTom Brady",83,"Tom Brady","TB",{"$f":"VLOOKUP(D84,'team abbr lookup'!A:B,2,FALSE)","v":"Tampa Bay Buccaneers"},13,"QB10",81,92,86.5]
["HOUWill Fuller",84,"Will Fuller","HOU",{"$f":"VLOOKUP(D85,'team abbr lookup'!A:B,2,FALSE)","v":"Houston Texans"},8,"WR35",96,79,87.5]
["GBAaron Rodgers",85,"Aaron Rodgers","GB",{"$f":"VLOOKUP(D86,'team abbr lookup'!A:B,2,FALSE)","v":"Green Bay Packers"},5,"QB11",97,85,91]
["TBRonald Jones II",86,"Ronald Jones II","TB",{"$f":"VLOOKUP(D87,'team abbr lookup'!A:B,2,FALSE)","v":"Tampa Bay Buccaneers"},13,"RB30",83,101,92]
["NESony Michel",87,"Sony Michel","NE",{"$f":"VLOOKUP(D88,'team abbr lookup'!A:B,2,FALSE)","v":"New England Patriots"},6,"RB31",105,82,93.5]
["MIAJordan Howard",88,"Jordan Howard","MIA",{"$f":"VLOOKUP(D89,'team abbr lookup'!A:B,2,FALSE)","v":"Miami Dolphins"},11,"RB32",92,97,94.5]
["PHICarson Wentz",89,"Carson Wentz","PHI",{"$f":"VLOOKUP(D90,'team abbr lookup'!A:B,2,FALSE)","v":"Philadelphia Eagles"},9,"QB12",93,96,94.5]
["DETMarvin Jones",90,"Marvin Jones","DET",{"$f":"VLOOKUP(D91,'team abbr lookup'!A:B,2,FALSE)","v":"Detroit Lions"},5,"WR36",111,81,96]
["MIAMatt Breida",91,"Matt Breida","MIA",{"$f":"VLOOKUP(D92,'team abbr lookup'!A:B,2,FALSE)","v":"Miami Dolphins"},11,"RB33",98,94,96]
["BALJ.K. Dobbins",92,"J.K. Dobbins","BAL",{"$f":"VLOOKUP(D93,'team abbr lookup'!A:B,2,FALSE)","v":"Baltimore Ravens"},8,"RB34",91,105,98]
["DENPhillip Lindsay",93,"Phillip Lindsay","DEN",{"$f":"VLOOKUP(D94,'team abbr lookup'!A:B,2,FALSE)","v":"Denver Broncos"},8,"RB35",103,93,98]
["HOUBrandin Cooks",94,"Brandin Cooks","HOU",{"$f":"VLOOKUP(D95,'team abbr lookup'!A:B,2,FALSE)","v":"Houston Texans"},8,"WR37",114,83,98.5]
["NEJames White",95,"James White","NE",{"$f":"VLOOKUP(D96,'team abbr lookup'!A:B,2,FALSE)","v":"New England Patriots"},6,"RB36",106,91,98.5]
["SFSan Francisco 49ers",96,"San Francisco 49ers","SF",{"$f":"VLOOKUP(D97,'team abbr lookup'!A:B,2,FALSE)","v":"San Francisco 49ers"},11,"DST1",65,134,99.5]
["BUFJohn Brown",97,"John Brown","BUF",{"$f":"VLOOKUP(D98,'team abbr lookup'!A:B,2,FALSE)","v":"Buffalo Bills"},11,"WR38",117,87,102]
["CLEAustin Hooper",98,"Austin Hooper","CLE",{"$f":"VLOOKUP(D99,'team abbr lookup'!A:B,2,FALSE)","v":"Cleveland Browns"},9,"TE11",116,90,103]
["DETMatt Stafford",99,"Matt Stafford","DET",{"$f":"VLOOKUP(D100,'team abbr lookup'!A:B,2,FALSE)","v":"Detroit Lions"},5,"QB13",101,107,104]
["INDMarlon Mack",100,"Marlon Mack","IND",{"$f":"VLOOKUP(D101,'team abbr lookup'!A:B,2,FALSE)","v":"Indianapolis Colts"},7,"RB37",107,104,105.5]
["DALCeeDee Lamb",101,"CeeDee Lamb","DAL",{"$f":"VLOOKUP(D102,'team abbr lookup'!A:B,2,FALSE)","v":"Dallas Cowboys"},10,"WR39",112,108,110]
["TBKe'Shawn Vaughn",102,"Ke'Shawn Vaughn","TB",{"$f":"VLOOKUP(D103,'team abbr lookup'!A:B,2,FALSE)","v":"Tampa Bay Buccaneers"},13,"RB38",123,98,110.5]
["PITPittsburgh Steelers",103,"Pittsburgh Steelers","PIT",{"$f":"VLOOKUP(D104,'team abbr lookup'!A:B,2,FALSE)","v":"Pittsburgh Steelers"},8,"DST2",79,143,111]
["BALBaltimore Ravens",104,"Baltimore Ravens","BAL",{"$f":"VLOOKUP(D105,'team abbr lookup'!A:B,2,FALSE)","v":"Baltimore Ravens"},8,"DST3",75,148,111.5]
["PITDiontae Johnson",105,"Diontae Johnson","PIT",{"$f":"VLOOKUP(D106,'team abbr lookup'!A:B,2,FALSE)","v":"Pittsburgh Steelers"},8,"WR40",109,115,112]
["NYGDarius Slayton",106,"Darius Slayton","NYG",{"$f":"VLOOKUP(D107,'team abbr lookup'!A:B,2,FALSE)","v":"New York Giants"},11,"WR41",126,99,112.5]
["DETKerryon Johnson",107,"Kerryon Johnson","DET",{"$f":"VLOOKUP(D108,'team abbr lookup'!A:B,2,FALSE)","v":"Detroit Lions"},5,"RB39",132,95,113.5]
["CHITarik Cohen",108,"Tarik Cohen","CHI",{"$f":"VLOOKUP(D109,'team abbr lookup'!A:B,2,FALSE)","v":"Chicago Bears"},11,"RB40",121,111,116]
["NOEmmanuel Sanders",109,"Emmanuel Sanders","NO",{"$f":"VLOOKUP(D110,'team abbr lookup'!A:B,2,FALSE)","v":"New Orleans Saints"},6,"WR42",133,100,116.5]
["DENJerry Jeudy",110,"Jerry Jeudy","DEN",{"$f":"VLOOKUP(D111,'team abbr lookup'!A:B,2,FALSE)","v":"Denver Broncos"},8,"WR43",125,109,117]
["SFTevin Coleman",111,"Tevin Coleman","SF",{"$f":"VLOOKUP(D112,'team abbr lookup'!A:B,2,FALSE)","v":"San Francisco 49ers"},11,"RB41",122,114,118]
["DENNoah Fant",112,"Noah Fant","DEN",{"$f":"VLOOKUP(D113,'team abbr lookup'!A:B,2,FALSE)","v":"Denver Broncos"},8,"TE12",128,110,119]
["ATLHayden Hurst",113,"Hayden Hurst","ATL",{"$f":"VLOOKUP(D114,'team abbr lookup'!A:B,2,FALSE)","v":"Atlanta Falcons"},10,"TE13",104,135,119.5]
["BALJustin Tucker",114,"Justin Tucker","BAL",{"$f":"VLOOKUP(D115,'team abbr lookup'!A:B,2,FALSE)","v":"Baltimore Ravens"},8,"K1",78,162,120]
["PITBen Roethlisberger",115,"Ben Roethlisberger","PIT",{"$f":"VLOOKUP(D116,'team abbr lookup'!A:B,2,FALSE)","v":"Pittsburgh Steelers"},8,"QB14",120,120,120]
["KCHarrison Butker",116,"Harrison Butker","KC",{"$f":"VLOOKUP(D117,'team abbr lookup'!A:B,2,FALSE)","v":"Kansas City Chiefs"},10,"K2",82,159,120.5]
["BUFBuffalo Bills",117,"Buffalo Bills","BUF",{"$f":"VLOOKUP(D118,'team abbr lookup'!A:B,2,FALSE)","v":"Buffalo Bills"},11,"DST4",89,161,125]
["NYJJamison Crowder",118,"Jamison Crowder","NYJ",{"$f":"VLOOKUP(D119,'team abbr lookup'!A:B,2,FALSE)","v":"New York Jets"},11,"WR44",146,106,126]
["ARIChristian Kirk",119,"Christian Kirk","ARI",{"$f":"VLOOKUP(D120,'team abbr lookup'!A:B,2,FALSE)","v":"Arizona Cardinals"},8,"WR45",168,86,127]
["LARDarrell Henderson",120,"Darrell Henderson","LAR",{"$f":"VLOOKUP(D121,'team abbr lookup'!A:B,2,FALSE)","v":"Los Angeles Rams"},9,"RB42",142,112,127]
["NOLatavius Murray",121,"Latavius Murray","NO",{"$f":"VLOOKUP(D122,'team abbr lookup'!A:B,2,FALSE)","v":"New Orleans Saints"},6,"RB43",138,116,127]
["CLEBaker Mayfield",122,"Baker Mayfield","CLE",{"$f":"VLOOKUP(D123,'team abbr lookup'!A:B,2,FALSE)","v":"Cleveland Browns"},9,"QB15",141,119,130]
["MIAMike Gesicki",123,"Mike Gesicki","MIA",{"$f":"VLOOKUP(D124,'team abbr lookup'!A:B,2,FALSE)","v":"Miami Dolphins"},11,"TE14",139,121,130]
["BUFZack Moss",124,"Zack Moss","BUF",{"$f":"VLOOKUP(D125,'team abbr lookup'!A:B,2,FALSE)","v":"Buffalo Bills"},11,"RB44",118,144,131]
["MINAlexander Mattison",125,"Alexander Mattison","MIN",{"$f":"VLOOKUP(D126,'team abbr lookup'!A:B,2,FALSE)","v":"Minnesota Vikings"},7,"RB45",130,132,131]
["NYGSterling Shepard",126,"Sterling Shepard","NYG",{"$f":"VLOOKUP(D127,'team abbr lookup'!A:B,2,FALSE)","v":"New York Giants"},11,"WR46",165,102,133.5]
["CHIChicago Bears",127,"Chicago Bears","CHI",{"$f":"VLOOKUP(D128,'team abbr lookup'!A:B,2,FALSE)","v":"Chicago Bears"},11,"DST5",102,168,135]
["NOWil Lutz",128,"Wil Lutz","NO",{"$f":"VLOOKUP(D129,'team abbr lookup'!A:B,2,FALSE)","v":"New Orleans Saints"},6,"K3",94,177,135.5]
["LACMike Williams",129,"Mike Williams","LAC",{"$f":"VLOOKUP(D130,'team abbr lookup'!A:B,2,FALSE)","v":"Los Angeles Chargers"},10,"WR47",170,103,136.5]
[{"$f":"_xlfn.CONCAT(D131,C131)","v":"LVHenry Ruggs III"},130,"Henry Ruggs III","LV",{"$f":"VLOOKUP(D131,'team abbr lookup'!A:B,2,FALSE)","v":"Las Vegas Raiders"},6,"WR48",144,131,{"$f":"AVERAGE(H131,I131)","v":137.5}]
["CINJoe Burrow",131,"Joe Burrow","CIN",{"$f":"VLOOKUP(D132,'team abbr lookup'!A:B,2,FALSE)","v":"Cincinnati Bengals"},9,"QB16",129,147,138]
["MINJustin Jefferson",132,"Justin Jefferson","MIN",{"$f":"VLOOKUP(D133,'team abbr lookup'!A:B,2,FALSE)","v":"Minnesota Vikings"},7,"WR49",164,113,138.5]
["DALGreg Zuerlein",133,"Greg Zuerlein","DAL",{"$f":"VLOOKUP(D134,'team abbr lookup'!A:B,2,FALSE)","v":"Dallas Cowboys"},10,"K4",99,182,140.5]
["NENew England Patriots",134,"New England Patriots","NE",{"$f":"VLOOKUP(D135,'team abbr lookup'!A:B,2,FALSE)","v":"New England Patriots"},6,"DST6",113,171,142]
["NYGDaniel Jones",135,"Daniel Jones","NYG",{"$f":"VLOOKUP(D136,'team abbr lookup'!A:B,2,FALSE)","v":"New York Giants"},11,"QB17",161,123,142]
["DETT.J. Hockenson",136,"T.J. Hockenson","DET",{"$f":"VLOOKUP(D137,'team abbr lookup'!A:B,2,FALSE)","v":"Detroit Lions"},5,"TE15",160,128,144]
["SFJimmy Garoppolo",137,"Jimmy Garoppolo","SF",{"$f":"VLOOKUP(D138,'team abbr lookup'!A:B,2,FALSE)","v":"San Francisco 49ers"},11,"QB18",140,150,145]
["RB46Derrius Guice",138,"Derrius Guice","RB46",{"$f":"VLOOKUP(D139,'team abbr lookup'!A:B,2,FALSE)","v":{"$error":"#N/A"}},90,390,240,null,240]
["JACGardner Minshew",139,"Gardner Minshew","JAC",{"$f":"VLOOKUP(D140,'team abbr lookup'!A:B,2,FALSE)","v":"Jacksonville Jaguars"},7,"QB19",127,167,147]
["KCMecole Hardman",140,"Mecole Hardman","KC",{"$f":"VLOOKUP(D141,'team abbr lookup'!A:B,2,FALSE)","v":"Kansas City Chiefs"},10,"WR50",154,140,147]
["TENRyan Tannehill",141,"Ryan Tannehill","TEN",{"$f":"VLOOKUP(D142,'team abbr lookup'!A:B,2,FALSE)","v":"Tennessee Titans"},7,"QB20",169,126,147.5]
["PHIJalen Reagor",142,"Jalen Reagor","PHI",{"$f":"VLOOKUP(D143,'team abbr lookup'!A:B,2,FALSE)","v":"Philadelphia Eagles"},9,"WR51",152,145,148.5]
["DALTony Pollard",143,"Tony Pollard","DAL",{"$f":"VLOOKUP(D144,'team abbr lookup'!A:B,2,FALSE)","v":"Dallas Cowboys"},10,"RB47",163,137,150]
["NONew Orleans Saints",144,"New Orleans Saints","NO",{"$f":"VLOOKUP(D145,'team abbr lookup'!A:B,2,FALSE)","v":"New Orleans Saints"},6,"DST7",108,196,152]
["KCSammy Watkins",145,"Sammy Watkins","KC",{"$f":"VLOOKUP(D146,'team abbr lookup'!A:B,2,FALSE)","v":"Kansas City Chiefs"},10,"WR52",166,138,152]
["KCKansas City Chiefs",146,"Kansas City Chiefs","KC",{"$f":"VLOOKUP(D147,'team abbr lookup'!A:B,2,FALSE)","v":"Kansas City Chiefs"},10,"DST8",110,195,152.5]
["LARJared Goff",147,"Jared Goff","LAR",{"$f":"VLOOKUP(D148,'team abbr lookup'!A:B,2,FALSE)","v":"Los Angeles Rams"},9,"QB21",172,133,152.5]
["WASAdrian Peterson",148,"Adrian Peterson","WAS",{"$f":"VLOOKUP(D149,'team abbr lookup'!A:B,2,FALSE)","v":"Washington Football Team"},8,"RB48",148,158,153]
["INDPhilip Rivers",149,"Philip Rivers","IND",{"$f":"VLOOKUP(D150,'team abbr lookup'!A:B,2,FALSE)","v":"Indianapolis Colts"},7,"QB22",155,152,153.5]
["NYGGolden Tate",150,"Golden Tate","NYG",{"$f":"VLOOKUP(D151,'team abbr lookup'!A:B,2,FALSE)","v":"New York Giants"},11,"WR53",184,124,154]
["MIAPreston Williams",151,"Preston Williams","MIA",{"$f":"VLOOKUP(D152,'team abbr lookup'!A:B,2,FALSE)","v":"Miami Dolphins"},11,"WR54",180,129,154.5]
["HOUDuke Johnson",152,"Duke Johnson","HOU",{"$f":"VLOOKUP(D153,'team abbr lookup'!A:B,2,FALSE)","v":"Houston Texans"},8,"RB49",183,130,156.5]
["TENJonnu Smith",153,"Jonnu Smith","TEN",{"$f":"VLOOKUP(D154,'team abbr lookup'!A:B,2,FALSE)","v":"Tennessee Titans"},7,"TE16",179,136,157.5]
["SFRobbie Gould",154,"Robbie Gould","SF",{"$f":"VLOOKUP(D155,'team abbr lookup'!A:B,2,FALSE)","v":"San Francisco 49ers"},11,"K5",115,202,158.5]
["CHIAnthony Miller",155,"Anthony Miller","CHI",{"$f":"VLOOKUP(D156,'team abbr lookup'!A:B,2,FALSE)","v":"Chicago Bears"},11,"WR55",null,117,117]
["PHIDallas Goedert",156,"Dallas Goedert","PHI",{"$f":"VLOOKUP(D157,'team abbr lookup'!A:B,2,FALSE)","v":"Philadelphia Eagles"},9,"TE17",193,125,159]
["CARRobby Anderson",157,"Robby Anderson","CAR",{"$f":"VLOOKUP(D158,'team abbr lookup'!A:B,2,FALSE)","v":"Carolina Panthers"},13,"WR56",null,118,118]
["MINMinnesota Vikings",158,"Minnesota Vikings","MIN",{"$f":"VLOOKUP(D159,'team abbr lookup'!A:B,2,FALSE)","v":"Minnesota Vikings"},7,"DST9",135,185,160]
["NECam Newton",159,"Cam Newton","NE",{"$f":"VLOOKUP(D160,'team abbr lookup'!A:B,2,FALSE)","v":"New England Patriots"},6,"QB23",119,289,204]
["CARTeddy Bridgewater",160,"Teddy Bridgewater","CAR",{"$f":"VLOOKUP(D161,'team abbr lookup'!A:B,2,FALSE)","v":"Carolina Panthers"},13,"QB24",147,174,160.5]
["DENDrew Lock",161,"Drew Lock","DEN",{"$f":"VLOOKUP(D162,'team abbr lookup'!A:B,2,FALSE)","v":"Denver Broncos"},8,"QB25",156,165,160.5]
["ARIChase Edmonds",162,"Chase Edmonds","ARI",{"$f":"VLOOKUP(D163,'team abbr lookup'!A:B,2,FALSE)","v":"Arizona Cardinals"},8,"RB50",159,163,161]
["PHIAlshon Jeffery",163,"Alshon Jeffery","PHI",{"$f":"VLOOKUP(D164,'team abbr lookup'!A:B,2,FALSE)","v":"Philadelphia Eagles"},9,"WR57",null,122,122]
["MINKirk Cousins",164,"Kirk Cousins","MIN",{"$f":"VLOOKUP(D165,'team abbr lookup'!A:B,2,FALSE)","v":"Minnesota Vikings"},7,"QB26",182,141,161.5]
["WASAntonio Gibson",165,"Antonio Gibson","WAS",{"$f":"VLOOKUP(D166,'team abbr lookup'!A:B,2,FALSE)","v":"Washington Football Team"},8,"RB51",124,212,168]
["PITEric Ebron",166,"Eric Ebron","PIT",{"$f":"VLOOKUP(D167,'team abbr lookup'!A:B,2,FALSE)","v":"Pittsburgh Steelers"},8,"TE18",177,149,163]
["PHIDeSean Jackson",167,"DeSean Jackson","PHI",{"$f":"VLOOKUP(D168,'team abbr lookup'!A:B,2,FALSE)","v":"Philadelphia Eagles"},9,"WR58",173,154,163.5]
["NEJustin Rohrwasser",168,"Justin Rohrwasser","NE",{"$f":"VLOOKUP(D169,'team abbr lookup'!A:B,2,FALSE)","v":"New England Patriots"},6,"K6",null,127,127]
["MINKyle Rudolph",169,"Kyle Rudolph","MIN",{"$f":"VLOOKUP(D170,'team abbr lookup'!A:B,2,FALSE)","v":"Minnesota Vikings"},7,"TE19",131,204,167.5]
["ARILarry Fitzgerald",170,"Larry Fitzgerald","ARI",{"$f":"VLOOKUP(D171,'team abbr lookup'!A:B,2,FALSE)","v":"Arizona Cardinals"},8,"WR59",150,183,166.5]
["DALBlake Jarwin",171,"Blake Jarwin","DAL",{"$f":"VLOOKUP(D172,'team abbr lookup'!A:B,2,FALSE)","v":"Dallas Cowboys"},10,"TE20",176,157,166.5]
["LVDerek Carr",172,"Derek Carr","LV",{"$f":"VLOOKUP(D173,'team abbr lookup'!A:B,2,FALSE)","v":"Las Vegas Raiders"},6,"QB27",136,198,167]
["CHIJimmy Graham",173,"Jimmy Graham","CHI",{"$f":"VLOOKUP(D174,'team abbr lookup'!A:B,2,FALSE)","v":"Chicago Bears"},11,"TE21",134,270,202]
["PHIBoston Scott",174,"Boston Scott","PHI",{"$f":"VLOOKUP(D175,'team abbr lookup'!A:B,2,FALSE)","v":"Philadelphia Eagles"},9,"RB52",190,146,168]
["NYJBreshad Perriman",175,"Breshad Perriman","NYJ",{"$f":"VLOOKUP(D176,'team abbr lookup'!A:B,2,FALSE)","v":"New York Jets"},11,"WR60",198,139,168.5]
["CARCurtis Samuel",176,"Curtis Samuel","CAR",{"$f":"VLOOKUP(D177,'team abbr lookup'!A:B,2,FALSE)","v":"Carolina Panthers"},13,"WR61",186,151,168.5]
["LVHunter Renfrow",177,"Hunter Renfrow","LV",{"$f":"VLOOKUP(D178,'team abbr lookup'!A:B,2,FALSE)","v":"Las Vegas Raiders"},6,"WR62",171,166,168.5]
["DETMatt Prater",178,"Matt Prater","DET",{"$f":"VLOOKUP(D179,'team abbr lookup'!A:B,2,FALSE)","v":"Detroit Lions"},5,"K7",137,224,180.5]
["SEAGreg Olsen",179,"Greg Olsen","SEA",{"$f":"VLOOKUP(D180,'team abbr lookup'!A:B,2,FALSE)","v":"Seattle Seahawks"},6,"TE22",151,191,171]
["INDJack Doyle",180,"Jack Doyle","IND",{"$f":"VLOOKUP(D181,'team abbr lookup'!A:B,2,FALSE)","v":"Indianapolis Colts"},7,"TE23",null,142,142]
["TBLeSean McCoy",181,"LeSean McCoy","TB",{"$f":"VLOOKUP(D182,'team abbr lookup'!A:B,2,FALSE)","v":"Tampa Bay Buccaneers"},13,"RB53",157,186,171.5]
["JACRyquell Armstead",182,"Ryquell Armstead","JAC",{"$f":"VLOOKUP(D183,'team abbr lookup'!A:B,2,FALSE)","v":"Jacksonville Jaguars"},7,"RB54",143,205,174]
["NEDamien Harris",183,"Damien Harris","NE",{"$f":"VLOOKUP(D184,'team abbr lookup'!A:B,2,FALSE)","v":"New England Patriots"},6,"RB55",145,250,197.5]
["GBAJ Dillon",184,"AJ Dillon","GB",{"$f":"VLOOKUP(D185,'team abbr lookup'!A:B,2,FALSE)","v":"Green Bay Packers"},5,"RB56",178,169,173.5]
["INDMichael Pittman Jr.",185,"Michael Pittman Jr.","IND",{"$f":"VLOOKUP(D186,'team abbr lookup'!A:B,2,FALSE)","v":"Indianapolis Colts"},7,"WR63",194,156,175]
["MIAFitzpatrick / Tagovailoa",186,"Fitzpatrick / Tagovailoa","MIA",{"$f":"VLOOKUP(D187,'team abbr lookup'!A:B,2,FALSE)","v":"Miami Dolphins"},11,"QB28",149,307,228]
["NEN'Keal Harry",187,"N'Keal Harry","NE",{"$f":"VLOOKUP(D188,'team abbr lookup'!A:B,2,FALSE)","v":"New England Patriots"},6,"WR64",null,153,153]
["TBO.J. Howard",188,"O.J. Howard","TB",{"$f":"VLOOKUP(D189,'team abbr lookup'!A:B,2,FALSE)","v":"Tampa Bay Buccaneers"},13,"TE24",153,210,181.5]
["INDNyheim Hines",189,"Nyheim Hines","IND",{"$f":"VLOOKUP(D190,'team abbr lookup'!A:B,2,FALSE)","v":"Indianapolis Colts"},7,"RB57",null,155,155]
["SEAWill Dissly",190,"Will Dissly","SEA",{"$f":"VLOOKUP(D191,'team abbr lookup'!A:B,2,FALSE)","v":"Seattle Seahawks"},6,"TE25",158,268,213]
["CARIan Thomas",191,"Ian Thomas","CAR",{"$f":"VLOOKUP(D192,'team abbr lookup'!A:B,2,FALSE)","v":"Carolina Panthers"},13,"TE26",null,160,160]
["LACMichael Badgley",192,"Michael Badgley","LAC",{"$f":"VLOOKUP(D193,'team abbr lookup'!A:B,2,FALSE)","v":"Los Angeles Chargers"},10,"K8",162,243,202.5]
["LACJustin Jackson",193,"Justin Jackson","LAC",{"$f":"VLOOKUP(D194,'team abbr lookup'!A:B,2,FALSE)","v":"Los Angeles Chargers"},10,"RB58",200,164,182]
[{"$f":"_xlfn.CONCAT(D195,C195)","v":"GBAllen Lazard"},194,"Allen Lazard","GB",{"$f":"VLOOKUP(D195,'team abbr lookup'!A:B,2,FALSE)","v":"Green Bay Packers"},5,"WR65",187,180,{"$f":"AVERAGE(H195,I195)","v":183.5}]
["JACChris Thompson",195,"Chris Thompson","JAC",{"$f":"VLOOKUP(D196,'team abbr lookup'!A:B,2,FALSE)","v":"Jacksonville Jaguars"},7,"RB59",167,254,210.5]
["NYJSam Darnold",196,"Sam Darnold","NYJ",{"$f":"VLOOKUP(D197,'team abbr lookup'!A:B,2,FALSE)","v":"New York Jets"},11,"QB29",null,170,170]
["GBJamaal Williams",197,"Jamaal Williams","GB",{"$f":"VLOOKUP(D198,'team abbr lookup'!A:B,2,FALSE)","v":"Green Bay Packers"},5,"RB60",null,172,172]
["JACDede Westbrook",198,"Dede Westbrook","JAC",{"$f":"VLOOKUP(D199,'team abbr lookup'!A:B,2,FALSE)","v":"Jacksonville Jaguars"},7,"WR66",null,173,173]
["ARIZane Gonzalez",199,"Zane Gonzalez","ARI",{"$f":"VLOOKUP(D200,'team abbr lookup'!A:B,2,FALSE)","v":"Arizona Cardinals"},8,"K9",174,227,200.5]
["NYJDenzel Mims",200,"Denzel Mims","NYJ",{"$f":"VLOOKUP(D201,'team abbr lookup'!A:B,2,FALSE)","v":"New York Jets"},11,"WR67",null,175,175]
["JACTyler Eifert",201,"Tyler Eifert","JAC",{"$f":"VLOOKUP(D202,'team abbr lookup'!A:B,2,FALSE)","v":"Jacksonville Jaguars"},7,"TE27",175,319,247]
["SEARashaad Penny",202,"Rashaad Penny","SEA",{"$f":"VLOOKUP(D203,'team abbr lookup'!A:B,2,FALSE)","v":"Seattle Seahawks"},6,"RB61",null,176,176]
["NYJChris Herndon",203,"Chris Herndon","NYJ",{"$f":"VLOOKUP(D204,'team abbr lookup'!A:B,2,FALSE)","v":"New York Jets"},11,"TE28",null,178,178]
["WR68Antonio Brown",204,"Antonio Brown","WR68",{"$f":"VLOOKUP(D205,'team abbr lookup'!A:B,2,FALSE)","v":{"$error":"#N/A"}},null,179,179,null,179]
["CINJohn Ross",205,"John Ross","CIN",{"$f":"VLOOKUP(D206,'team abbr lookup'!A:B,2,FALSE)","v":"Cincinnati Bengals"},9,"WR69",null,181,181]
["SEACarlos Hyde",206,"Carlos Hyde","SEA",{"$f":"VLOOKUP(D207,'team abbr lookup'!A:B,2,FALSE)","v":"Seattle Seahawks"},6,"RB62",181,276,228.5]
["TENCorey Davis",207,"Corey Davis","TEN",{"$f":"VLOOKUP(D208,'team abbr lookup'!A:B,2,FALSE)","v":"Tennessee Titans"},7,"WR70",null,184,184]
["SFJerick McKinnon",208,"Jerick McKinnon","SF",{"$f":"VLOOKUP(D209,'team abbr lookup'!A:B,2,FALSE)","v":"San Francisco 49ers"},11,"RB63",185,311,248]
["NELamar Miller",209,"Lamar Miller","NE",{"$f":"VLOOKUP(D210,'team abbr lookup'!A:B,2,FALSE)","v":"New England Patriots"},6,"RB64",null,187,187]
["SFBrandon Aiyuk",210,"Brandon Aiyuk","SF",{"$f":"VLOOKUP(D211,'team abbr lookup'!A:B,2,FALSE)","v":"San Francisco 49ers"},11,"WR71",196,192,194]
["CINTee Higgins",211,"Tee Higgins","CIN",{"$f":"VLOOKUP(D212,'team abbr lookup'!A:B,2,FALSE)","v":"Cincinnati Bengals"},9,"WR72",null,188,188]
["RB65Devonta Freeman",212,"Devonta Freeman","RB65",{"$f":"VLOOKUP(D213,'team abbr lookup'!A:B,2,FALSE)","v":{"$error":"#N/A"}},188,223,205.5,null,205.5]
["INDParris Campbell",213,"Parris Campbell","IND",{"$f":"VLOOKUP(D214,'team abbr lookup'!A:B,2,FALSE)","v":"Indianapolis Colts"},7,"WR73",null,189,189]
["GBMason Crosby",214,"Mason Crosby","GB",{"$f":"VLOOKUP(D215,'team abbr lookup'!A:B,2,FALSE)","v":"Green Bay Packers"},5,"K10",189,251,220]
["LARLos Angeles Rams",215,"Los Angeles Rams","LAR",{"$f":"VLOOKUP(D216,'team abbr lookup'!A:B,2,FALSE)","v":"Los Angeles Rams"},9,"DST10",null,190,190]
["MINIrv Smith Jr.",216,"Irv Smith Jr.","MIN",{"$f":"VLOOKUP(D217,'team abbr lookup'!A:B,2,FALSE)","v":"Minnesota Vikings"},7,"TE29",199,193,196]
["GBGreen Bay Packers",217,"Green Bay Packers","GB",{"$f":"VLOOKUP(D218,'team abbr lookup'!A:B,2,FALSE)","v":"Green Bay Packers"},5,"DST11",191,257,224]
["HOUKa'imi Fairbairn",218,"Ka'imi Fairbairn","HOU",{"$f":"VLOOKUP(D219,'team abbr lookup'!A:B,2,FALSE)","v":"Houston Texans"},8,"K11",192,244,218]
["PITJames Washington",219,"James Washington","PIT",{"$f":"VLOOKUP(D220,'team abbr lookup'!A:B,2,FALSE)","v":"Pittsburgh Steelers"},8,"WR74",null,194,194]
["TBMatt Gay",220,"Matt Gay","TB",{"$f":"VLOOKUP(D221,'team abbr lookup'!A:B,2,FALSE)","v":"Tampa Bay Buccaneers"},13,"K12",195,203,199]
["WASWashington Football Team",221,"Washington Football Team","WAS",{"$f":"VLOOKUP(D222,'team abbr lookup'!A:B,2,FALSE)","v":"Washington Football Team"},8,"DST12",197,207,202]
["LVBryan Edwards",222,"Bryan Edwards","LV",{"$f":"VLOOKUP(D223,'team abbr lookup'!A:B,2,FALSE)","v":"Las Vegas Raiders"},6,"WR75",null,199,199]
["SEAJosh Gordon",223,"Josh Gordon","SEA",{"$f":"VLOOKUP(D224,'team abbr lookup'!A:B,2,FALSE)","v":"Seattle Seahawks"},null,200,200,null,200]
["HOUKenny Stills",224,"Kenny Stills","HOU",{"$f":"VLOOKUP(D225,'team abbr lookup'!A:B,2,FALSE)","v":"Houston Texans"},8,"WR77",null,201,201]
["TENGreg Joseph",225,"Greg Joseph","TEN",{"$f":"VLOOKUP(D226,'team abbr lookup'!A:B,2,FALSE)","v":"Tennessee Titans"},7,"K13",null,206,206]
["BALJustice Hill",226,"Justice Hill","BAL",{"$f":"VLOOKUP(D227,'team abbr lookup'!A:B,2,FALSE)","v":"Baltimore Ravens"},8,"RB66",null,208,208]
["CINCincinnati Bengals",227,"Cincinnati Bengals","CIN",{"$f":"VLOOKUP(D228,'team abbr lookup'!A:B,2,FALSE)","v":"Cincinnati Bengals"},9,"DST13",null,209,209]
["TENDarrynton Evans",228,"Darrynton Evans","TEN",{"$f":"VLOOKUP(D229,'team abbr lookup'!A:B,2,FALSE)","v":"Tennessee Titans"},7,"RB67",null,211,211]
["ATLAtlanta Falcons",229,"Atlanta Falcons","ATL",{"$f":"VLOOKUP(D230,'team abbr lookup'!A:B,2,FALSE)","v":"Atlanta Falcons"},10,"DST14",null,213,213]
["HOURandall Cobb",230,"Randall Cobb","HOU",{"$f":"VLOOKUP(D231,'team abbr lookup'!A:B,2,FALSE)","v":"Houston Texans"},8,"WR78",null,214,214]
["LACLos Angeles Chargers",231,"Los Angeles Chargers","LAC",{"$f":"VLOOKUP(D232,'team abbr lookup'!A:B,2,FALSE)","v":"Los Angeles Chargers"},10,"DST15",null,215,215]
["BALDevin Duvernay",232,"Devin Duvernay","BAL",{"$f":"VLOOKUP(D233,'team abbr lookup'!A:B,2,FALSE)","v":"Baltimore Ravens"},8,"WR79",null,216,216]
["LARMalcolm Brown",233,"Malcolm Brown","LAR",{"$f":"VLOOKUP(D234,'team abbr lookup'!A:B,2,FALSE)","v":"Los Angeles Rams"},9,"RB68",null,217,217]
["BALWillie Snead",234,"Willie Snead","BAL",{"$f":"VLOOKUP(D235,'team abbr lookup'!A:B,2,FALSE)","v":"Baltimore Ravens"},8,"WR80",null,218,218]
["DENDenver Broncos",235,"Denver Broncos","DEN",{"$f":"VLOOKUP(D236,'team abbr lookup'!A:B,2,FALSE)","v":"Denver Broncos"},8,"DST16",null,219,219]
["LVLynn Bowden Jr.",236,"Lynn Bowden Jr.","LV",{"$f":"VLOOKUP(D237,'team abbr lookup'!A:B,2,FALSE)","v":"Las Vegas Raiders"},6,"RB69",null,220,220]
["BUFCole Beasley",237,"Cole Beasley","BUF",{"$f":"VLOOKUP(D238,'team abbr lookup'!A:B,2,FALSE)","v":"Buffalo Bills"},11,"WR81",null,221,221]
["PITAnthony McFarland Jr.",238,"Anthony McFarland Jr.","PIT",{"$f":"VLOOKUP(D239,'team abbr lookup'!A:B,2,FALSE)","v":"Pittsburgh Steelers"},8,"RB70",null,222,222]
["JACLaviska Shenault Jr.",239,"Laviska Shenault Jr.","JAC",{"$f":"VLOOKUP(D240,'team abbr lookup'!A:B,2,FALSE)","v":"Jacksonville Jaguars"},7,"WR82",null,225,225]
["PHIJalen Hurts",240,"Jalen Hurts","PHI",{"$f":"VLOOKUP(D241,'team abbr lookup'!A:B,2,FALSE)","v":"Philadelphia Eagles"},9,"QB30",null,226,226]
["CINGiovani Bernard",241,"Giovani Bernard","CIN",{"$f":"VLOOKUP(D242,'team abbr lookup'!A:B,2,FALSE)","v":"Cincinnati Bengals"},9,"RB71",null,228,228]
["BUFDawson Knox",242,"Dawson Knox","BUF",{"$f":"VLOOKUP(D243,'team abbr lookup'!A:B,2,FALSE)","v":"Buffalo Bills"},11,"TE30",null,229,229]
["MIAJason Sanders",243,"Jason Sanders","MIA",{"$f":"VLOOKUP(D244,'team abbr lookup'!A:B,2,FALSE)","v":"Miami Dolphins"},11,"K14",null,230,230]
["PHIPhiladelphia Eagles",244,"Philadelphia Eagles","PHI",{"$f":"VLOOKUP(D245,'team abbr lookup'!A:B,2,FALSE)","v":"Philadelphia Eagles"},9,"DST17",null,231,231]
["MIARyan Fitzpatrick",245,"Ryan Fitzpatrick","MIA",{"$f":"VLOOKUP(D246,'team abbr lookup'!A:B,2,FALSE)","v":"Miami Dolphins"},11,"QB31",null,232,232]
["LACJoshua Kelley",246,"Joshua Kelley","LAC",{"$f":"VLOOKUP(D247,'team abbr lookup'!A:B,2,FALSE)","v":"Los Angeles Chargers"},10,"RB72",null,233,233]
["DENRoyce Freeman",247,"Royce Freeman","DEN",{"$f":"VLOOKUP(D248,'team abbr lookup'!A:B,2,FALSE)","v":"Denver Broncos"},8,"RB73",null,234,234]
["WR83Mohamed Sanu",248,"Mohamed Sanu","WR83",{"$f":"VLOOKUP(D249,'team abbr lookup'!A:B,2,FALSE)","v":{"$error":"#N/A"}},null,235,235,null,235]
["NYJNew York Jets",249,"New York Jets","NYJ",{"$f":"VLOOKUP(D250,'team abbr lookup'!A:B,2,FALSE)","v":"New York Jets"},11,"DST18",null,236,236]
["DETDetroit Lions",250,"Detroit Lions","DET",{"$f":"VLOOKUP(D251,'team abbr lookup'!A:B,2,FALSE)","v":"Detroit Lions"},5,"DST19",null,237,237]
["CINC.J. Uzomah",251,"C.J. Uzomah","CIN",{"$f":"VLOOKUP(D252,'team abbr lookup'!A:B,2,FALSE)","v":"Cincinnati Bengals"},9,"TE31",null,238,238]
["TENTennessee Titans",252,"Tennessee Titans","TEN",{"$f":"VLOOKUP(D253,'team abbr lookup'!A:B,2,FALSE)","v":"Tennessee Titans"},7,"DST20",null,239,239]
["LACTaylor / Herbert",253,"Taylor / Herbert","LAC",{"$f":"VLOOKUP(D254,'team abbr lookup'!A:B,2,FALSE)","v":"Los Angeles Chargers"},10,"QB32",null,240,240]
["SEASeattle Seahawks",254,"Seattle Seahawks","SEA",{"$f":"VLOOKUP(D255,'team abbr lookup'!A:B,2,FALSE)","v":"Seattle Seahawks"},6,"DST21",null,241,241]
["BUFChristian Wade",255,"Christian Wade","BUF",{"$f":"VLOOKUP(D256,'team abbr lookup'!A:B,2,FALSE)","v":"Buffalo Bills"},11,"RB74",null,242,242]
["PHIJake Elliott",256,"Jake Elliott","PHI",{"$f":"VLOOKUP(D257,'team abbr lookup'!A:B,2,FALSE)","v":"Philadelphia Eagles"},9,"K15",null,245,245]
["CLEAustin Seibert",257,"Austin Seibert","CLE",{"$f":"VLOOKUP(D258,'team abbr lookup'!A:B,2,FALSE)","v":"Cleveland Browns"},9,"K16",null,246,246]
[{"$f":"_xlfn.CONCAT(D259,C259)","v":"ATLBrian Hill"},258,"Brian Hill","ATL",{"$f":"VLOOKUP(D259,'team abbr lookup'!A:B,2,FALSE)","v":"Atlanta Falcons"},10,"RB75",null,247,{"$f":"AVERAGE(H259,I259)","v":247}]
["INDChase McLaughlin",259,"Chase McLaughlin","IND",{"$f":"VLOOKUP(D260,'team abbr lookup'!A:B,2,FALSE)","v":"Indianapolis Colts"},7,"K17",null,248,248]
["PITChase Claypool",260,"Chase Claypool","PIT",{"$f":"VLOOKUP(D261,'team abbr lookup'!A:B,2,FALSE)","v":"Pittsburgh Steelers"},8,"WR84",null,249,249]
["GBJace Sternberger",261,"Jace Sternberger","GB",{"$f":"VLOOKUP(D262,'team abbr lookup'!A:B,2,FALSE)","v":"Green Bay Packers"},5,"TE32",null,252,252]
["ARIAndy Isabella",262,"Andy Isabella","ARI",{"$f":"VLOOKUP(D263,'team abbr lookup'!A:B,2,FALSE)","v":"Arizona Cardinals"},8,"WR85",null,253,253]
["NYJFrank Gore",263,"Frank Gore","NYJ",{"$f":"VLOOKUP(D264,'team abbr lookup'!A:B,2,FALSE)","v":"New York Jets"},11,"RB76",null,255,255]
["LVJalen Richard",264,"Jalen Richard","LV",{"$f":"VLOOKUP(D265,'team abbr lookup'!A:B,2,FALSE)","v":"Las Vegas Raiders"},6,"RB77",null,256,256]
["CLEDavid Njoku",265,"David Njoku","CLE",{"$f":"VLOOKUP(D266,'team abbr lookup'!A:B,2,FALSE)","v":"Cleveland Browns"},9,"TE33",null,258,258]
["PITBenny Snell Jr.",266,"Benny Snell Jr.","PIT",{"$f":"VLOOKUP(D267,'team abbr lookup'!A:B,2,FALSE)","v":"Pittsburgh Steelers"},8,"RB78",null,259,259]
["LARJosh Reynolds",267,"Josh Reynolds","LAR",{"$f":"VLOOKUP(D268,'team abbr lookup'!A:B,2,FALSE)","v":"Los Angeles Rams"},9,"WR86",null,260,260]
["SFKendrick Bourne",268,"Kendrick Bourne","SF",{"$f":"VLOOKUP(D269,'team abbr lookup'!A:B,2,FALSE)","v":"San Francisco 49ers"},11,"WR87",null,261,261]
["BALGus Edwards",269,"Gus Edwards","BAL",{"$f":"VLOOKUP(D270,'team abbr lookup'!A:B,2,FALSE)","v":"Baltimore Ravens"},8,"RB79",null,262,262]
["NEDevin Asiasi",270,"Devin Asiasi","NE",{"$f":"VLOOKUP(D271,'team abbr lookup'!A:B,2,FALSE)","v":"New England Patriots"},6,"TE34",null,263,263]
["CHIEddy Pineiro",271,"Eddy Pineiro","CHI",{"$f":"VLOOKUP(D272,'team abbr lookup'!A:B,2,FALSE)","v":"Chicago Bears"},11,"K18",null,264,264]
["PITJaylen Samuels",272,"Jaylen Samuels","PIT",{"$f":"VLOOKUP(D273,'team abbr lookup'!A:B,2,FALSE)","v":"Pittsburgh Steelers"},8,"RB80",null,265,265]
["DALDallas Cowboys",273,"Dallas Cowboys","DAL",{"$f":"VLOOKUP(D274,'team abbr lookup'!A:B,2,FALSE)","v":"Dallas Cowboys"},10,"DST22",null,266,266]
["DENBrandon McManus",274,"Brandon McManus","DEN",{"$f":"VLOOKUP(D275,'team abbr lookup'!A:B,2,FALSE)","v":"Denver Broncos"},8,"K19",null,267,267]
["NYGDion Lewis",275,"Dion Lewis","NYG",{"$f":"VLOOKUP(D276,'team abbr lookup'!A:B,2,FALSE)","v":"New York Giants"},11,"RB81",null,269,269]
["MINDan Bailey",276,"Dan Bailey","MIN",{"$f":"VLOOKUP(D277,'team abbr lookup'!A:B,2,FALSE)","v":"Minnesota Vikings"},7,"K20",null,271,271]
["CLECleveland Browns",277,"Cleveland Browns","CLE",{"$f":"VLOOKUP(D278,'team abbr lookup'!A:B,2,FALSE)","v":"Cleveland Browns"},9,"DST23",null,272,272]
["DETDanny Amendola",278,"Danny Amendola","DET",{"$f":"VLOOKUP(D279,'team abbr lookup'!A:B,2,FALSE)","v":"Detroit Lions"},5,"WR88",null,273,273]
["NOTre'Quan Smith",279,"Tre'Quan Smith","NO",{"$f":"VLOOKUP(D280,'team abbr lookup'!A:B,2,FALSE)","v":"New Orleans Saints"},6,"WR89",null,274,274]
["INDIndianapolis Colts",280,"Indianapolis Colts","IND",{"$f":"VLOOKUP(D281,'team abbr lookup'!A:B,2,FALSE)","v":"Indianapolis Colts"},7,"DST24",null,275,275]
["NYJLamical Perine",281,"Lamical Perine","NYJ",{"$f":"VLOOKUP(D282,'team abbr lookup'!A:B,2,FALSE)","v":"New York Jets"},11,"RB82",null,277,277]
["WASDwayne Haskins",282,"Dwayne Haskins","WAS",{"$f":"VLOOKUP(D283,'team abbr lookup'!A:B,2,FALSE)","v":"Washington Football Team"},8,"QB33",null,278,278]
["TBTampa Bay Buccaneers",283,"Tampa Bay Buccaneers","TB",{"$f":"VLOOKUP(D284,'team abbr lookup'!A:B,2,FALSE)","v":"Tampa Bay Buccaneers"},13,"DST25",null,279,279]
["ATLIto Smith",284,"Ito Smith","ATL",{"$f":"VLOOKUP(D285,'team abbr lookup'!A:B,2,FALSE)","v":"Atlanta Falcons"},10,"RB83",null,280,280]
["CARJoey Slye",285,"Joey Slye","CAR",{"$f":"VLOOKUP(D286,'team abbr lookup'!A:B,2,FALSE)","v":"Carolina Panthers"},13,"K21",null,281,281]
["WASDustin Hopkins",286,"Dustin Hopkins","WAS",{"$f":"VLOOKUP(D287,'team abbr lookup'!A:B,2,FALSE)","v":"Washington Football Team"},8,"K22",null,282,282]
["LARGerald Everett",287,"Gerald Everett","LAR",{"$f":"VLOOKUP(D288,'team abbr lookup'!A:B,2,FALSE)","v":"Los Angeles Rams"},9,"TE35",null,283,283]
["ATLYounghoe Koo",288,"Younghoe Koo","ATL",{"$f":"VLOOKUP(D289,'team abbr lookup'!A:B,2,FALSE)","v":"Atlanta Falcons"},10,"K23",null,284,284]
["KCDeAndre Washington",289,"DeAndre Washington","KC",{"$f":"VLOOKUP(D290,'team abbr lookup'!A:B,2,FALSE)","v":"Kansas City Chiefs"},10,"RB84",null,285,285]
["JACChris Conley",290,"Chris Conley","JAC",{"$f":"VLOOKUP(D291,'team abbr lookup'!A:B,2,FALSE)","v":"Jacksonville Jaguars"},7,"WR90",null,286,286]
["DENKJ Hamler",291,"KJ Hamler","DEN",{"$f":"VLOOKUP(D292,'team abbr lookup'!A:B,2,FALSE)","v":"Denver Broncos"},8,"WR91",null,287,287]
["SEAJason Myers",292,"Jason Myers","SEA",{"$f":"VLOOKUP(D293,'team abbr lookup'!A:B,2,FALSE)","v":"Seattle Seahawks"},6,"K24",null,288,288]
["LVDaniel Carlson",293,"Daniel Carlson","LV",{"$f":"VLOOKUP(D294,'team abbr lookup'!A:B,2,FALSE)","v":"Las Vegas Raiders"},6,"K25",null,290,290]
["PITChris Boswell",294,"Chris Boswell","PIT",{"$f":"VLOOKUP(D295,'team abbr lookup'!A:B,2,FALSE)","v":"Pittsburgh Steelers"},8,"K26",null,292,292]
["PITVance McDonald",295,"Vance McDonald","PIT",{"$f":"VLOOKUP(D296,'team abbr lookup'!A:B,2,FALSE)","v":"Pittsburgh Steelers"},8,"TE36",null,293,293]
["NERex Burkhead",296,"Rex Burkhead","NE",{"$f":"VLOOKUP(D297,'team abbr lookup'!A:B,2,FALSE)","v":"New England Patriots"},6,"RB85",null,294,294]
["CHICole Kmet",297,"Cole Kmet","CHI",{"$f":"VLOOKUP(D298,'team abbr lookup'!A:B,2,FALSE)","v":"Chicago Bears"},11,"TE37",null,295,295]
["NEJarrett Stidham",298,"Jarrett Stidham","NE",{"$f":"VLOOKUP(D299,'team abbr lookup'!A:B,2,FALSE)","v":"New England Patriots"},6,"QB34",null,296,296]
["ARIEno Benjamin",299,"Eno Benjamin","ARI",{"$f":"VLOOKUP(D300,'team abbr lookup'!A:B,2,FALSE)","v":"Arizona Cardinals"},8,"RB86",null,297,297]
["BALMiles Boykin",300,"Miles Boykin","BAL",{"$f":"VLOOKUP(D301,'team abbr lookup'!A:B,2,FALSE)","v":"Baltimore Ravens"},8,"WR92",null,298,298]
["CINRandy Bullock",301,"Randy Bullock","CIN",{"$f":"VLOOKUP(D302,'team abbr lookup'!A:B,2,FALSE)","v":"Cincinnati Bengals"},9,"K27",null,299,299]
["K28Stephen Hauschka",302,"Stephen Hauschka","K28",{"$f":"VLOOKUP(D303,'team abbr lookup'!A:B,2,FALSE)","v":{"$error":"#N/A"}},null,300,300,null,300]
["KCDarwin Thompson",303,"Darwin Thompson","KC",{"$f":"VLOOKUP(D304,'team abbr lookup'!A:B,2,FALSE)","v":"Kansas City Chiefs"},10,"RB87",null,301,301]
["CINAuden Tate",304,"Auden Tate","CIN",{"$f":"VLOOKUP(D305,'team abbr lookup'!A:B,2,FALSE)","v":"Cincinnati Bengals"},9,"WR93",null,302,302]
["LACJustin Herbert",305,"Justin Herbert","LAC",{"$f":"VLOOKUP(D306,'team abbr lookup'!A:B,2,FALSE)","v":"Los Angeles Chargers"},10,"QB35",null,303,303]
["INDZach Pascal",306,"Zach Pascal","IND",{"$f":"VLOOKUP(D307,'team abbr lookup'!A:B,2,FALSE)","v":"Indianapolis Colts"},7,"WR94",null,304,304]
["WASPeyton Barber",307,"Peyton Barber","WAS",{"$f":"VLOOKUP(D308,'team abbr lookup'!A:B,2,FALSE)","v":"Washington Football Team"},8,"RB88",null,305,305]
["HOUHouston Texans",308,"Houston Texans","HOU",{"$f":"VLOOKUP(D309,'team abbr lookup'!A:B,2,FALSE)","v":"Houston Texans"},8,"DST26",null,306,306]
["TENStephen Gostkowski",309,"Stephen Gostkowski","TEN",{"$f":"VLOOKUP(D310,'team abbr lookup'!A:B,2,FALSE)","v":"Tennessee Titans"},7,"K29",null,308,308]
["LVNelson Agholor",310,"Nelson Agholor","LV",{"$f":"VLOOKUP(D311,'team abbr lookup'!A:B,2,FALSE)","v":"Las Vegas Raiders"},6,"WR95",null,309,309]
["CHINick Foles",311,"Nick Foles","CHI",{"$f":"VLOOKUP(D312,'team abbr lookup'!A:B,2,FALSE)","v":"Chicago Bears"},11,"QB36",null,310,310]
["JACJosh Lambo",312,"Josh Lambo","JAC",{"$f":"VLOOKUP(D313,'team abbr lookup'!A:B,2,FALSE)","v":"Jacksonville Jaguars"},7,"K30",null,313,313]
["WASSteven Sims",313,"Steven Sims","WAS",{"$f":"VLOOKUP(D314,'team abbr lookup'!A:B,2,FALSE)","v":"Washington Football Team"},8,"WR96",null,314,314]
["SEAPhillip Dorsett",314,"Phillip Dorsett","SEA",{"$f":"VLOOKUP(D315,'team abbr lookup'!A:B,2,FALSE)","v":"Seattle Seahawks"},6,"WR97",null,316,316]
["TENAdam Humphries",315,"Adam Humphries","TEN",{"$f":"VLOOKUP(D316,'team abbr lookup'!A:B,2,FALSE)","v":"Tennessee Titans"},7,"WR98",null,317,317]
["TBCameron Brate",316,"Cameron Brate","TB",{"$f":"VLOOKUP(D317,'team abbr lookup'!A:B,2,FALSE)","v":"Tampa Bay Buccaneers"},13,"TE38",null,318,318]
["GBMarquez Valdes-Scantling",317,"Marquez Valdes-Scantling","GB",{"$f":"VLOOKUP(D318,'team abbr lookup'!A:B,2,FALSE)","v":"Green Bay Packers"},5,"WR99",null,320,320]
["ATLRussell Gage",318,"Russell Gage","ATL",{"$f":"VLOOKUP(D319,'team abbr lookup'!A:B,2,FALSE)","v":"Atlanta Falcons"},10,"WR100",null,321,321]
["SEAJacob Hollister",319,"Jacob Hollister","SEA",{"$f":"VLOOKUP(D320,'team abbr lookup'!A:B,2,FALSE)","v":"Seattle Seahawks"},6,"TE39",null,322,322]
["WASBryce Love",320,"Bryce Love","WAS",{"$f":"VLOOKUP(D321,'team abbr lookup'!A:B,2,FALSE)","v":"Washington Football Team"},8,"RB89",null,323,323]
["CHIMitch Trubisky",321,"Mitch Trubisky","CHI",{"$f":"VLOOKUP(D322,'team abbr lookup'!A:B,2,FALSE)","v":"Chicago Bears"},11,"QB37",null,324,324]
[{"$f":"_xlfn.CONCAT(D323,C323)","v":"MIAPatrick Laird"},322,"Patrick Laird","MIA",{"$f":"VLOOKUP(D323,'team abbr lookup'!A:B,2,FALSE)","v":"Miami Dolphins"},11,"RB90",null,325,{"$f":"AVERAGE(H323,I323)","v":325}]
["LARSam Sloman",323,"Sam Sloman","LAR",{"$f":"VLOOKUP(D324,'team abbr lookup'!A:B,2,FALSE)","v":"Los Angeles Rams"},9,"K31",null,326,326]
["WASLogan Thomas",324,"Logan Thomas","WAS",{"$f":"VLOOKUP(D325,'team abbr lookup'!A:B,2,FALSE)","v":"Washington Football Team"},8,"TE40",null,327,327]
["KCDemarcus Robinson",325,"Demarcus Robinson","KC",{"$f":"VLOOKUP(D326,'team abbr lookup'!A:B,2,FALSE)","v":"Kansas City Chiefs"},10,"WR101",null,328,328]
["NYJSam Ficken",326,"Sam Ficken","NYJ",{"$f":"VLOOKUP(D327,'team abbr lookup'!A:B,2,FALSE)","v":"New York Jets"},11,"K32",null,329,329]
["JACJacksonville Jaguars",327,"Jacksonville Jaguars","JAC",{"$f":"VLOOKUP(D328,'team abbr lookup'!A:B,2,FALSE)","v":"Jacksonville Jaguars"},7,"DST27",null,330,330]
["PHIJ.J. Arcega-Whiteside",328,"J.J. Arcega-Whiteside","PHI",{"$f":"VLOOKUP(D329,'team abbr lookup'!A:B,2,FALSE)","v":"Philadelphia Eagles"},9,"WR102",null,331,331]
["HOUDarren Fells",329,"Darren Fells","HOU",{"$f":"VLOOKUP(D330,'team abbr lookup'!A:B,2,FALSE)","v":"Houston Texans"},8,"TE41",null,332,332]
["TBDare Ogunbowale",330,"Dare Ogunbowale","TB",{"$f":"VLOOKUP(D331,'team abbr lookup'!A:B,2,FALSE)","v":"Tampa Bay Buccaneers"},13,"RB91",null,333,333]
["MINMike Boone",331,"Mike Boone","MIN",{"$f":"VLOOKUP(D332,'team abbr lookup'!A:B,2,FALSE)","v":"Minnesota Vikings"},7,"RB92",null,334,334]
["SEADavid Moore",332,"David Moore","SEA",{"$f":"VLOOKUP(D333,'team abbr lookup'!A:B,2,FALSE)","v":"Seattle Seahawks"},6,"WR103",null,335,335]
["INDTrey Burton",333,"Trey Burton","IND",{"$f":"VLOOKUP(D334,'team abbr lookup'!A:B,2,FALSE)","v":"Indianapolis Colts"},7,"TE42",null,336,336]
["LVMarcus Mariota",334,"Marcus Mariota","LV",{"$f":"VLOOKUP(D335,'team abbr lookup'!A:B,2,FALSE)","v":"Las Vegas Raiders"},6,"QB38",null,337,337]
["MINTajae Sharpe",335,"Tajae Sharpe","MIN",{"$f":"VLOOKUP(D336,'team abbr lookup'!A:B,2,FALSE)","v":"Minnesota Vikings"},7,"WR104",null,338,338]
["LARVan Jefferson",336,"Van Jefferson","LAR",{"$f":"VLOOKUP(D337,'team abbr lookup'!A:B,2,FALSE)","v":"Los Angeles Rams"},9,"WR105",null,339,339]
["K33Aldrick Rosas",337,"Aldrick Rosas","K33",{"$f":"VLOOKUP(D338,'team abbr lookup'!A:B,2,FALSE)","v":{"$error":"#N/A"}},null,340,340,null,340]
["PITMason Rudolph",338,"Mason Rudolph","PIT",{"$f":"VLOOKUP(D339,'team abbr lookup'!A:B,2,FALSE)","v":"Pittsburgh Steelers"},8,"QB39",null,341,341]
["NEJakobi Meyers",339,"Jakobi Meyers","NE",{"$f":"VLOOKUP(D340,'team abbr lookup'!A:B,2,FALSE)","v":"New England Patriots"},6,"WR106",null,342,342]
["NYGKaden Smith",340,"Kaden Smith","NYG",{"$f":"VLOOKUP(D341,'team abbr lookup'!A:B,2,FALSE)","v":"New York Giants"},11,"TE43",null,343,343]
["CARReggie Bonnafon",341,"Reggie Bonnafon","CAR",{"$f":"VLOOKUP(D342,'team abbr lookup'!A:B,2,FALSE)","v":"Carolina Panthers"},13,"RB93",null,344,344]
["SFKyle Juszczyk",342,"Kyle Juszczyk","SF",{"$f":"VLOOKUP(D343,'team abbr lookup'!A:B,2,FALSE)","v":"San Francisco 49ers"},11,"RB94",null,345,345]
["KCDarrel Williams",343,"Darrel Williams","KC",{"$f":"VLOOKUP(D344,'team abbr lookup'!A:B,2,FALSE)","v":"Kansas City Chiefs"},10,"RB95",null,346,346]
["WASAntonio Gandy-Golden",344,"Antonio Gandy-Golden","WAS",{"$f":"VLOOKUP(D345,'team abbr lookup'!A:B,2,FALSE)","v":"Washington Football Team"},8,"WR107",null,347,347]
["NOJameis Winston",345,"Jameis Winston","NO",{"$f":"VLOOKUP(D346,'team abbr lookup'!A:B,2,FALSE)","v":"New Orleans Saints"},6,"QB40",null,348,348]
["MIAMiami Dolphins",346,"Miami Dolphins","MIA",{"$f":"VLOOKUP(D347,'team abbr lookup'!A:B,2,FALSE)","v":"Miami Dolphins"},11,"DST28",null,349,349]
["MIAKirk Merritt",347,"Kirk Merritt","MIA",{"$f":"VLOOKUP(D348,'team abbr lookup'!A:B,2,FALSE)","v":"Miami Dolphins"},11,"WR108",null,350,350]
["PHIGreg Ward",348,"Greg Ward","PHI",{"$f":"VLOOKUP(D349,'team abbr lookup'!A:B,2,FALSE)","v":"Philadelphia Eagles"},9,"WR109",null,351,351]
["ARIDan Arnold",349,"Dan Arnold","ARI",{"$f":"VLOOKUP(D350,'team abbr lookup'!A:B,2,FALSE)","v":"Arizona Cardinals"},8,"TE44",null,352,352]
["SFJaMycal Hasty",350,"JaMycal Hasty","SF",{"$f":"VLOOKUP(D351,'team abbr lookup'!A:B,2,FALSE)","v":"San Francisco 49ers"},11,"RB96",null,353,353]
["LARLirim Hajrullahu",351,"Lirim Hajrullahu","LAR",{"$f":"VLOOKUP(D352,'team abbr lookup'!A:B,2,FALSE)","v":"Los Angeles Rams"},9,"K34",null,354,354]
["CHIArtavis Pierce",352,"Artavis Pierce","CHI",{"$f":"VLOOKUP(D353,'team abbr lookup'!A:B,2,FALSE)","v":"Chicago Bears"},11,"RB97",null,355,355]
["ARIArizona Cardinals",353,"Arizona Cardinals","ARI",{"$f":"VLOOKUP(D354,'team abbr lookup'!A:B,2,FALSE)","v":"Arizona Cardinals"},8,"DST29",null,356,356]
["MINOlabisi Johnson",354,"Olabisi Johnson","MIN",{"$f":"VLOOKUP(D355,'team abbr lookup'!A:B,2,FALSE)","v":"Minnesota Vikings"},7,"WR110",null,357,357]
["K35Elliott Fry",355,"Elliott Fry","K35",{"$f":"VLOOKUP(D356,'team abbr lookup'!A:B,2,FALSE)","v":{"$error":"#N/A"}},null,358,358,null,358]
["CINDrew Sample",356,"Drew Sample","CIN",{"$f":"VLOOKUP(D357,'team abbr lookup'!A:B,2,FALSE)","v":"Cincinnati Bengals"},9,"TE45",null,359,359]
["TBScott Miller",357,"Scott Miller","TB",{"$f":"VLOOKUP(D358,'team abbr lookup'!A:B,2,FALSE)","v":"Tampa Bay Buccaneers"},13,"WR111",null,360,360]
["BUFT.J. Yeldon",358,"T.J. Yeldon","BUF",{"$f":"VLOOKUP(D359,'team abbr lookup'!A:B,2,FALSE)","v":"Buffalo Bills"},11,"RB98",null,361,361]
["MIAKalen Ballage",359,"Kalen Ballage","MIA",{"$f":"VLOOKUP(D360,'team abbr lookup'!A:B,2,FALSE)","v":"Miami Dolphins"},11,"RB99",null,362,362]
["GBJosiah Deguara",360,"Josiah Deguara","GB",{"$f":"VLOOKUP(D361,'team abbr lookup'!A:B,2,FALSE)","v":"Green Bay Packers"},5,"TE46",null,363,363]
["WASJ.D. McKissic",361,"J.D. McKissic","WAS",{"$f":"VLOOKUP(D362,'team abbr lookup'!A:B,2,FALSE)","v":"Washington Football Team"},8,"RB100",null,364,364]
["DETBo Scarbrough",362,"Bo Scarbrough","DET",{"$f":"VLOOKUP(D363,'team abbr lookup'!A:B,2,FALSE)","v":"Detroit Lions"},5,"RB101",null,365,365]
["GBJordan Love",363,"Jordan Love","GB",{"$f":"VLOOKUP(D364,'team abbr lookup'!A:B,2,FALSE)","v":"Green Bay Packers"},5,"QB41",null,366,366]
["JACDevine Ozigbo",364,"Devine Ozigbo","JAC",{"$f":"VLOOKUP(D365,'team abbr lookup'!A:B,2,FALSE)","v":"Jacksonville Jaguars"},7,"RB102",null,367,367]
["WASKyle Allen",365,"Kyle Allen","WAS",{"$f":"VLOOKUP(D366,'team abbr lookup'!A:B,2,FALSE)","v":"Washington Football Team"},8,"QB42",null,368,368]
["SFDante Pettis",366,"Dante Pettis","SF",{"$f":"VLOOKUP(D367,'team abbr lookup'!A:B,2,FALSE)","v":"San Francisco 49ers"},11,"WR112",null,369,369]
["CHITed Ginn",367,"Ted Ginn","CHI",{"$f":"VLOOKUP(D368,'team abbr lookup'!A:B,2,FALSE)","v":"Chicago Bears"},11,"WR113",null,370,370]
["LVJason Witten",368,"Jason Witten","LV",{"$f":"VLOOKUP(D369,'team abbr lookup'!A:B,2,FALSE)","v":"Las Vegas Raiders"},6,"TE47",null,371,371]
["CARCarolina Panthers",369,"Carolina Panthers","CAR",{"$f":"VLOOKUP(D370,'team abbr lookup'!A:B,2,FALSE)","v":"Carolina Panthers"},13,"DST30",null,372,372]
["ARIHakeem Butler",370,"Hakeem Butler","ARI",{"$f":"VLOOKUP(D371,'team abbr lookup'!A:B,2,FALSE)","v":"Arizona Cardinals"},8,"WR114",null,373,373]
["SEADeeJay Dallas",371,"DeeJay Dallas","SEA",{"$f":"VLOOKUP(D372,'team abbr lookup'!A:B,2,FALSE)","v":"Seattle Seahawks"},6,"RB103",null,374,374]
["DETQuintez Cephus",372,"Quintez Cephus","DET",{"$f":"VLOOKUP(D373,'team abbr lookup'!A:B,2,FALSE)","v":"Detroit Lions"},5,"WR115",null,375,375]
["CARMike Davis",373,"Mike Davis","CAR",{"$f":"VLOOKUP(D374,'team abbr lookup'!A:B,2,FALSE)","v":"Carolina Panthers"},13,"RB104",null,376,376]
["BUFTyler Bass",374,"Tyler Bass","BUF",{"$f":"VLOOKUP(D375,'team abbr lookup'!A:B,2,FALSE)","v":"Buffalo Bills"},11,"K36",null,377,377]
["NOAdam Trautman",375,"Adam Trautman","NO",{"$f":"VLOOKUP(D376,'team abbr lookup'!A:B,2,FALSE)","v":"New Orleans Saints"},6,"TE48",null,378,378]
["SFTavon Austin",376,"Tavon Austin","SF",{"$f":"VLOOKUP(D377,'team abbr lookup'!A:B,2,FALSE)","v":"San Francisco 49ers"},11,"WR116",null,379,379]
["LARJohn Kelly",377,"John Kelly","LAR",{"$f":"VLOOKUP(D378,'team abbr lookup'!A:B,2,FALSE)","v":"Los Angeles Rams"},9,"RB105",null,380,380]
["SFTrent Taylor",378,"Trent Taylor","SF",{"$f":"VLOOKUP(D379,'team abbr lookup'!A:B,2,FALSE)","v":"San Francisco 49ers"},11,"WR117",null,381,381]
["NOTy Montgomery",379,"Ty Montgomery","NO",{"$f":"VLOOKUP(D380,'team abbr lookup'!A:B,2,FALSE)","v":"New Orleans Saints"},6,"RB106",null,382,382]
["PHICorey Clement",380,"Corey Clement","PHI",{"$f":"VLOOKUP(D381,'team abbr lookup'!A:B,2,FALSE)","v":"Philadelphia Eagles"},9,"RB107",null,383,383]
["NODeonte Harris",381,"Deonte Harris","NO",{"$f":"VLOOKUP(D382,'team abbr lookup'!A:B,2,FALSE)","v":"New Orleans Saints"},6,"WR118",null,384,384]
["TBRyan Succop",382,"Ryan Succop","TB",{"$f":"VLOOKUP(D383,'team abbr lookup'!A:B,2,FALSE)","v":"Tampa Bay Buccaneers"},13,"K37",null,385,385]
["K38Brett Maher",383,"Brett Maher","K38",{"$f":"VLOOKUP(D384,'team abbr lookup'!A:B,2,FALSE)","v":{"$error":"#N/A"}},null,386,386,null,386]
["PHIJohn Hightower",384,"John Hightower","PHI",{"$f":"VLOOKUP(D385,'team abbr lookup'!A:B,2,FALSE)","v":"Philadelphia Eagles"},9,"WR119",null,387,387]

{"sheet":"standard adp","index":12,"n_rows":333,"n_cols":10,"rows_kept":333,"cut":false,"hidden":false,"merged":[]}
["Code","Rank","Player","Team","Team Name","Bye","POS","MFL","Fantrax","AVG"]
[{"$f":"_xlfn.CONCAT(D2,C2)","v":"CARChristian McCaffrey"},1,"Christian McCaffrey","CAR",{"$f":"VLOOKUP(D2,'team abbr lookup'!A:B,2,FALSE)","v":"Carolina Panthers"},13,"RB1",1,1,{"$f":"AVERAGE(H2,I2)","v":1}]
[{"$f":"_xlfn.CONCAT(D3,C3)","v":"DALEzekiel Elliott"},2,"Ezekiel Elliott","DAL",{"$f":"VLOOKUP(D3,'team abbr lookup'!A:B,2,FALSE)","v":"Dallas Cowboys"},10,"RB2",3,2,{"$f":"AVERAGE(H3,I3)","v":2.5}]
["NYGSaquon Barkley",3,"Saquon Barkley","NYG",{"$f":"VLOOKUP(D4,'team abbr lookup'!A:B,2,FALSE)","v":"New York Giants"},11,"RB3",2,3,2.5]
["TENDerrick Henry",4,"Derrick Henry","TEN",{"$f":"VLOOKUP(D5,'team abbr lookup'!A:B,2,FALSE)","v":"Tennessee Titans"},7,"RB4",4,6,5]
["MINDalvin Cook",5,"Dalvin Cook","MIN",{"$f":"VLOOKUP(D6,'team abbr lookup'!A:B,2,FALSE)","v":"Minnesota Vikings"},7,"RB5",5,5,5]
["NOMichael Thomas",6,"Michael Thomas","NO",{"$f":"VLOOKUP(D7,'team abbr lookup'!A:B,2,FALSE)","v":"New Orleans Saints"},6,"WR1",7,4,5.5]
["NOAlvin Kamara",7,"Alvin Kamara","NO",{"$f":"VLOOKUP(D8,'team abbr lookup'!A:B,2,FALSE)","v":"New Orleans Saints"},6,"RB6",6,7,6.5]
["GBDavante Adams",8,"Davante Adams","GB",{"$f":"VLOOKUP(D9,'team abbr lookup'!A:B,2,FALSE)","v":"Green Bay Packers"},5,"WR2",12,9,10.5]
["CLENick Chubb",9,"Nick Chubb","CLE",{"$f":"VLOOKUP(D10,'team abbr lookup'!A:B,2,FALSE)","v":"Cleveland Browns"},9,"RB7",11,12,11.5]
["KCTyreek Hill",10,"Tyreek Hill","KC",{"$f":"VLOOKUP(D11,'team abbr lookup'!A:B,2,FALSE)","v":"Kansas City Chiefs"},10,"WR3",16,8,12]
["CINJoe Mixon",11,"Joe Mixon","CIN",{"$f":"VLOOKUP(D12,'team abbr lookup'!A:B,2,FALSE)","v":"Cincinnati Bengals"},9,"RB8",15,10,12.5]
["ATLJulio Jones",12,"Julio Jones","ATL",{"$f":"VLOOKUP(D13,'team abbr lookup'!A:B,2,FALSE)","v":"Atlanta Falcons"},10,"WR4",17,11,14]
["LVJosh Jacobs",13,"Josh Jacobs","LV",{"$f":"VLOOKUP(D14,'team abbr lookup'!A:B,2,FALSE)","v":"Las Vegas Raiders"},6,"RB9",14,14,14]
["KCClyde Edwards-Helaire",14,"Clyde Edwards-Helaire","KC",{"$f":"VLOOKUP(D15,'team abbr lookup'!A:B,2,FALSE)","v":"Kansas City Chiefs"},10,"RB10",9,21,15]
["ARIDeAndre Hopkins",15,"DeAndre Hopkins","ARI",{"$f":"VLOOKUP(D16,'team abbr lookup'!A:B,2,FALSE)","v":"Arizona Cardinals"},8,"WR5",20,13,16.5]
["GBAaron Jones",16,"Aaron Jones","GB",{"$f":"VLOOKUP(D17,'team abbr lookup'!A:B,2,FALSE)","v":"Green Bay Packers"},5,"RB11",13,20,16.5]
["BALLamar Jackson",17,"Lamar Jackson","BAL",{"$f":"VLOOKUP(D18,'team abbr lookup'!A:B,2,FALSE)","v":"Baltimore Ravens"},8,"QB1",10,24,17]
["KCTravis Kelce",18,"Travis Kelce","KC",{"$f":"VLOOKUP(D19,'team abbr lookup'!A:B,2,FALSE)","v":"Kansas City Chiefs"},10,"TE1",18,16,17]
["KCPatrick Mahomes",19,"Patrick Mahomes","KC",{"$f":"VLOOKUP(D20,'team abbr lookup'!A:B,2,FALSE)","v":"Kansas City Chiefs"},10,"QB2",8,27,17.5]
["TBChris Godwin",20,"Chris Godwin","TB",{"$f":"VLOOKUP(D21,'team abbr lookup'!A:B,2,FALSE)","v":"Tampa Bay Buccaneers"},13,"WR6",23,15,19]
["ARIKenyan Drake",21,"Kenyan Drake","ARI",{"$f":"VLOOKUP(D22,'team abbr lookup'!A:B,2,FALSE)","v":"Arizona Cardinals"},8,"RB12",22,17,19.5]
["PHIMiles Sanders",22,"Miles Sanders","PHI",{"$f":"VLOOKUP(D23,'team abbr lookup'!A:B,2,FALSE)","v":"Philadelphia Eagles"},9,"RB13",19,23,21]
["SFGeorge Kittle",23,"George Kittle","SF",{"$f":"VLOOKUP(D24,'team abbr lookup'!A:B,2,FALSE)","v":"San Francisco 49ers"},11,"TE2",25,18,21.5]
["DETKenny Golladay",24,"Kenny Golladay","DET",{"$f":"VLOOKUP(D25,'team abbr lookup'!A:B,2,FALSE)","v":"Detroit Lions"},5,"WR7",27,19,23]
["LACAustin Ekeler",25,"Austin Ekeler","LAC",{"$f":"VLOOKUP(D26,'team abbr lookup'!A:B,2,FALSE)","v":"Los Angeles Chargers"},10,"RB14",21,25,23]
["TBMike Evans",26,"Mike Evans","TB",{"$f":"VLOOKUP(D27,'team abbr lookup'!A:B,2,FALSE)","v":"Tampa Bay Buccaneers"},13,"WR8",26,22,24]
["DALAmari Cooper",27,"Amari Cooper","DAL",{"$f":"VLOOKUP(D28,'team abbr lookup'!A:B,2,FALSE)","v":"Dallas Cowboys"},10,"WR9",28,28,28]
["ATLTodd Gurley",28,"Todd Gurley","ATL",{"$f":"VLOOKUP(D29,'team abbr lookup'!A:B,2,FALSE)","v":"Atlanta Falcons"},10,"RB15",24,33,28.5]
["CLEOdell Beckham Jr.",29,"Odell Beckham Jr.","CLE",{"$f":"VLOOKUP(D30,'team abbr lookup'!A:B,2,FALSE)","v":"Cleveland Browns"},9,"WR10",36,26,31]
["PITJuJu Smith-Schuster",30,"JuJu Smith-Schuster","PIT",{"$f":"VLOOKUP(D31,'team abbr lookup'!A:B,2,FALSE)","v":"Pittsburgh Steelers"},8,"WR11",33,31,32]
["SEAChris Carson",31,"Chris Carson","SEA",{"$f":"VLOOKUP(D32,'team abbr lookup'!A:B,2,FALSE)","v":"Seattle Seahawks"},6,"RB16",31,34,32.5]
["INDJonathan Taylor",32,"Jonathan Taylor","IND",{"$f":"VLOOKUP(D33,'team abbr lookup'!A:B,2,FALSE)","v":"Indianapolis Colts"},7,"RB17",32,40,36]
["TBLeonard Fournette",33,"Leonard Fournette","TB",{"$f":"VLOOKUP(D34,'team abbr lookup'!A:B,2,FALSE)","v":"Tampa Bay Buccaneers"},13,"RB18",35,38,36.5]
["TENA.J. Brown",34,"A.J. Brown","TEN",{"$f":"VLOOKUP(D35,'team abbr lookup'!A:B,2,FALSE)","v":"Tennessee Titans"},7,"WR12",44,30,37]
["MINAdam Thielen",35,"Adam Thielen","MIN",{"$f":"VLOOKUP(D36,'team abbr lookup'!A:B,2,FALSE)","v":"Minnesota Vikings"},7,"WR13",37,37,37]
["LARCooper Kupp",36,"Cooper Kupp","LAR",{"$f":"VLOOKUP(D37,'team abbr lookup'!A:B,2,FALSE)","v":"Los Angeles Rams"},9,"WR14",39,36,37.5]
["BALMark Andrews",37,"Mark Andrews","BAL",{"$f":"VLOOKUP(D38,'team abbr lookup'!A:B,2,FALSE)","v":"Baltimore Ravens"},8,"TE3",47,29,38]
["CHIAllen Robinson",38,"Allen Robinson","CHI",{"$f":"VLOOKUP(D39,'team abbr lookup'!A:B,2,FALSE)","v":"Chicago Bears"},11,"WR15",46,32,39]
["HOUDavid Johnson",39,"David Johnson","HOU",{"$f":"VLOOKUP(D40,'team abbr lookup'!A:B,2,FALSE)","v":"Houston Texans"},8,"RB19",41,44,42.5]
["HOUDeshaun Watson",40,"Deshaun Watson","HOU",{"$f":"VLOOKUP(D41,'team abbr lookup'!A:B,2,FALSE)","v":"Houston Texans"},8,"QB3",29,57,43]
["CARD.J. Moore",41,"D.J. Moore","CAR",{"$f":"VLOOKUP(D42,'team abbr lookup'!A:B,2,FALSE)","v":"Carolina Panthers"},13,"WR16",51,35,43]
["ATLCalvin Ridley",42,"Calvin Ridley","ATL",{"$f":"VLOOKUP(D43,'team abbr lookup'!A:B,2,FALSE)","v":"Atlanta Falcons"},10,"WR17",48,41,44.5]
["DALDak Prescott",43,"Dak Prescott","DAL",{"$f":"VLOOKUP(D44,'team abbr lookup'!A:B,2,FALSE)","v":"Dallas Cowboys"},10,"QB4",38,52,45]
["BALMark Ingram",44,"Mark Ingram","BAL",{"$f":"VLOOKUP(D45,'team abbr lookup'!A:B,2,FALSE)","v":"Baltimore Ravens"},8,"RB20",40,50,45]
["PITJames Conner",45,"James Conner","PIT",{"$f":"VLOOKUP(D46,'team abbr lookup'!A:B,2,FALSE)","v":"Pittsburgh Steelers"},8,"RB21",30,61,45.5]
["DENMelvin Gordon",46,"Melvin Gordon","DEN",{"$f":"VLOOKUP(D47,'team abbr lookup'!A:B,2,FALSE)","v":"Denver Broncos"},8,"RB22",45,46,45.5]
["SFRaheem Mostert",47,"Raheem Mostert","SF",{"$f":"VLOOKUP(D48,'team abbr lookup'!A:B,2,FALSE)","v":"San Francisco 49ers"},11,"RB23",34,62,48]
["SEATyler Lockett",48,"Tyler Lockett","SEA",{"$f":"VLOOKUP(D49,'team abbr lookup'!A:B,2,FALSE)","v":"Seattle Seahawks"},6,"WR18",49,47,48]
["DENCourtland Sutton",49,"Courtland Sutton","DEN",{"$f":"VLOOKUP(D50,'team abbr lookup'!A:B,2,FALSE)","v":"Denver Broncos"},8,"WR19",58,39,48.5]
["PHIZach Ertz",50,"Zach Ertz","PHI",{"$f":"VLOOKUP(D51,'team abbr lookup'!A:B,2,FALSE)","v":"Philadelphia Eagles"},9,"TE4",55,43,49]
["NYJLe'Veon Bell",51,"Le'Veon Bell","NYJ",{"$f":"VLOOKUP(D52,'team abbr lookup'!A:B,2,FALSE)","v":"New York Jets"},11,"RB24",43,56,49.5]
["MIADeVante Parker",52,"DeVante Parker","MIA",{"$f":"VLOOKUP(D53,'team abbr lookup'!A:B,2,FALSE)","v":"Miami Dolphins"},11,"WR20",60,42,51]
["LACKeenan Allen",53,"Keenan Allen","LAC",{"$f":"VLOOKUP(D54,'team abbr lookup'!A:B,2,FALSE)","v":"Los Angeles Chargers"},10,"WR21",57,45,51]
["SEAD.K. Metcalf",54,"D.K. Metcalf","SEA",{"$f":"VLOOKUP(D55,'team abbr lookup'!A:B,2,FALSE)","v":"Seattle Seahawks"},6,"WR22",54,49,51.5]
["LARRobert Woods",55,"Robert Woods","LAR",{"$f":"VLOOKUP(D56,'team abbr lookup'!A:B,2,FALSE)","v":"Los Angeles Rams"},9,"WR23",56,48,52]
["SEARussell Wilson",56,"Russell Wilson","SEA",{"$f":"VLOOKUP(D57,'team abbr lookup'!A:B,2,FALSE)","v":"Seattle Seahawks"},6,"QB5",42,64,53]
["BUFStefon Diggs",57,"Stefon Diggs","BUF",{"$f":"VLOOKUP(D58,'team abbr lookup'!A:B,2,FALSE)","v":"Buffalo Bills"},11,"WR24",59,53,56]
["ARIKyler Murray",58,"Kyler Murray","ARI",{"$f":"VLOOKUP(D59,'team abbr lookup'!A:B,2,FALSE)","v":"Arizona Cardinals"},8,"QB6",53,59,56]
["BUFDevin Singletary",59,"Devin Singletary","BUF",{"$f":"VLOOKUP(D60,'team abbr lookup'!A:B,2,FALSE)","v":"Buffalo Bills"},11,"RB25",50,65,57.5]
["JACDJ Chark",60,"DJ Chark","JAC",{"$f":"VLOOKUP(D61,'team abbr lookup'!A:B,2,FALSE)","v":"Jacksonville Jaguars"},7,"WR25",62,54,58]
["INDT.Y. Hilton",61,"T.Y. Hilton","IND",{"$f":"VLOOKUP(D62,'team abbr lookup'!A:B,2,FALSE)","v":"Indianapolis Colts"},7,"WR26",66,55,60.5]
["CINA.J. Green",62,"A.J. Green","CIN",{"$f":"VLOOKUP(D63,'team abbr lookup'!A:B,2,FALSE)","v":"Cincinnati Bengals"},9,"WR27",65,58,61.5]
["LVDarren Waller",63,"Darren Waller","LV",{"$f":"VLOOKUP(D64,'team abbr lookup'!A:B,2,FALSE)","v":"Las Vegas Raiders"},6,"TE5",73,51,62]
["WASTerry McLaurin",64,"Terry McLaurin","WAS",{"$f":"VLOOKUP(D65,'team abbr lookup'!A:B,2,FALSE)","v":"Washington Football Team"},8,"WR28",61,63,62]
["LARCam Akers",65,"Cam Akers","LAR",{"$f":"VLOOKUP(D66,'team abbr lookup'!A:B,2,FALSE)","v":"Los Angeles Rams"},9,"RB26",52,73,62.5]
[{"$f":"_xlfn.CONCAT(D67,C67)","v":"CHIDavid Montgomery"},66,"David Montgomery","CHI",{"$f":"VLOOKUP(D67,'team abbr lookup'!A:B,2,FALSE)","v":"Chicago Bears"},11,"RB27",69,60,{"$f":"AVERAGE(H67,I67)","v":64.5}]
["DETD'Andre Swift",67,"D'Andre Swift","DET",{"$f":"VLOOKUP(D68,'team abbr lookup'!A:B,2,FALSE)","v":"Detroit Lions"},5,"RB28",68,66,67]
["CLEJarvis Landry",68,"Jarvis Landry","CLE",{"$f":"VLOOKUP(D69,'team abbr lookup'!A:B,2,FALSE)","v":"Cleveland Browns"},9,"WR29",75,68,71.5]
["NODrew Brees",69,"Drew Brees","NO",{"$f":"VLOOKUP(D70,'team abbr lookup'!A:B,2,FALSE)","v":"New Orleans Saints"},6,"QB7",64,80,72]
["CLEKareem Hunt",70,"Kareem Hunt","CLE",{"$f":"VLOOKUP(D71,'team abbr lookup'!A:B,2,FALSE)","v":"Cleveland Browns"},9,"RB29",63,82,72.5]
["BUFJosh Allen",71,"Josh Allen","BUF",{"$f":"VLOOKUP(D72,'team abbr lookup'!A:B,2,FALSE)","v":"Buffalo Bills"},11,"QB8",77,71,74]
["TBRob Gronkowski",72,"Rob Gronkowski","TB",{"$f":"VLOOKUP(D73,'team abbr lookup'!A:B,2,FALSE)","v":"Tampa Bay Buccaneers"},13,"TE6",71,78,74.5]
["DALMichael Gallup",73,"Michael Gallup","DAL",{"$f":"VLOOKUP(D74,'team abbr lookup'!A:B,2,FALSE)","v":"Dallas Cowboys"},10,"WR30",79,72,75.5]
["BALMarquise Brown",74,"Marquise Brown","BAL",{"$f":"VLOOKUP(D75,'team abbr lookup'!A:B,2,FALSE)","v":"Baltimore Ravens"},8,"WR31",76,75,75.5]
["NEJulian Edelman",75,"Julian Edelman","NE",{"$f":"VLOOKUP(D76,'team abbr lookup'!A:B,2,FALSE)","v":"New England Patriots"},6,"WR32",84,70,77]
["ATLMatt Ryan",76,"Matt Ryan","ATL",{"$f":"VLOOKUP(D77,'team abbr lookup'!A:B,2,FALSE)","v":"Atlanta Falcons"},10,"QB9",72,85,78.5]
["GBAaron Rodgers",77,"Aaron Rodgers","GB",{"$f":"VLOOKUP(D78,'team abbr lookup'!A:B,2,FALSE)","v":"Green Bay Packers"},5,"QB10",74,84,79]
["CINTyler Boyd",78,"Tyler Boyd","CIN",{"$f":"VLOOKUP(D79,'team abbr lookup'!A:B,2,FALSE)","v":"Cincinnati Bengals"},9,"WR33",82,76,79]
["TBTom Brady",79,"Tom Brady","TB",{"$f":"VLOOKUP(D80,'team abbr lookup'!A:B,2,FALSE)","v":"Tampa Bay Buccaneers"},13,"QB11",70,89,79.5]
["NOJared Cook",80,"Jared Cook","NO",{"$f":"VLOOKUP(D81,'team abbr lookup'!A:B,2,FALSE)","v":"New Orleans Saints"},6,"TE7",81,79,80]
["LACHunter Henry",81,"Hunter Henry","LAC",{"$f":"VLOOKUP(D82,'team abbr lookup'!A:B,2,FALSE)","v":"Los Angeles Chargers"},10,"TE8",93,69,81]
["NYGEvan Engram",82,"Evan Engram","NYG",{"$f":"VLOOKUP(D83,'team abbr lookup'!A:B,2,FALSE)","v":"New York Giants"},11,"TE9",88,74,81]
["SFDeebo Samuel",83,"Deebo Samuel","SF",{"$f":"VLOOKUP(D84,'team abbr lookup'!A:B,2,FALSE)","v":"San Francisco 49ers"},11,"WR34",99,67,83]
["TBRonald Jones II",84,"Ronald Jones II","TB",{"$f":"VLOOKUP(D85,'team abbr lookup'!A:B,2,FALSE)","v":"Tampa Bay Buccaneers"},13,"RB30",67,101,84]
["HOUBrandin Cooks",85,"Brandin Cooks","HOU",{"$f":"VLOOKUP(D86,'team abbr lookup'!A:B,2,FALSE)","v":"Houston Texans"},8,"WR35",80,88,84]
["HOUWill Fuller",86,"Will Fuller","HOU",{"$f":"VLOOKUP(D87,'team abbr lookup'!A:B,2,FALSE)","v":"Houston Texans"},8,"WR36",89,81,85]
["MIAJordan Howard",87,"Jordan Howard","MIA",{"$f":"VLOOKUP(D88,'team abbr lookup'!A:B,2,FALSE)","v":"Miami Dolphins"},11,"RB31",83,90,86.5]
["DETMarvin Jones",88,"Marvin Jones","DET",{"$f":"VLOOKUP(D89,'team abbr lookup'!A:B,2,FALSE)","v":"Detroit Lions"},5,"WR37",92,86,89]
["DETKerryon Johnson",89,"Kerryon Johnson","DET",{"$f":"VLOOKUP(D90,'team abbr lookup'!A:B,2,FALSE)","v":"Detroit Lions"},5,"RB32",86,92,89]
["PHICarson Wentz",90,"Carson Wentz","PHI",{"$f":"VLOOKUP(D91,'team abbr lookup'!A:B,2,FALSE)","v":"Philadelphia Eagles"},9,"QB12",85,94,89.5]
["NESony Michel",91,"Sony Michel","NE",{"$f":"VLOOKUP(D92,'team abbr lookup'!A:B,2,FALSE)","v":"New England Patriots"},6,"RB33",106,77,91.5]
["BALJ.K. Dobbins",92,"J.K. Dobbins","BAL",{"$f":"VLOOKUP(D93,'team abbr lookup'!A:B,2,FALSE)","v":"Baltimore Ravens"},8,"RB34",78,105,91.5]
["INDMarlon Mack",93,"Marlon Mack","IND",{"$f":"VLOOKUP(D94,'team abbr lookup'!A:B,2,FALSE)","v":"Indianapolis Colts"},7,"RB35",90,95,92.5]
["LARTyler Higbee",94,"Tyler Higbee","LAR",{"$f":"VLOOKUP(D95,'team abbr lookup'!A:B,2,FALSE)","v":"Los Angeles Rams"},9,"TE10",110,83,96.5]
["NEJames White",95,"James White","NE",{"$f":"VLOOKUP(D96,'team abbr lookup'!A:B,2,FALSE)","v":"New England Patriots"},6,"RB36",87,106,96.5]
["DENPhillip Lindsay",96,"Phillip Lindsay","DEN",{"$f":"VLOOKUP(D97,'team abbr lookup'!A:B,2,FALSE)","v":"Denver Broncos"},8,"RB37",97,96,96.5]
["DALCeeDee Lamb",97,"CeeDee Lamb","DAL",{"$f":"VLOOKUP(D98,'team abbr lookup'!A:B,2,FALSE)","v":"Dallas Cowboys"},10,"WR38",91,104,97.5]
["CLEAustin Hooper",98,"Austin Hooper","CLE",{"$f":"VLOOKUP(D99,'team abbr lookup'!A:B,2,FALSE)","v":"Cleveland Browns"},9,"TE11",104,93,98.5]
["NOEmmanuel Sanders",99,"Emmanuel Sanders","NO",{"$f":"VLOOKUP(D100,'team abbr lookup'!A:B,2,FALSE)","v":"New Orleans Saints"},6,"WR39",101,103,102]
["ARIChristian Kirk",100,"Christian Kirk","ARI",{"$f":"VLOOKUP(D101,'team abbr lookup'!A:B,2,FALSE)","v":"Arizona Cardinals"},8,"WR40",114,91,102.5]
["DETMatt Stafford",101,"Matt Stafford","DET",{"$f":"VLOOKUP(D102,'team abbr lookup'!A:B,2,FALSE)","v":"Detroit Lions"},5,"QB13",105,102,103.5]
["BUFJohn Brown",102,"John Brown","BUF",{"$f":"VLOOKUP(D103,'team abbr lookup'!A:B,2,FALSE)","v":"Buffalo Bills"},11,"WR41",121,87,104]
["DENJerry Jeudy",103,"Jerry Jeudy","DEN",{"$f":"VLOOKUP(D104,'team abbr lookup'!A:B,2,FALSE)","v":"Denver Broncos"},8,"WR42",103,110,106.5]
["NYGDarius Slayton",104,"Darius Slayton","NYG",{"$f":"VLOOKUP(D105,'team abbr lookup'!A:B,2,FALSE)","v":"New York Giants"},11,"WR43",115,100,107.5]
["CHITarik Cohen",105,"Tarik Cohen","CHI",{"$f":"VLOOKUP(D106,'team abbr lookup'!A:B,2,FALSE)","v":"Chicago Bears"},11,"RB38",96,126,111]
["MIAMatt Breida",106,"Matt Breida","MIA",{"$f":"VLOOKUP(D107,'team abbr lookup'!A:B,2,FALSE)","v":"Miami Dolphins"},11,"RB39",126,99,112.5]
["NYGGolden Tate",107,"Golden Tate","NYG",{"$f":"VLOOKUP(D108,'team abbr lookup'!A:B,2,FALSE)","v":"New York Giants"},11,"WR44",100,127,113.5]
["SFTevin Coleman",108,"Tevin Coleman","SF",{"$f":"VLOOKUP(D109,'team abbr lookup'!A:B,2,FALSE)","v":"San Francisco 49ers"},11,"RB40",119,111,115]
["NYGDaniel Jones",109,"Daniel Jones","NYG",{"$f":"VLOOKUP(D110,'team abbr lookup'!A:B,2,FALSE)","v":"New York Giants"},11,"QB14",112,119,115.5]
["CLEBaker Mayfield",110,"Baker Mayfield","CLE",{"$f":"VLOOKUP(D111,'team abbr lookup'!A:B,2,FALSE)","v":"Cleveland Browns"},9,"QB15",118,113,115.5]
["NYGSterling Shepard",111,"Sterling Shepard","NYG",{"$f":"VLOOKUP(D112,'team abbr lookup'!A:B,2,FALSE)","v":"New York Giants"},11,"WR45",123,109,116]
["PITDiontae Johnson",112,"Diontae Johnson","PIT",{"$f":"VLOOKUP(D113,'team abbr lookup'!A:B,2,FALSE)","v":"Pittsburgh Steelers"},8,"WR46",113,120,116.5]
["SFSan Francisco 49ers",113,"San Francisco 49ers","SF",{"$f":"VLOOKUP(D114,'team abbr lookup'!A:B,2,FALSE)","v":"San Francisco 49ers"},11,"DST1",95,139,117]
["ATLHayden Hurst",114,"Hayden Hurst","ATL",{"$f":"VLOOKUP(D115,'team abbr lookup'!A:B,2,FALSE)","v":"Atlanta Falcons"},10,"TE12",102,133,117.5]
["TBKe'Shawn Vaughn",115,"Ke'Shawn Vaughn","TB",{"$f":"VLOOKUP(D116,'team abbr lookup'!A:B,2,FALSE)","v":"Tampa Bay Buccaneers"},13,"RB41",140,98,119]
["DENNoah Fant",116,"Noah Fant","DEN",{"$f":"VLOOKUP(D117,'team abbr lookup'!A:B,2,FALSE)","v":"Denver Broncos"},8,"TE13",131,107,119]
["PITPittsburgh Steelers",117,"Pittsburgh Steelers","PIT",{"$f":"VLOOKUP(D118,'team abbr lookup'!A:B,2,FALSE)","v":"Pittsburgh Steelers"},8,"DST2",94,145,119.5]
["NOLatavius Murray",118,"Latavius Murray","NO",{"$f":"VLOOKUP(D119,'team abbr lookup'!A:B,2,FALSE)","v":"New Orleans Saints"},6,"RB42",127,112,119.5]
["LACMike Williams",119,"Mike Williams","LAC",{"$f":"VLOOKUP(D120,'team abbr lookup'!A:B,2,FALSE)","v":"Los Angeles Chargers"},10,"WR47",145,97,121]
["PITBen Roethlisberger",120,"Ben Roethlisberger","PIT",{"$f":"VLOOKUP(D121,'team abbr lookup'!A:B,2,FALSE)","v":"Pittsburgh Steelers"},8,"QB16",129,114,121.5]
["MINJustin Jefferson",121,"Justin Jefferson","MIN",{"$f":"VLOOKUP(D122,'team abbr lookup'!A:B,2,FALSE)","v":"Minnesota Vikings"},7,"WR48",128,115,121.5]
["LARJared Goff",122,"Jared Goff","LAR",{"$f":"VLOOKUP(D123,'team abbr lookup'!A:B,2,FALSE)","v":"Los Angeles Rams"},9,"QB17",117,128,122.5]
["BUFZack Moss",123,"Zack Moss","BUF",{"$f":"VLOOKUP(D124,'team abbr lookup'!A:B,2,FALSE)","v":"Buffalo Bills"},11,"RB43",111,138,124.5]
["NYJJamison Crowder",124,"Jamison Crowder","NYJ",{"$f":"VLOOKUP(D125,'team abbr lookup'!A:B,2,FALSE)","v":"New York Jets"},11,"WR49",133,117,125]
["KCMecole Hardman",125,"Mecole Hardman","KC",{"$f":"VLOOKUP(D126,'team abbr lookup'!A:B,2,FALSE)","v":"Kansas City Chiefs"},10,"WR50",124,131,127.5]
["BALBaltimore Ravens",126,"Baltimore Ravens","BAL",{"$f":"VLOOKUP(D127,'team abbr lookup'!A:B,2,FALSE)","v":"Baltimore Ravens"},8,"DST3",107,149,128]
["LVHenry Ruggs III",127,"Henry Ruggs III","LV",{"$f":"VLOOKUP(D128,'team abbr lookup'!A:B,2,FALSE)","v":"Las Vegas Raiders"},6,"WR51",125,134,129.5]
["BALJustin Tucker",128,"Justin Tucker","BAL",{"$f":"VLOOKUP(D129,'team abbr lookup'!A:B,2,FALSE)","v":"Baltimore Ravens"},8,"K1",98,162,130]
["WASAdrian Peterson",129,"Adrian Peterson","WAS",{"$f":"VLOOKUP(D130,'team abbr lookup'!A:B,2,FALSE)","v":"Washington Football Team"},8,"RB44",109,152,130.5]
[{"$f":"_xlfn.CONCAT(D131,C131)","v":"TENRyan Tannehill"},130,"Ryan Tannehill","TEN",{"$f":"VLOOKUP(D131,'team abbr lookup'!A:B,2,FALSE)","v":"Tennessee Titans"},7,"QB18",134,129,{"$f":"AVERAGE(H131,I131)","v":131.5}]
["LARDarrell Henderson",131,"Darrell Henderson","LAR",{"$f":"VLOOKUP(D132,'team abbr lookup'!A:B,2,FALSE)","v":"Los Angeles Rams"},9,"RB45",157,108,132.5]
["DETT.J. Hockenson",132,"T.J. Hockenson","DET",{"$f":"VLOOKUP(D133,'team abbr lookup'!A:B,2,FALSE)","v":"Detroit Lions"},5,"TE14",142,123,132.5]
["MINAlexander Mattison",133,"Alexander Mattison","MIN",{"$f":"VLOOKUP(D134,'team abbr lookup'!A:B,2,FALSE)","v":"Minnesota Vikings"},7,"RB46",135,130,132.5]
["KCHarrison Butker",134,"Harrison Butker","KC",{"$f":"VLOOKUP(D135,'team abbr lookup'!A:B,2,FALSE)","v":"Kansas City Chiefs"},10,"K2",108,158,133]
["MIAMike Gesicki",135,"Mike Gesicki","MIA",{"$f":"VLOOKUP(D136,'team abbr lookup'!A:B,2,FALSE)","v":"Miami Dolphins"},11,"TE15",151,118,134.5]
["HOUDuke Johnson",136,"Duke Johnson","HOU",{"$f":"VLOOKUP(D137,'team abbr lookup'!A:B,2,FALSE)","v":"Houston Texans"},8,"RB47",136,136,136]
["BUFBuffalo Bills",137,"Buffalo Bills","BUF",{"$f":"VLOOKUP(D138,'team abbr lookup'!A:B,2,FALSE)","v":"Buffalo Bills"},11,"DST4",120,157,138.5]
["CHIAnthony Miller",138,"Anthony Miller","CHI",{"$f":"VLOOKUP(D139,'team abbr lookup'!A:B,2,FALSE)","v":"Chicago Bears"},11,"WR52",154,124,139]
["CINJoe Burrow",139,"Joe Burrow","CIN",{"$f":"VLOOKUP(D140,'team abbr lookup'!A:B,2,FALSE)","v":"Cincinnati Bengals"},9,"QB19",132,150,141]
["MINKirk Cousins",140,"Kirk Cousins","MIN",{"$f":"VLOOKUP(D141,'team abbr lookup'!A:B,2,FALSE)","v":"Minnesota Vikings"},7,"QB20",148,137,142.5]
["NOWil Lutz",141,"Wil Lutz","NO",{"$f":"VLOOKUP(D142,'team abbr lookup'!A:B,2,FALSE)","v":"New Orleans Saints"},6,"K3",116,174,145]
["PHIJalen Reagor",142,"Jalen Reagor","PHI",{"$f":"VLOOKUP(D143,'team abbr lookup'!A:B,2,FALSE)","v":"Philadelphia Eagles"},9,"WR53",143,147,145]
["SFJimmy Garoppolo",143,"Jimmy Garoppolo","SF",{"$f":"VLOOKUP(D144,'team abbr lookup'!A:B,2,FALSE)","v":"San Francisco 49ers"},11,"QB21",144,146,145]
["CARRobby Anderson",144,"Robby Anderson","CAR",{"$f":"VLOOKUP(D145,'team abbr lookup'!A:B,2,FALSE)","v":"Carolina Panthers"},13,"WR54",175,116,145.5]
["NYJBreshad Perriman",145,"Breshad Perriman","NYJ",{"$f":"VLOOKUP(D146,'team abbr lookup'!A:B,2,FALSE)","v":"New York Jets"},11,"WR55",156,135,145.5]
["TENJonnu Smith",146,"Jonnu Smith","TEN",{"$f":"VLOOKUP(D147,'team abbr lookup'!A:B,2,FALSE)","v":"Tennessee Titans"},7,"TE16",165,132,148.5]
["DALBlake Jarwin",147,"Blake Jarwin","DAL",{"$f":"VLOOKUP(D148,'team abbr lookup'!A:B,2,FALSE)","v":"Dallas Cowboys"},10,"TE17",146,151,148.5]
["INDJack Doyle",148,"Jack Doyle","IND",{"$f":"VLOOKUP(D149,'team abbr lookup'!A:B,2,FALSE)","v":"Indianapolis Colts"},7,"TE18",158,140,149]
["INDPhilip Rivers",149,"Philip Rivers","IND",{"$f":"VLOOKUP(D150,'team abbr lookup'!A:B,2,FALSE)","v":"Indianapolis Colts"},7,"QB22",149,153,151]
["PHIDallas Goedert",150,"Dallas Goedert","PHI",{"$f":"VLOOKUP(D151,'team abbr lookup'!A:B,2,FALSE)","v":"Philadelphia Eagles"},9,"TE19",null,121,121]
["PHIAlshon Jeffery",151,"Alshon Jeffery","PHI",{"$f":"VLOOKUP(D152,'team abbr lookup'!A:B,2,FALSE)","v":"Philadelphia Eagles"},9,"WR56",null,122,122]
["KCSammy Watkins",152,"Sammy Watkins","KC",{"$f":"VLOOKUP(D153,'team abbr lookup'!A:B,2,FALSE)","v":"Kansas City Chiefs"},10,"WR57",164,141,152.5]
["NECam Newton",153,"Cam Newton","NE",{"$f":"VLOOKUP(D154,'team abbr lookup'!A:B,2,FALSE)","v":"New England Patriots"},6,"QB23",122,281,201.5]
["MIAPreston Williams",154,"Preston Williams","MIA",{"$f":"VLOOKUP(D155,'team abbr lookup'!A:B,2,FALSE)","v":"Miami Dolphins"},11,"WR58",null,125,125]
["PHIBoston Scott",155,"Boston Scott","PHI",{"$f":"VLOOKUP(D156,'team abbr lookup'!A:B,2,FALSE)","v":"Philadelphia Eagles"},9,"RB48",161,148,154.5]
["DALTony Pollard",156,"Tony Pollard","DAL",{"$f":"VLOOKUP(D157,'team abbr lookup'!A:B,2,FALSE)","v":"Dallas Cowboys"},10,"RB49",167,143,155]
["WASAntonio Gibson",157,"Antonio Gibson","WAS",{"$f":"VLOOKUP(D158,'team abbr lookup'!A:B,2,FALSE)","v":"Washington Football Team"},8,"RB50",130,215,172.5]
["ARIChase Edmonds",158,"Chase Edmonds","ARI",{"$f":"VLOOKUP(D159,'team abbr lookup'!A:B,2,FALSE)","v":"Arizona Cardinals"},8,"RB51",155,160,157.5]
["NENew England Patriots",159,"New England Patriots","NE",{"$f":"VLOOKUP(D160,'team abbr lookup'!A:B,2,FALSE)","v":"New England Patriots"},6,"DST5",147,170,158.5]
["CHIChicago Bears",160,"Chicago Bears","CHI",{"$f":"VLOOKUP(D161,'team abbr lookup'!A:B,2,FALSE)","v":"Chicago Bears"},11,"DST6",150,167,158.5]
["PHIDeSean Jackson",161,"DeSean Jackson","PHI",{"$f":"VLOOKUP(D162,'team abbr lookup'!A:B,2,FALSE)","v":"Philadelphia Eagles"},9,"WR59",163,154,158.5]
["CARCurtis Samuel",162,"Curtis Samuel","CAR",{"$f":"VLOOKUP(D163,'team abbr lookup'!A:B,2,FALSE)","v":"Carolina Panthers"},13,"WR60",177,142,159.5]
["NONew Orleans Saints",163,"New Orleans Saints","NO",{"$f":"VLOOKUP(D164,'team abbr lookup'!A:B,2,FALSE)","v":"New Orleans Saints"},6,"DST7",137,196,166.5]
["NEN'Keal Harry",164,"N'Keal Harry","NE",{"$f":"VLOOKUP(D165,'team abbr lookup'!A:B,2,FALSE)","v":"New England Patriots"},6,"WR61",162,159,160.5]
["KCKansas City Chiefs",165,"Kansas City Chiefs","KC",{"$f":"VLOOKUP(D166,'team abbr lookup'!A:B,2,FALSE)","v":"Kansas City Chiefs"},10,"DST8",138,194,166]
["DALGreg Zuerlein",166,"Greg Zuerlein","DAL",{"$f":"VLOOKUP(D167,'team abbr lookup'!A:B,2,FALSE)","v":"Dallas Cowboys"},10,"K4",139,184,161.5]
["LACJustin Jackson",167,"Justin Jackson","LAC",{"$f":"VLOOKUP(D168,'team abbr lookup'!A:B,2,FALSE)","v":"Los Angeles Chargers"},10,"RB52",160,163,161.5]
["SFRobbie Gould",168,"Robbie Gould","SF",{"$f":"VLOOKUP(D169,'team abbr lookup'!A:B,2,FALSE)","v":"San Francisco 49ers"},11,"K5",141,204,172.5]
["GBAJ Dillon",169,"AJ Dillon","GB",{"$f":"VLOOKUP(D170,'team abbr lookup'!A:B,2,FALSE)","v":"Green Bay Packers"},5,"RB53",159,166,162.5]
["PITEric Ebron",170,"Eric Ebron","PIT",{"$f":"VLOOKUP(D171,'team abbr lookup'!A:B,2,FALSE)","v":"Pittsburgh Steelers"},8,"TE20",null,144,144]
["MINMinnesota Vikings",171,"Minnesota Vikings","MIN",{"$f":"VLOOKUP(D172,'team abbr lookup'!A:B,2,FALSE)","v":"Minnesota Vikings"},7,"DST9",152,178,165]
["LARLos Angeles Rams",172,"Los Angeles Rams","LAR",{"$f":"VLOOKUP(D173,'team abbr lookup'!A:B,2,FALSE)","v":"Los Angeles Rams"},9,"DST10",153,185,169]
["INDMichael Pittman Jr.",173,"Michael Pittman Jr.","IND",{"$f":"VLOOKUP(D174,'team abbr lookup'!A:B,2,FALSE)","v":"Indianapolis Colts"},7,"WR62",null,155,155]
["DENDrew Lock",174,"Drew Lock","DEN",{"$f":"VLOOKUP(D175,'team abbr lookup'!A:B,2,FALSE)","v":"Denver Broncos"},8,"QB24",null,156,156]
["JACGardner Minshew",175,"Gardner Minshew","JAC",{"$f":"VLOOKUP(D176,'team abbr lookup'!A:B,2,FALSE)","v":"Jacksonville Jaguars"},7,"QB25",null,161,161]
["SEAGreg Olsen",176,"Greg Olsen","SEA",{"$f":"VLOOKUP(D177,'team abbr lookup'!A:B,2,FALSE)","v":"Seattle Seahawks"},6,"TE21",166,179,172.5]
["CARIan Thomas",177,"Ian Thomas","CAR",{"$f":"VLOOKUP(D178,'team abbr lookup'!A:B,2,FALSE)","v":"Carolina Panthers"},13,"TE22",null,164,164]
["INDNyheim Hines",178,"Nyheim Hines","IND",{"$f":"VLOOKUP(D179,'team abbr lookup'!A:B,2,FALSE)","v":"Indianapolis Colts"},7,"RB54",172,175,173.5]
["SEARashaad Penny",179,"Rashaad Penny","SEA",{"$f":"VLOOKUP(D180,'team abbr lookup'!A:B,2,FALSE)","v":"Seattle Seahawks"},6,"RB55",null,165,165]
["NYJSam Darnold",180,"Sam Darnold","NYJ",{"$f":"VLOOKUP(D181,'team abbr lookup'!A:B,2,FALSE)","v":"New York Jets"},11,"QB26",null,168,168]
["HOUKa'imi Fairbairn",181,"Ka'imi Fairbairn","HOU",{"$f":"VLOOKUP(D182,'team abbr lookup'!A:B,2,FALSE)","v":"Houston Texans"},8,"K6",168,236,202]
["CARTeddy Bridgewater",182,"Teddy Bridgewater","CAR",{"$f":"VLOOKUP(D183,'team abbr lookup'!A:B,2,FALSE)","v":"Carolina Panthers"},13,"QB27",null,169,169]
["GBAllen Lazard",183,"Allen Lazard","GB",{"$f":"VLOOKUP(D184,'team abbr lookup'!A:B,2,FALSE)","v":"Green Bay Packers"},5,"WR63",170,182,176]
["DETMatt Prater",184,"Matt Prater","DET",{"$f":"VLOOKUP(D185,'team abbr lookup'!A:B,2,FALSE)","v":"Detroit Lions"},5,"K7",169,224,196.5]
["NELamar Miller",185,"Lamar Miller","NE",{"$f":"VLOOKUP(D186,'team abbr lookup'!A:B,2,FALSE)","v":"New England Patriots"},6,"RB56",null,171,171]
["MINDan Bailey",186,"Dan Bailey","MIN",{"$f":"VLOOKUP(D187,'team abbr lookup'!A:B,2,FALSE)","v":"Minnesota Vikings"},7,"K8",171,259,215]
["NYJChris Herndon",187,"Chris Herndon","NYJ",{"$f":"VLOOKUP(D188,'team abbr lookup'!A:B,2,FALSE)","v":"New York Jets"},11,"TE23",null,172,172]
["GBJamaal Williams",188,"Jamaal Williams","GB",{"$f":"VLOOKUP(D189,'team abbr lookup'!A:B,2,FALSE)","v":"Green Bay Packers"},5,"RB57",null,173,173]
["TENTennessee Titans",189,"Tennessee Titans","TEN",{"$f":"VLOOKUP(D190,'team abbr lookup'!A:B,2,FALSE)","v":"Tennessee Titans"},7,"DST11",173,235,204]
["ATLYounghoe Koo",190,"Younghoe Koo","ATL",{"$f":"VLOOKUP(D191,'team abbr lookup'!A:B,2,FALSE)","v":"Atlanta Falcons"},10,"K9",174,264,219]
["NYJDenzel Mims",191,"Denzel Mims","NYJ",{"$f":"VLOOKUP(D192,'team abbr lookup'!A:B,2,FALSE)","v":"New York Jets"},11,"WR64",null,176,176]
["TBTampa Bay Buccaneers",192,"Tampa Bay Buccaneers","TB",{"$f":"VLOOKUP(D193,'team abbr lookup'!A:B,2,FALSE)","v":"Tampa Bay Buccaneers"},13,"DST12",176,270,223]
["WASWashington Football Team",193,"Washington Football Team","WAS",{"$f":"VLOOKUP(D194,'team abbr lookup'!A:B,2,FALSE)","v":"Washington Football Team"},8,"DST13",null,177,177]
[{"$f":"_xlfn.CONCAT(D195,C195)","v":"INDIndianapolis Colts"},194,"Indianapolis Colts","IND",{"$f":"VLOOKUP(D195,'team abbr lookup'!A:B,2,FALSE)","v":"Indianapolis Colts"},7,"DST14",178,256,{"$f":"AVERAGE(H195,I195)","v":217}]
["TBMatt Gay",195,"Matt Gay","TB",{"$f":"VLOOKUP(D196,'team abbr lookup'!A:B,2,FALSE)","v":"Tampa Bay Buccaneers"},13,"K10",179,203,191]
["LVHunter Renfrow",196,"Hunter Renfrow","LV",{"$f":"VLOOKUP(D197,'team abbr lookup'!A:B,2,FALSE)","v":"Las Vegas Raiders"},6,"WR65",null,180,180]
["WASBryce Love",197,"Bryce Love","WAS",{"$f":"VLOOKUP(D198,'team abbr lookup'!A:B,2,FALSE)","v":"Washington Football Team"},8,"RB58",180,311,245.5]
["CINJohn Ross",198,"John Ross","CIN",{"$f":"VLOOKUP(D199,'team abbr lookup'!A:B,2,FALSE)","v":"Cincinnati Bengals"},9,"WR66",null,181,181]
["PHIJake Elliott",199,"Jake Elliott","PHI",{"$f":"VLOOKUP(D200,'team abbr lookup'!A:B,2,FALSE)","v":"Philadelphia Eagles"},9,"K11",181,239,210]
["ARIZane Gonzalez",200,"Zane Gonzalez","ARI",{"$f":"VLOOKUP(D201,'team abbr lookup'!A:B,2,FALSE)","v":"Arizona Cardinals"},8,"K12",182,221,201.5]
["JACDede Westbrook",201,"Dede Westbrook","JAC",{"$f":"VLOOKUP(D202,'team abbr lookup'!A:B,2,FALSE)","v":"Jacksonville Jaguars"},7,"WR67",null,183,183]
["LVBryan Edwards",202,"Bryan Edwards","LV",{"$f":"VLOOKUP(D203,'team abbr lookup'!A:B,2,FALSE)","v":"Las Vegas Raiders"},6,"WR68",null,186,186]
["SFKendrick Bourne",203,"Kendrick Bourne","SF",{"$f":"VLOOKUP(D204,'team abbr lookup'!A:B,2,FALSE)","v":"San Francisco 49ers"},11,"WR69",null,187,187]
["CINTee Higgins",204,"Tee Higgins","CIN",{"$f":"VLOOKUP(D205,'team abbr lookup'!A:B,2,FALSE)","v":"Cincinnati Bengals"},9,"WR70",null,188,188]
["WR71Antonio Brown",205,"Antonio Brown","WR71",{"$f":"VLOOKUP(D206,'team abbr lookup'!A:B,2,FALSE)","v":{"$error":"#N/A"}},null,null,189,null,189]
["PITJames Washington",206,"James Washington","PIT",{"$f":"VLOOKUP(D207,'team abbr lookup'!A:B,2,FALSE)","v":"Pittsburgh Steelers"},8,"WR72",null,190,190]
["JACChris Thompson",207,"Chris Thompson","JAC",{"$f":"VLOOKUP(D208,'team abbr lookup'!A:B,2,FALSE)","v":"Jacksonville Jaguars"},7,"RB59",null,191,191]
["TENCorey Davis",208,"Corey Davis","TEN",{"$f":"VLOOKUP(D209,'team abbr lookup'!A:B,2,FALSE)","v":"Tennessee Titans"},7,"WR73",null,192,192]
["LVDerek Carr",209,"Derek Carr","LV",{"$f":"VLOOKUP(D210,'team abbr lookup'!A:B,2,FALSE)","v":"Las Vegas Raiders"},6,"QB28",null,193,193]
["ARILarry Fitzgerald",210,"Larry Fitzgerald","ARI",{"$f":"VLOOKUP(D211,'team abbr lookup'!A:B,2,FALSE)","v":"Arizona Cardinals"},8,"WR74",null,195,195]
["MINIrv Smith Jr.",211,"Irv Smith Jr.","MIN",{"$f":"VLOOKUP(D212,'team abbr lookup'!A:B,2,FALSE)","v":"Minnesota Vikings"},7,"TE24",null,197,197]
["INDParris Campbell",212,"Parris Campbell","IND",{"$f":"VLOOKUP(D213,'team abbr lookup'!A:B,2,FALSE)","v":"Indianapolis Colts"},7,"WR75",null,198,198]
["SFBrandon Aiyuk",213,"Brandon Aiyuk","SF",{"$f":"VLOOKUP(D214,'team abbr lookup'!A:B,2,FALSE)","v":"San Francisco 49ers"},11,"WR76",null,199,199]
["TBLeSean McCoy",214,"LeSean McCoy","TB",{"$f":"VLOOKUP(D215,'team abbr lookup'!A:B,2,FALSE)","v":"Tampa Bay Buccaneers"},13,"RB60",null,200,200]
["MINKyle Rudolph",215,"Kyle Rudolph","MIN",{"$f":"VLOOKUP(D216,'team abbr lookup'!A:B,2,FALSE)","v":"Minnesota Vikings"},7,"TE25",null,202,202]
["HOUKenny Stills",216,"Kenny Stills","HOU",{"$f":"VLOOKUP(D217,'team abbr lookup'!A:B,2,FALSE)","v":"Houston Texans"},8,"WR77",null,205,205]
["TBO.J. Howard",217,"O.J. Howard","TB",{"$f":"VLOOKUP(D218,'team abbr lookup'!A:B,2,FALSE)","v":"Tampa Bay Buccaneers"},13,"TE26",null,206,206]
["LARMalcolm Brown",218,"Malcolm Brown","LAR",{"$f":"VLOOKUP(D219,'team abbr lookup'!A:B,2,FALSE)","v":"Los Angeles Rams"},9,"RB61",null,207,207]
["LACLos Angeles Chargers",219,"Los Angeles Chargers","LAC",{"$f":"VLOOKUP(D220,'team abbr lookup'!A:B,2,FALSE)","v":"Los Angeles Chargers"},10,"DST15",null,208,208]
["BALJustice Hill",220,"Justice Hill","BAL",{"$f":"VLOOKUP(D221,'team abbr lookup'!A:B,2,FALSE)","v":"Baltimore Ravens"},8,"RB62",null,209,209]
["JACRyquell Armstead",221,"Ryquell Armstead","JAC",{"$f":"VLOOKUP(D222,'team abbr lookup'!A:B,2,FALSE)","v":"Jacksonville Jaguars"},7,"RB63",null,210,210]
["DENDenver Broncos",222,"Denver Broncos","DEN",{"$f":"VLOOKUP(D223,'team abbr lookup'!A:B,2,FALSE)","v":"Denver Broncos"},8,"DST16",null,211,211]
["LVLynn Bowden Jr.",223,"Lynn Bowden Jr.","LV",{"$f":"VLOOKUP(D224,'team abbr lookup'!A:B,2,FALSE)","v":"Las Vegas Raiders"},6,"RB64",null,212,212]
["NYJFrank Gore",224,"Frank Gore","NYJ",{"$f":"VLOOKUP(D225,'team abbr lookup'!A:B,2,FALSE)","v":"New York Jets"},11,"RB65",null,213,213]
["HOURandall Cobb",225,"Randall Cobb","HOU",{"$f":"VLOOKUP(D226,'team abbr lookup'!A:B,2,FALSE)","v":"Houston Texans"},8,"WR78",null,214,214]
["BALDevin Duvernay",226,"Devin Duvernay","BAL",{"$f":"VLOOKUP(D227,'team abbr lookup'!A:B,2,FALSE)","v":"Baltimore Ravens"},8,"WR79",null,216,216]
["BUFDawson Knox",227,"Dawson Knox","BUF",{"$f":"VLOOKUP(D228,'team abbr lookup'!A:B,2,FALSE)","v":"Buffalo Bills"},11,"TE27",null,217,217]
["TENDarrynton Evans",228,"Darrynton Evans","TEN",{"$f":"VLOOKUP(D229,'team abbr lookup'!A:B,2,FALSE)","v":"Tennessee Titans"},7,"RB66",null,218,218]
["JACLaviska Shenault Jr.",229,"Laviska Shenault Jr.","JAC",{"$f":"VLOOKUP(D230,'team abbr lookup'!A:B,2,FALSE)","v":"Jacksonville Jaguars"},7,"WR80",null,219,219]
["PHIPhiladelphia Eagles",230,"Philadelphia Eagles","PHI",{"$f":"VLOOKUP(D231,'team abbr lookup'!A:B,2,FALSE)","v":"Philadelphia Eagles"},9,"DST17",null,220,220]
["MIAFitzpatrick / Tagovailoa",231,"Fitzpatrick / Tagovailoa","MIA",{"$f":"VLOOKUP(D232,'team abbr lookup'!A:B,2,FALSE)","v":"Miami Dolphins"},11,"QB29",null,222,222]
["PITAnthony McFarland Jr.",232,"Anthony McFarland Jr.","PIT",{"$f":"VLOOKUP(D233,'team abbr lookup'!A:B,2,FALSE)","v":"Pittsburgh Steelers"},8,"RB67",null,223,223]
["LACJoshua Kelley",233,"Joshua Kelley","LAC",{"$f":"VLOOKUP(D234,'team abbr lookup'!A:B,2,FALSE)","v":"Los Angeles Chargers"},10,"RB68",null,225,225]
["DENRoyce Freeman",234,"Royce Freeman","DEN",{"$f":"VLOOKUP(D235,'team abbr lookup'!A:B,2,FALSE)","v":"Denver Broncos"},8,"RB69",null,226,226]
["RB70Devonta Freeman",235,"Devonta Freeman","RB70",{"$f":"VLOOKUP(D236,'team abbr lookup'!A:B,2,FALSE)","v":{"$error":"#N/A"}},null,null,227,null,227]
["NYJLamical Perine",236,"Lamical Perine","NYJ",{"$f":"VLOOKUP(D237,'team abbr lookup'!A:B,2,FALSE)","v":"New York Jets"},11,"RB71",null,228,228]
["BUFCole Beasley",237,"Cole Beasley","BUF",{"$f":"VLOOKUP(D238,'team abbr lookup'!A:B,2,FALSE)","v":"Buffalo Bills"},11,"WR81",null,229,229]
["LACTaylor / Herbert",238,"Taylor / Herbert","LAC",{"$f":"VLOOKUP(D239,'team abbr lookup'!A:B,2,FALSE)","v":"Los Angeles Chargers"},10,"QB30",null,230,230]
["NYJNew York Jets",239,"New York Jets","NYJ",{"$f":"VLOOKUP(D240,'team abbr lookup'!A:B,2,FALSE)","v":"New York Jets"},11,"DST18",null,231,231]
["BALGus Edwards",240,"Gus Edwards","BAL",{"$f":"VLOOKUP(D241,'team abbr lookup'!A:B,2,FALSE)","v":"Baltimore Ravens"},8,"RB72",null,232,232]
["SEASeattle Seahawks",241,"Seattle Seahawks","SEA",{"$f":"VLOOKUP(D242,'team abbr lookup'!A:B,2,FALSE)","v":"Seattle Seahawks"},6,"DST19",null,233,233]
["WR82Mohamed Sanu",242,"Mohamed Sanu","WR82",{"$f":"VLOOKUP(D243,'team abbr lookup'!A:B,2,FALSE)","v":{"$error":"#N/A"}},null,null,234,null,234]
["NEDamien Harris",243,"Damien Harris","NE",{"$f":"VLOOKUP(D244,'team abbr lookup'!A:B,2,FALSE)","v":"New England Patriots"},6,"RB73",null,237,237]
["LACMichael Badgley",244,"Michael Badgley","LAC",{"$f":"VLOOKUP(D245,'team abbr lookup'!A:B,2,FALSE)","v":"Los Angeles Chargers"},10,"K13",null,238,238]
["CINGiovani Bernard",245,"Giovani Bernard","CIN",{"$f":"VLOOKUP(D246,'team abbr lookup'!A:B,2,FALSE)","v":"Cincinnati Bengals"},9,"RB74",null,240,240]
["PITBenny Snell Jr.",246,"Benny Snell Jr.","PIT",{"$f":"VLOOKUP(D247,'team abbr lookup'!A:B,2,FALSE)","v":"Pittsburgh Steelers"},8,"RB75",null,241,241]
["PITChase Claypool",247,"Chase Claypool","PIT",{"$f":"VLOOKUP(D248,'team abbr lookup'!A:B,2,FALSE)","v":"Pittsburgh Steelers"},8,"WR83",null,242,242]
["CHICole Kmet",248,"Cole Kmet","CHI",{"$f":"VLOOKUP(D249,'team abbr lookup'!A:B,2,FALSE)","v":"Chicago Bears"},11,"TE28",null,243,243]
["GBMason Crosby",249,"Mason Crosby","GB",{"$f":"VLOOKUP(D250,'team abbr lookup'!A:B,2,FALSE)","v":"Green Bay Packers"},5,"K14",null,244,244]
["ARIAndy Isabella",250,"Andy Isabella","ARI",{"$f":"VLOOKUP(D251,'team abbr lookup'!A:B,2,FALSE)","v":"Arizona Cardinals"},8,"WR84",null,245,245]
["LARJosh Reynolds",251,"Josh Reynolds","LAR",{"$f":"VLOOKUP(D252,'team abbr lookup'!A:B,2,FALSE)","v":"Los Angeles Rams"},9,"WR85",null,246,246]
["CLEDavid Njoku",252,"David Njoku","CLE",{"$f":"VLOOKUP(D253,'team abbr lookup'!A:B,2,FALSE)","v":"Cleveland Browns"},9,"TE29",null,247,247]
["GBGreen Bay Packers",253,"Green Bay Packers","GB",{"$f":"VLOOKUP(D254,'team abbr lookup'!A:B,2,FALSE)","v":"Green Bay Packers"},5,"DST20",null,248,248]
["SEAWill Dissly",254,"Will Dissly","SEA",{"$f":"VLOOKUP(D255,'team abbr lookup'!A:B,2,FALSE)","v":"Seattle Seahawks"},6,"TE30",null,249,249]
["GBJace Sternberger",255,"Jace Sternberger","GB",{"$f":"VLOOKUP(D256,'team abbr lookup'!A:B,2,FALSE)","v":"Green Bay Packers"},5,"TE31",null,250,250]
["ATLBrian Hill",256,"Brian Hill","ATL",{"$f":"VLOOKUP(D257,'team abbr lookup'!A:B,2,FALSE)","v":"Atlanta Falcons"},10,"RB76",null,251,251]
["DALDallas Cowboys",257,"Dallas Cowboys","DAL",{"$f":"VLOOKUP(D258,'team abbr lookup'!A:B,2,FALSE)","v":"Dallas Cowboys"},10,"DST21",null,252,252]
[{"$f":"_xlfn.CONCAT(D259,C259)","v":"WASDwayne Haskins"},258,"Dwayne Haskins","WAS",{"$f":"VLOOKUP(D259,'team abbr lookup'!A:B,2,FALSE)","v":"Washington Football Team"},8,"QB31",null,253,{"$f":"AVERAGE(H259,I259)","v":253}]
["DENBrandon McManus",259,"Brandon McManus","DEN",{"$f":"VLOOKUP(D260,'team abbr lookup'!A:B,2,FALSE)","v":"Denver Broncos"},8,"K15",null,254,254]
["NOTre'Quan Smith",260,"Tre'Quan Smith","NO",{"$f":"VLOOKUP(D261,'team abbr lookup'!A:B,2,FALSE)","v":"New Orleans Saints"},6,"WR86",null,255,255]
["SEACarlos Hyde",261,"Carlos Hyde","SEA",{"$f":"VLOOKUP(D262,'team abbr lookup'!A:B,2,FALSE)","v":"Seattle Seahawks"},6,"RB77",null,257,257]
["CHIJimmy Graham",262,"Jimmy Graham","CHI",{"$f":"VLOOKUP(D263,'team abbr lookup'!A:B,2,FALSE)","v":"Chicago Bears"},11,"TE32",null,258,258]
["ATLIto Smith",263,"Ito Smith","ATL",{"$f":"VLOOKUP(D264,'team abbr lookup'!A:B,2,FALSE)","v":"Atlanta Falcons"},10,"RB78",null,260,260]
["CLEAustin Seibert",264,"Austin Seibert","CLE",{"$f":"VLOOKUP(D265,'team abbr lookup'!A:B,2,FALSE)","v":"Cleveland Browns"},9,"K16",null,261,261]
["LVJalen Richard",265,"Jalen Richard","LV",{"$f":"VLOOKUP(D266,'team abbr lookup'!A:B,2,FALSE)","v":"Las Vegas Raiders"},6,"RB79",null,262,262]
["CLECleveland Browns",266,"Cleveland Browns","CLE",{"$f":"VLOOKUP(D267,'team abbr lookup'!A:B,2,FALSE)","v":"Cleveland Browns"},9,"DST22",null,263,263]
["CARJoey Slye",267,"Joey Slye","CAR",{"$f":"VLOOKUP(D268,'team abbr lookup'!A:B,2,FALSE)","v":"Carolina Panthers"},13,"K17",null,265,265]
["PITJaylen Samuels",268,"Jaylen Samuels","PIT",{"$f":"VLOOKUP(D269,'team abbr lookup'!A:B,2,FALSE)","v":"Pittsburgh Steelers"},8,"RB80",null,266,266]
["DENKJ Hamler",269,"KJ Hamler","DEN",{"$f":"VLOOKUP(D270,'team abbr lookup'!A:B,2,FALSE)","v":"Denver Broncos"},8,"WR87",null,267,267]
["JACChris Conley",270,"Chris Conley","JAC",{"$f":"VLOOKUP(D271,'team abbr lookup'!A:B,2,FALSE)","v":"Jacksonville Jaguars"},7,"WR88",null,268,268]
["NYGDion Lewis",271,"Dion Lewis","NYG",{"$f":"VLOOKUP(D272,'team abbr lookup'!A:B,2,FALSE)","v":"New York Giants"},11,"RB81",null,269,269]
["KCDeAndre Washington",272,"DeAndre Washington","KC",{"$f":"VLOOKUP(D273,'team abbr lookup'!A:B,2,FALSE)","v":"Kansas City Chiefs"},10,"RB82",null,271,271]
["WASLogan Thomas",273,"Logan Thomas","WAS",{"$f":"VLOOKUP(D274,'team abbr lookup'!A:B,2,FALSE)","v":"Washington Football Team"},8,"TE33",null,272,272]
["LARGerald Everett",274,"Gerald Everett","LAR",{"$f":"VLOOKUP(D275,'team abbr lookup'!A:B,2,FALSE)","v":"Los Angeles Rams"},9,"TE34",null,274,274]
["SEAJason Myers",275,"Jason Myers","SEA",{"$f":"VLOOKUP(D276,'team abbr lookup'!A:B,2,FALSE)","v":"Seattle Seahawks"},6,"K18",null,275,275]
["TENGreg Joseph",276,"Greg Joseph","TEN",{"$f":"VLOOKUP(D277,'team abbr lookup'!A:B,2,FALSE)","v":"Tennessee Titans"},7,"K19",null,276,276]
["PITChris Boswell",277,"Chris Boswell","PIT",{"$f":"VLOOKUP(D278,'team abbr lookup'!A:B,2,FALSE)","v":"Pittsburgh Steelers"},8,"K20",null,277,277]
["DETDanny Amendola",278,"Danny Amendola","DET",{"$f":"VLOOKUP(D279,'team abbr lookup'!A:B,2,FALSE)","v":"Detroit Lions"},5,"WR89",null,278,278]
["NERex Burkhead",279,"Rex Burkhead","NE",{"$f":"VLOOKUP(D280,'team abbr lookup'!A:B,2,FALSE)","v":"New England Patriots"},6,"RB83",null,279,279]
["INDChase McLaughlin",280,"Chase McLaughlin","IND",{"$f":"VLOOKUP(D281,'team abbr lookup'!A:B,2,FALSE)","v":"Indianapolis Colts"},7,"K21",null,280,280]
["NEJarrett Stidham",281,"Jarrett Stidham","NE",{"$f":"VLOOKUP(D282,'team abbr lookup'!A:B,2,FALSE)","v":"New England Patriots"},6,"QB32",null,282,282]
["BALMiles Boykin",282,"Miles Boykin","BAL",{"$f":"VLOOKUP(D283,'team abbr lookup'!A:B,2,FALSE)","v":"Baltimore Ravens"},8,"WR90",null,283,283]
["CINRandy Bullock",283,"Randy Bullock","CIN",{"$f":"VLOOKUP(D284,'team abbr lookup'!A:B,2,FALSE)","v":"Cincinnati Bengals"},9,"K22",null,284,284]
["KCDarwin Thompson",284,"Darwin Thompson","KC",{"$f":"VLOOKUP(D285,'team abbr lookup'!A:B,2,FALSE)","v":"Kansas City Chiefs"},10,"RB84",null,285,285]
["HOUHouston Texans",285,"Houston Texans","HOU",{"$f":"VLOOKUP(D286,'team abbr lookup'!A:B,2,FALSE)","v":"Houston Texans"},8,"DST23",null,286,286]
["NEJustin Rohrwasser",286,"Justin Rohrwasser","NE",{"$f":"VLOOKUP(D287,'team abbr lookup'!A:B,2,FALSE)","v":"New England Patriots"},6,"K23",null,287,287]
["K24Stephen Hauschka",287,"Stephen Hauschka","K24",{"$f":"VLOOKUP(D288,'team abbr lookup'!A:B,2,FALSE)","v":{"$error":"#N/A"}},null,null,288,null,288]
["INDZach Pascal",288,"Zach Pascal","IND",{"$f":"VLOOKUP(D289,'team abbr lookup'!A:B,2,FALSE)","v":"Indianapolis Colts"},7,"WR91",null,289,289]
["PITVance McDonald",289,"Vance McDonald","PIT",{"$f":"VLOOKUP(D290,'team abbr lookup'!A:B,2,FALSE)","v":"Pittsburgh Steelers"},8,"TE35",null,290,290]
["CHINick Foles",290,"Nick Foles","CHI",{"$f":"VLOOKUP(D291,'team abbr lookup'!A:B,2,FALSE)","v":"Chicago Bears"},11,"QB33",null,291,291]
["TENStephen Gostkowski",291,"Stephen Gostkowski","TEN",{"$f":"VLOOKUP(D292,'team abbr lookup'!A:B,2,FALSE)","v":"Tennessee Titans"},7,"K25",null,292,292]
["CINAuden Tate",292,"Auden Tate","CIN",{"$f":"VLOOKUP(D293,'team abbr lookup'!A:B,2,FALSE)","v":"Cincinnati Bengals"},9,"WR92",null,293,293]
["SFJerick McKinnon",293,"Jerick McKinnon","SF",{"$f":"VLOOKUP(D294,'team abbr lookup'!A:B,2,FALSE)","v":"San Francisco 49ers"},11,"RB85",null,294,294]
["WASPeyton Barber",294,"Peyton Barber","WAS",{"$f":"VLOOKUP(D295,'team abbr lookup'!A:B,2,FALSE)","v":"Washington Football Team"},8,"RB86",null,295,295]
["MIAJason Sanders",295,"Jason Sanders","MIA",{"$f":"VLOOKUP(D296,'team abbr lookup'!A:B,2,FALSE)","v":"Miami Dolphins"},11,"K26",null,296,296]
["SEAPhillip Dorsett",296,"Phillip Dorsett","SEA",{"$f":"VLOOKUP(D297,'team abbr lookup'!A:B,2,FALSE)","v":"Seattle Seahawks"},6,"WR93",null,297,297]
["JACJosh Lambo",297,"Josh Lambo","JAC",{"$f":"VLOOKUP(D298,'team abbr lookup'!A:B,2,FALSE)","v":"Jacksonville Jaguars"},7,"K27",null,298,298]
["MIATua Tagovailoa",298,"Tua Tagovailoa","MIA",{"$f":"VLOOKUP(D299,'team abbr lookup'!A:B,2,FALSE)","v":"Miami Dolphins"},11,"QB34",null,300,300]
["LVNelson Agholor",299,"Nelson Agholor","LV",{"$f":"VLOOKUP(D300,'team abbr lookup'!A:B,2,FALSE)","v":"Las Vegas Raiders"},6,"WR94",null,301,301]
["WASSteven Sims",300,"Steven Sims","WAS",{"$f":"VLOOKUP(D301,'team abbr lookup'!A:B,2,FALSE)","v":"Washington Football Team"},8,"WR95",null,302,302]
["CHIMitch Trubisky",301,"Mitch Trubisky","CHI",{"$f":"VLOOKUP(D302,'team abbr lookup'!A:B,2,FALSE)","v":"Chicago Bears"},11,"QB35",null,303,303]
["GBMarquez Valdes-Scantling",302,"Marquez Valdes-Scantling","GB",{"$f":"VLOOKUP(D303,'team abbr lookup'!A:B,2,FALSE)","v":"Green Bay Packers"},5,"WR96",null,304,304]
["SEAJacob Hollister",303,"Jacob Hollister","SEA",{"$f":"VLOOKUP(D304,'team abbr lookup'!A:B,2,FALSE)","v":"Seattle Seahawks"},6,"TE36",null,305,305]
["LARSam Sloman",304,"Sam Sloman","LAR",{"$f":"VLOOKUP(D305,'team abbr lookup'!A:B,2,FALSE)","v":"Los Angeles Rams"},9,"K28",null,306,306]
["KCDemarcus Robinson",305,"Demarcus Robinson","KC",{"$f":"VLOOKUP(D306,'team abbr lookup'!A:B,2,FALSE)","v":"Kansas City Chiefs"},10,"WR97",null,307,307]
["PHIJ.J. Arcega-Whiteside",306,"J.J. Arcega-Whiteside","PHI",{"$f":"VLOOKUP(D307,'team abbr lookup'!A:B,2,FALSE)","v":"Philadelphia Eagles"},9,"WR98",null,308,308]
["TBCameron Brate",307,"Cameron Brate","TB",{"$f":"VLOOKUP(D308,'team abbr lookup'!A:B,2,FALSE)","v":"Tampa Bay Buccaneers"},13,"TE37",null,309,309]
["NYJSam Ficken",308,"Sam Ficken","NYJ",{"$f":"VLOOKUP(D309,'team abbr lookup'!A:B,2,FALSE)","v":"New York Jets"},11,"K29",null,310,310]
["JACJacksonville Jaguars",309,"Jacksonville Jaguars","JAC",{"$f":"VLOOKUP(D310,'team abbr lookup'!A:B,2,FALSE)","v":"Jacksonville Jaguars"},7,"DST24",null,312,312]
["TENAdam Humphries",310,"Adam Humphries","TEN",{"$f":"VLOOKUP(D311,'team abbr lookup'!A:B,2,FALSE)","v":"Tennessee Titans"},7,"WR99",null,313,313]
["LARVan Jefferson",311,"Van Jefferson","LAR",{"$f":"VLOOKUP(D312,'team abbr lookup'!A:B,2,FALSE)","v":"Los Angeles Rams"},9,"WR100",null,314,314]
["MINMike Boone",312,"Mike Boone","MIN",{"$f":"VLOOKUP(D313,'team abbr lookup'!A:B,2,FALSE)","v":"Minnesota Vikings"},7,"RB87",null,315,315]
["SEADavid Moore",313,"David Moore","SEA",{"$f":"VLOOKUP(D314,'team abbr lookup'!A:B,2,FALSE)","v":"Seattle Seahawks"},6,"WR101",null,316,316]
["ATLRussell Gage",314,"Russell Gage","ATL",{"$f":"VLOOKUP(D315,'team abbr lookup'!A:B,2,FALSE)","v":"Atlanta Falcons"},10,"WR102",null,317,317]
["INDTrey Burton",315,"Trey Burton","IND",{"$f":"VLOOKUP(D316,'team abbr lookup'!A:B,2,FALSE)","v":"Indianapolis Colts"},7,"TE38",null,318,318]
["WASDustin Hopkins",316,"Dustin Hopkins","WAS",{"$f":"VLOOKUP(D317,'team abbr lookup'!A:B,2,FALSE)","v":"Washington Football Team"},8,"K30",null,319,319]
["K31Aldrick Rosas",317,"Aldrick Rosas","K31",{"$f":"VLOOKUP(D318,'team abbr lookup'!A:B,2,FALSE)","v":{"$error":"#N/A"}},null,null,320,null,320]
["CHIEddy Pineiro",318,"Eddy Pineiro","CHI",{"$f":"VLOOKUP(D319,'team abbr lookup'!A:B,2,FALSE)","v":"Chicago Bears"},11,"K32",null,321,321]
["LVDaniel Carlson",319,"Daniel Carlson","LV",{"$f":"VLOOKUP(D320,'team abbr lookup'!A:B,2,FALSE)","v":"Las Vegas Raiders"},6,"K33",null,322,322]
["KCDarrel Williams",320,"Darrel Williams","KC",{"$f":"VLOOKUP(D321,'team abbr lookup'!A:B,2,FALSE)","v":"Kansas City Chiefs"},10,"RB88",null,323,323]
["CARReggie Bonnafon",321,"Reggie Bonnafon","CAR",{"$f":"VLOOKUP(D322,'team abbr lookup'!A:B,2,FALSE)","v":"Carolina Panthers"},13,"RB89",null,324,324]
[{"$f":"_xlfn.CONCAT(D323,C323)","v":"MIAMiami Dolphins"},322,"Miami Dolphins","MIA",{"$f":"VLOOKUP(D323,'team abbr lookup'!A:B,2,FALSE)","v":"Miami Dolphins"},11,"DST25",null,325,{"$f":"AVERAGE(H323,I323)","v":325}]
["JACDevine Ozigbo",323,"Devine Ozigbo","JAC",{"$f":"VLOOKUP(D324,'team abbr lookup'!A:B,2,FALSE)","v":"Jacksonville Jaguars"},7,"RB90",null,326,326]
["MIAKalen Ballage",324,"Kalen Ballage","MIA",{"$f":"VLOOKUP(D325,'team abbr lookup'!A:B,2,FALSE)","v":"Miami Dolphins"},11,"RB91",null,327,327]
["K34Elliott Fry",325,"Elliott Fry","K34",{"$f":"VLOOKUP(D326,'team abbr lookup'!A:B,2,FALSE)","v":{"$error":"#N/A"}},null,null,328,null,328]
["TBScott Miller",326,"Scott Miller","TB",{"$f":"VLOOKUP(D327,'team abbr lookup'!A:B,2,FALSE)","v":"Tampa Bay Buccaneers"},13,"WR103",null,329,329]
["BUFTyler Bass",327,"Tyler Bass","BUF",{"$f":"VLOOKUP(D328,'team abbr lookup'!A:B,2,FALSE)","v":"Buffalo Bills"},11,"K35",null,330,330]
["SFTavon Austin",328,"Tavon Austin","SF",{"$f":"VLOOKUP(D329,'team abbr lookup'!A:B,2,FALSE)","v":"San Francisco 49ers"},11,"WR104",null,331,331]
["DETQuintez Cephus",329,"Quintez Cephus","DET",{"$f":"VLOOKUP(D330,'team abbr lookup'!A:B,2,FALSE)","v":"Detroit Lions"},5,"WR105",null,332,332]
["TBRyan Succop",330,"Ryan Succop","TB",{"$f":"VLOOKUP(D331,'team abbr lookup'!A:B,2,FALSE)","v":"Tampa Bay Buccaneers"},13,"K36",null,333,333]
["PHIJohn Hightower",331,"John Hightower","PHI",{"$f":"VLOOKUP(D332,'team abbr lookup'!A:B,2,FALSE)","v":"Philadelphia Eagles"},9,"WR106",null,334,334]
["RB92Derrius Guice",332,"Derrius Guice","RB92",{"$f":"VLOOKUP(D333,'team abbr lookup'!A:B,2,FALSE)","v":{"$error":"#N/A"}},null,null,335,null,335]

{"sheet":"team abbr lookup","index":13,"n_rows":33,"n_cols":3,"rows_kept":33,"cut":false,"hidden":true,"merged":[]}
["Team","Team Name","Team"]
["ARI","Arizona Cardinals","ARI"]
["ATL","Atlanta Falcons","ATL"]
["BAL","Baltimore Ravens","BAL"]
["BUF","Buffalo Bills","BUF"]
["CAR","Carolina Panthers","CAR"]
["CHI","Chicago Bears","CHI"]
["CIN","Cincinnati Bengals","CIN"]
["CLE","Cleveland Browns","CLE"]
["DAL","Dallas Cowboys","DAL"]
["DEN","Denver Broncos","DEN"]
["DET","Detroit Lions","DET"]
["GB","Green Bay Packers","GB"]
["HOU","Houston Texans","HOU"]
["IND","Indianapolis Colts","IND"]
["JAC","Jacksonville Jaguars","JAC"]
["KC","Kansas City Chiefs","KC"]
["LAC","Los Angeles Chargers","LAC"]
["LAR","Los Angeles Rams","LAR"]
["LV","Las Vegas Raiders","LV"]
["MIA","Miami Dolphins","MIA"]
["MIN","Minnesota Vikings","MIN"]
["NE","New England Patriots","NE"]
["NO","New Orleans Saints","NO"]
["NYG","New York Giants","NYG"]
["NYJ","New York Jets","NYJ"]
["PHI","Philadelphia Eagles","PHI"]
["PIT","Pittsburgh Steelers","PIT"]
["SEA","Seattle Seahawks","SEA"]
["SF","San Francisco 49ers","SF"]
["TB","Tampa Bay Buccaneers","TB"]
["TEN","Tennessee Titans","TEN"]
["WAS","Washington Football Team","WAS"]